Workbook

Sheet Índex
A6: INFORME TRIMESTRAL ESTRUCTURA PRODUCTIVA
A7: 2n trimestre 2022
A9: CONTINGUT
A10: Fer click als vincles per anar als documents, taules i gràfics corresponents
A12: GG | B12: Variació interanual del conjunt de components de l'estructura productiva. Evolució recent de l'estructura productiva del Baix Llobregat.
A13: TG | B13: =[1]TG!A7 -> Posicionament comarcal en el context de l'àmbit territorial metropolità i Catalunya. Estructura productiva.
A15: EMPRESES
A17: GE1 | B17: Comptes de cotització segons àmbit territorial.
A18: GE2 | B18: Variació interanual comptes de cotització. Baix Llobregat.
A19: TE1 | B19: Activitats econòmiques més rellevants. Baix Llobregat.
A20: TE2 | B20: Dinamisme empresarial.
A21: TE3 | B21: Dades municipals.
A23: LLOCS DE TREBALL
A25: Règim General Seguretat Social (RGSS)
A27: GRGSS1 | B27: Llocs de treball assalariat segons àmbit territorial.
A28: GRGSS2 | B28: Variació interanual llocs de treball assalariat. Baix Llobregat.
A29: GRGSS3 | B29: Variació interanual llocs de treball assalariat per grandària del compte de cotització. Baix Llobregat.
A30: TRGSS1 | B30: Activitats econòmiques més rellevants. Baix Llobregat.
A31: TRGSS2 | B31: Dinamisme llocs de treball.
A32: TRGSS3 | B32: Dades municipals.
A33: TRGSS4 | B33: Dades municipals. Llocs de treball assalariat per grandària del compte de cotització.
A34: TRGSS5 | B34: Dades municipals. Relació entre població ocupada i llocs de treball.
A35: TRGSS6 | B35: Dades municipals. Llocs de treball assalariat ocupats per dones.
A37: Règim Especial Treballadors Autònoms (RETA)
A39: GRETA1 | B39: Llocs de treball autònom segons àmbit territorial.
A40: GRETA2 | B40: Variació interanual llocs de treball autònom. Baix Llobregat.
A41: TRETA1 | B41: Activitats econòmiques més rellevants. Baix Llobregat.
A42: TRETA2 | B42: Dinamisme llocs de treball.
A43: TRETA3 | B43: Dades municipals.
A45: ANÀLISI SEGONS 7 SECTORS PRODUCTIUS
A47: T7S1 | B47: Llocs de treball segons àmbit territorial
A48: G7S1 | B48: Variació intertrimestral llocs de treball. Baix Llobregat.
A49: T7S2 | B49: Llocs de treball segons municipi.
A50: G7S2 | B50: Llocs de treball segons sexe.
A51: T7S3 | B51: Diferencial segons sexe de les activitats econòmiques.
A53: ÚS DE TECNOLOGIA i CONEIXEMENT
A55: TTC1 | B55: Llocs de treball segons ús de tecnologia i coneixement. Baix Llobregat i àmbits territorials.
A56: TTC2 | B56: Llocs de treball segons ús de tecnologia i coneixement. Dades municipals.

Sheet GG
A1: TORNAR A L'ÍNDEX
A3: EMPRESES, LLOCS DE TREBALL, RGSS I RETA
A5: GG | C5: =Índex!A7 -> 2n trimestre 2022
A7: Variació interanual de l'estructura productiva. Baix Llobregat i àmbits territorials de referència
A30: Les dades de 2021 provenen d'Idescat, a partir dels fitxers d'afiliacions i comptes de cotització de la Tresoreria General de la Seguretat Social. Dades provisionals.
B32: Empreses | C32: Total llocs de treball | D32: RGSS | E32: RETA
A33: Baix Llobregat | B33: 0.0028636884 | C33: 0.03749961 | D33: 0.044218313 | E33: 0.00020429009
A34: Àrea Metropolitana de Barcelona | B34: 0.01868872 | C34: 0.049500021 | D34: 0.05639266 | E34: 0.0047412595
A35: Àmbit Territorial Metropolità | B35: 0.011291152 | C35: 0.042283582 | D35: 0.049357484 | E35: 0.0028280953
A36: Catalunya | B36: 0.012151982 | C36: 0.041857995 | D36: 0.049720289 | E36: 0.0023225367
A62: Les dades de 2021 provenen d'Idescat, a partir dels fitxers d'afiliacions i comptes de cotització de la Tresoreria General de la Seguretat Social. Dades provisionals.
B64: Empreses | C64: Total llocs de treball | D64: RGSS | E64: RETA
A65: Variació anual | B65: 0.0028636884 | C65: 0.03749961 | D65: 0.044218313 | E65: 0.00020429009
A66: Variació 2019 | B66: -0.064303527 | C66: 0.06504661 | D66: 0.083520453 | E66: -0.030725372

Sheet TG
A1: TORNAR A L'ÍNDEX
D2: =B20+B30 -> 332695
A3: =[2]GG!A3 -> EMPRESES, LLOCS DE TREBALL, RGSS I RETA | D3: =B25+B35 -> 1783174
A5: TG | B5: 2n trimestre 2022
A7: Posicionament comarcal en el context de l'àmbit territorial metropolità i Catalunya. Estructura productiva. | H7: Ocultar
B8: n | C8: % / Total ATM | D8: % / Total Catalunya | E8: Variació trimestral | H8: Trimestre anterior
A9: CENTRES DE COTITZACIÓ | E9: n | F9: % | H9: 4rt 2021
A10: BAIX LLOBREGAT | B10: 21007 | C10: =B10/$B$16 -> 0.13686055 | D10: =B10/$B$17 -> 0.084977023 | E10: =B10-H10 -> -5 | F10: =E10/H10 -> -0.00023795926 | H10: 21012
A11: Barcelonès | B11: 83128 | C11: =B11/$B$16 -> 0.54157871 | D11: =B11/$B$17 -> 0.33626743 | E11: =B11-H11 -> 617 | F11: =E11/H11 -> 0.0074777908 | H11: 82511
A12: Maresme | B12: 12227 | C12: =B12/$B$16 -> 0.079658875 | D12: =B12/$B$17 -> 0.049460373 | E12: =B12-H12 -> 333 | F12: =E12/H12 -> 0.02799731 | H12: 11894
A13: Vallès Occidental | B13: 25294 | C13: =B13/$B$16 -> 0.16479035 | D13: =B13/$B$17 -> 0.1023187 | E13: =B13-H13 -> -76 | F13: =E13/H13 -> -0.0029956642 | H13: 25370
A14: Vallès Oriental | B14: 11836 | C14: =B14/$B$16 -> 0.077111511 | D14: =B14/$B$17 -> 0.047878709 | E14: =B14-H14 -> -41 | F14: =E14/H14 -> -0.0034520502 | H14: 11877
A15: Àrea Metropolitana de Barcelona (AMB) | B15: 110106 | C15: - | D15: =B15/B16 -> 0.71734032 | E15: =B15-H15 -> 599 | F15: =E15/H15 -> 0.00546997 | H15: 109507
A16: Àmbit Territorial Metropolità (ATM) | B16: 153492 | C16: - | D16: =B16/B17 -> 0.62090224 | E16: =B16-H16 -> 828 | F16: =E16/H16 -> 0.0054236755 | H16: 152664
A17: Catalunya | B17: 247208 | C17: - | D17: - | E17: =B17-H17 -> 3819 | F17: =E17/H17 -> 0.015690931 | H17: 243389
B18: n | C18: % / Total ATM | D18: % / Total Catalunya | E18: Variació trimestral
A19: POBLACIÓ ASSALARIADA | E19: n | F19: %
A20: BAIX LLOBREGAT | B20: 283735 | C20: =B20/$B$26 -> 0.14054428 | D20: =B20/$B$27 -> 0.096403902 | E20: =B20-H20 -> -4016 | F20: =E20/H20 -> -0.013956511 | H20: 287751
A21: Barcelonès | B21: 1165475 | C21: =B21/$B$26 -> 0.5773022 | D21: =B21/$B$27 -> 0.3959904 | E21: =B21-H21 -> 15292 | F21: =E21/H21 -> 0.013295276 | H21: 1150183
A22: Maresme | B22: 108300 | C22: =B22/$B$26 -> 0.053644933 | D22: =B22/$B$27 -> 0.036796809 | E22: =B22-H22 -> 4999 | F22: =E22/H22 -> 0.048392562 | H22: 103301
A23: Vallès Occidental | B23: 335200 | C23: =B23/$B$26 -> 0.16603676 | D23: =B23/$B$27 -> 0.11389003 | E23: =B23-H23 -> 221 | F23: =E23/H23 -> 0.00065974285 | H23: 334979
A24: Vallès Oriental | B24: 125110 | C24: =B24/$B$26 -> 0.061971538 | D24: =B24/$B$27 -> 0.042508299 | E24: =B24-H24 -> 87 | F24: =E24/H24 -> 0.00069587196 | H24: 125023
A25: Àrea Metropolitana de Barcelona (AMB) | B25: 1555366 | C25: - | D25: =B25/$B$27 -> 0.52846265 | E25: =B25-H25 -> 15438 | F25: =E25/H25 -> 0.010025144 | H25: 1539928
A26: Àmbit Territorial Metropolità (ATM) | B26: 2018830 | C26: - | D26: =B26/$B$27 -> 0.68593261 | E26: =B26-H26 -> 17593 | F26: =E26/H26 -> 0.0087910627 | H26: 2001237
A27: Catalunya | B27: 2943190 | C27: - | D27: - | E27: =B27-H27 -> 70362 | F27: =E27/H27 -> 0.024492242 | H27: 2872828
B28: n | C28: % / Total ATM | D28: % / Total Catalunya | E28: Variació trimestral
A29: POBLACIÓ DEL RÈGIM AUTÒNOM | E29: n | F29: %
A30: BAIX LLOBREGAT | B30: 48960 | C30: =B30/$B$36 -> 0.14146201 | D30: =B30/$B$37 -> 0.087604563 | E30: =B30-H30 -> -1799 | F30: =E30/H30 -> -0.035441991 | H30: 50759
A31: Barcelonès | B31: 172370 | C31: =B31/$B$36 -> 0.49803525 | D31: =B31/$B$37 -> 0.30842317 | E31: =B31-H31 -> 11559 | F31: =E31/H31 -> 0.071879411 | H31: 160811
A32: Maresme | B32: 33905 | C32: =B32/$B$36 -> 0.097963016 | D32: =B32/$B$37 -> 0.060666518 | E32: =B32-H32 -> -2833 | F32: =E32/H32 -> -0.077113615 | H32: 36738
A33: Vallès Occidental | B33: 61145 | C33: =B33/$B$36 -> 0.17666859 | D33: =B33/$B$37 -> 0.10940729 | E33: =B33-H33 -> -973 | F33: =E33/H33 -> -0.015663737 | H33: 62118
A34: Vallès Oriental | B34: 29350 | C34: =B34/$B$36 -> 0.08480208 | D34: =B34/$B$37 -> 0.052516216 | E34: =B34-H34 -> -738 | F34: =E34/H34 -> -0.024528051 | H34: 30088
A35: Àrea Metropolitana de Barcelona (AMB) | B35: 227808 | C35: - | D35: =B35/$B$37 -> 0.40761888 | E35: =B35-H35 -> 701 | F35: =E35/H35 -> 0.0030866508 | H35: 227107
A36: Àmbit Territorial Metropolità (ATM) | B36: 346100 | C36: - | D36: =B36/$B$37 -> 0.6192798 | E36: =B36-H36 -> 5586 | F36: =E36/H36 -> 0.016404612 | H36: 340514
A37: Catalunya | B37: 558875 | C37: - | D37: - | E37: =B37-H37 -> 2832 | F37: =E37/H37 -> 0.0050931313 | H37: 556043
A38: Font: OCBL, a partir de les dades d'Estadística de l'ocupació assalariada i autònoma segons afiliacions a la Seguretat Social d'IDESCAT.
B41: =B37+B27 -> 3502065

Sheet GE1
A1: TORNAR A L'ÍNDEX | B1: Fet!
A3: EMPRESES
A5: GE1 | C5: =Índex!A7 -> 2n trimestre 2022
A6: Comptes de cotització segons àmbit territorial.
A29: Les dades de 2021 provenen d'Idescat, a partir dels fitxers d'afiliacions i comptes de cotització de la Tresoreria General de la Seguretat Social. Dades provisionals.
B31: Empreses | C31: variació 2022-2021 | D31: variació 2022-2020 | E31: variació 2022-2019 | F31: variació 2022-2008
A32: Baix Llobregat | B32: 21007 | C32: 0.0028636884 | D32: 0.03 | E32: -0.064303527 | F32: -0.12215909
A33: Àrea Metropolitana de Barcelona | B33: 110106 | C33: 0.01868872 | D33: 0.02517366 | E33: -0.083132389 | F33: -0.11503059
A34: Àmbit Territorial Metropolità | B34: 153492 | C34: 0.011291152 | D34: 0.033513492 | E34: -0.066421167 | F34: -0.12864367
A35: Catalunya | B35: 247208 | C35: 0.012151982 | D35: 0.034862693 | E35: -0.063981886 | F35: -0.13162239

Sheet GE2
A1: TORNAR A L'ÍNDEX
A3: EMPRESES
A5: GE2 | C5: =Índex!A7 -> 2n trimestre 2022
A6: =Índex!B18 -> Variació interanual comptes de cotització. Baix Llobregat.
A29: Les dades de 2021 provenen d'Idescat, a partir dels fitxers d'afiliacions i comptes de cotització de la Tresoreria General de la Seguretat Social. Dades provisionals.
B31: Empreses | C31: Variació interanual
A32: 2016 | B32: 21504 | C32: =(B32-B40)/B40 -> 0.016305118
A33: 2017 | B33: 22064 | C33: =(B33-B32)/B32 -> 0.026041667
A34: 2018 | B34: 22319 | C34: =(B34-B33)/B33 -> 0.011557288
A35: 2019 | B35: 22456 | C35: =(B35-B34)/B34 -> 0.0061382678
A36: 2020 | B36: 20400 | C36: =(B36-B35)/B35 -> -0.091556822
A37: 2021 | B37: 20952 | C37: =(B37-B36)/B36 -> 0.027058824
A38: 2022 | B38: 21007 | C38: =(B38-B37)/B37 -> 0.0026250477
A40: 2015 | B40: 21159

Sheet TE1
A1: TORNAR A L'ÍNDEX
A3: EMPRESES
A5: =Índex!A19 -> TE1 | C5: =Índex!A7 -> 2n trimestre 2022
A6: =Índex!B19 -> Activitats econòmiques més rellevants. Baix Llobregat.
D8: Variació
B9: 2022 | C9: %total | D9: 2021-2022 | E9: 2020-2022 | F9: 2019-2022 | G9: 2008-2022
A10: Total | B10: 21007 | C10: 1 | D10: 0.0026727759 | E10: 0.029803922 | F10: -0.064481653 | G10: -0.1223262
A11: 47- Comerç al detall, excepte el comerç de vehicles de motor i motocicletes | B11: 2987 | C11: 0.14218393 | D11: -0.022258592 | E11: 0.020847573 | F11: -0.066854108 | G11: -0.10273355
A12: 56- Serveis de menjar i begudes | B12: 2098 | C12: 0.099866717 | D12: 0.024914509 | E12: 0.051102204 | F12: -0.045495905 | G12: 0.094418362
A13: 46- Comerç a l'engròs i intermediaris del comerç, excepte vehicles de motor i motocicletes | B13: 1969 | C13: 0.0937262 | D13: -0.0080604534 | E13: 0.0097435897 | F13: -0.11901566 | G13: -0.12449978
A14: 43- Activitats especialitzades de la construcció | B14: 1534 | C14: 0.073019802 | D14: -0.016666667 | E14: 0.012541254 | F14: -0.05308642 | G14: -0.33850798
A15: 49- Transport terrestre; transport per canonades | B15: 1037 | C15: 0.049362148 | D15: 0.022682446 | E15: 0.028769841 | F15: -0.099826389 | G15: -0.32398957
A16: 96- Altres activitats de serveis personals | B16: 867 | C16: 0.041269992 | D16: 0.033373063 | E16: 0.01880141 | F16: -0.051422319 | G16: 0.016412661
A17: 41- Construcció d'immobles | B17: 860 | C17: 0.040936786 | D17: -0.010356732 | E17: 0.10115237 | F17: 0.056511057 | G17: -0.36857562
A18: 68- Activitats immobiliàries | B18: 689 | C18: 0.03279703 | D18: 0.043939394 | E18: 0.069875776 | F18: -0.028208745 | G18: 0.21302817
A19: 45- Venda i reparació de vehicles de motor i motocicletes | B19: 598 | C19: 0.028465347 | D19: -0.026058632 | E19: -0.022875817 | F19: -0.14326648 | G19: -0.16944444
A20: 85- Educació | B20: 578 | C20: 0.027513328 | D20: 0.0017331023 | E20: 0.01048951 | F20: -0.11076923 | G20: 0.19917012
A22: Les dades de 2021 provenen d'Idescat, a partir dels fitxers d'afiliacions i comptes de cotització de la Tresoreria General de la Seguretat Social. Dades provisionals.

Sheet TE2
A1: TORNAR A L'ÍNDEX
A3: ='TE1'!A3 -> EMPRESES
A5: =Índex!A20 -> TE2 | C5: =Índex!A7 -> 2n trimestre 2022
A6: =Índex!B20 -> Dinamisme empresarial.
A7: ACTIVITATS QUE MÉS HAN AUGMENTAT | B7: n | C7: Variació anual
C8: n | D8: %
A9: 56- Serveis de menjar i begudes | B9: 2098 | C9: 51 | D9: 0.024914509
A10: 68- Activitats immobiliàries | B10: 689 | C10: 29 | D10: 0.043939394
A11: 96- Altres activitats de serveis personals | B11: 867 | C11: 28 | D11: 0.033373063
A12: 49- Transport terrestre; transport per canonades | B12: 1037 | C12: 23 | D12: 0.022682446
A13: 82- Activitats administratives d'oficina i altres activitats auxiliars a les empreses | B13: 318 | C13: 18 | D13: 0.06
A14: 86- Activitats sanitàries | B14: 557 | C14: 18 | D14: 0.033395176
A15: 73- Publicitat i estudis de mercat | B15: 135 | C15: 12 | D15: 0.097560976
A16: 94- Activitats associatives | B16: 201 | C16: 12 | D16: 0.063492063
A17: 93- Activitats esportives, recreatives i d'entreteniment | B17: 396 | C17: 7 | D17: 0.017994859
A18: 53- Activitats postals i de correus | B18: 71 | C18: 5 | D18: 0.075757576
A19: ACTIVITATS QUE MÉS HAN DISMINUÏT | B19: n | C19: Variació anual
C20: n | D20: %
A21: 47- Comerç al detall, excepte el comerç de vehicles de motor i motocicletes | B21: 2987 | C21: -68 | D21: -0.022258592
A22: 43- Activitats especialitzades de la construcció | B22: 1534 | C22: -26 | D22: -0.016666667
A23: 45- Venda i reparació de vehicles de motor i motocicletes | B23: 598 | C23: -16 | D23: -0.026058632
A24: 46- Comerç a l'engròs i intermediaris del comerç, excepte vehicles de motor i motocicletes | B24: 1969 | C24: -16 | D24: -0.0080604534
A25: 41- Construcció d'immobles | B25: 860 | C25: -9 | D25: -0.010356732
A26: 71- Serveis tècnics d'arquitectura i enginyeria; assajos i anàlisis tècnics | B26: 328 | C26: -9 | D26: -0.026706231
A27: 97- Activitats de les llars que donen ocupació a personal domèstic | B27: 98 | C27: -7 | D27: -0.066666667
A28: 20- Indústries químiques | B28: 110 | C28: -6 | D28: -0.051724138
A29: 77- Activitats de lloguer | B29: 169 | C29: -6 | D29: -0.034285714
A30: 25- Fabricació de productes metàl·lics, excepte maquinària i equips | B30: 516 | C30: -5 | D30: -0.009596929
A32: Les dades de 2021 provenen d'Idescat, a partir dels fitxers d'afiliacions i comptes de cotització de la Tresoreria General de la Seguretat Social. Dades provisionals.

Sheet DIN_Empreses
A1: Fet! | G1: 0.003 | M1: variació | Q1: quan ordenis, millor copiïs les cel·les calculades abans
B3: 2022 | C3: 20.22 | D3: 2021 | H3: 2022 | I3: 20.22 | J3: 2021 | N3: 2022 | O3: 20.22 | P3: 2021 | Q3: var absoluta | R3: var relativa
A4: 1- Agricultura, ramaderia, caça i activitats dels serveis que s'hi relacionen | B4: 25 | C4: 0.0011900228 | D4: 27 | G4: 10- Indústries de productes alimentaris | H4: 181 | I4: 0.0086157654 | J4: 181 | M4: 10- Indústries de productes alimentaris | N4: 2987 | O4: 0.14218393 | P4: 3055 | Q4: -68 | R4: -0.022258592
A5: 2- Silvicultura i explotació forestal | B5: 10 | C5: 0.00047600914 | D5: 8 | G5: 16- Indústria de la fusta i del suro, excepte mobles; cistelleria i esparteria | H5: 67 | I5: 0.0031892612 | J5: 69 | M5: 16- Indústria de la fusta i del suro, excepte mobles; cistelleria i esparteria | N5: 1534 | O5: 0.073019802 | P5: 1560 | Q5: -26 | R5: -0.016666667
A6: 3- Pesca i aqüicultura | B6: 0 | C6: 0 | D6: .. | G6: 18- Arts gràfiques i reproducció de suports enregistrats | H6: 184 | I6: 0.0087585682 | J6: 186 | M6: 18- Arts gràfiques i reproducció de suports enregistrats | N6: 598 | O6: 0.028465347 | P6: 614 | Q6: -16 | R6: -0.026058632
A7: 5- Extracció d'antracita, hulla i lignit | B7: 0 | C7: 0 | G7: 20- Indústries químiques | H7: 110 | I7: 0.0052361005 | J7: 116 | M7: 20- Indústries químiques | N7: 1969 | O7: 0.0937262 | P7: 1985 | Q7: -16 | R7: -0.0080604534
A8: 6- Extracció de petroli brut i de gas natural | B8: 0 | C8: 0 | G8: 22- Fabricació de productes de cautxú i matèries plàstiques | H8: 124 | I8: 0.0059025133 | J8: 125 | M8: 22- Fabricació de productes de cautxú i matèries plàstiques | N8: 860 | O8: 0.040936786 | P8: 869 | Q8: -9 | R8: -0.010356732
A9: 7- Extracció de minerals metàl·lics | B9: 0 | C9: 0 | D9: 0 | G9: 23- Fabricació d'altres productes minerals no metàl·lics | H9: 64 | I9: 0.0030464585 | J9: 64 | M9: 23- Fabricació d'altres productes minerals no metàl·lics | N9: 328 | O9: 0.0156131 | P9: 337 | Q9: -9 | R9: -0.026706231
A10: 8- Extracció de minerals no metàl·lics ni energètics | B10: 12 | C10: 0.00057121097 | D10: 12 | G10: 25- Fabricació de productes metàl·lics, excepte maquinària i equips | H10: 516 | I10: 0.024562072 | J10: 521 | M10: 25- Fabricació de productes metàl·lics, excepte maquinària i equips | N10: 98 | O10: 0.0046648896 | P10: 105 | Q10: -7 | R10: -0.066666667
A11: 9- Activitats de suport a les indústries extractives | B11: 0 | C11: 0 | D11: 0 | G11: 28- Fabricació de maquinària i equips ncaa | H11: 177 | I11: 0.0084253618 | J11: 180 | M11: 28- Fabricació de maquinària i equips ncaa | N11: 110 | O11: 0.0052361005 | P11: 116 | Q11: -6 | R11: -0.051724138
A12: 10- Indústries de productes alimentaris | B12: 181 | C12: 0.0086157654 | D12: 181 | G12: 31- Fabricació de mobles | H12: 88 | I12: 0.0041888804 | J12: 90 | M12: 31- Fabricació de mobles | N12: 169 | O12: 0.0080445545 | P12: 175 | Q12: -6 | R12: -0.034285714
A13: 11- Fabricació de begudes | B13: 18 | C13: 0.00085681645 | D13: 15 | G13: 32- Indústries manufactureres diverses | H13: 71 | I13: 0.0033796649 | J13: 72 | M13: 32- Indústries manufactureres diverses | N13: 516 | O13: 0.024562072 | P13: 521 | Q13: -5 | R13: -0.009596929
A14: 12- Indústries del tabac | B14: 0 | C14: 0 | G14: 33- Reparació i instal·lació de maquinària i equips | H14: 177 | I14: 0.0084253618 | J14: 174 | M14: 33- Reparació i instal·lació de maquinària i equips | N14: 160 | O14: 0.0076161462 | P14: 164 | Q14: -4 | R14: -0.024390244
A15: 13- Indústries tèxtils | B15: 51 | C15: 0.0024276466 | D15: 58 | G15: 41- Construcció d'immobles | H15: 860 | I15: 0.040936786 | J15: 869 | M15: 41- Construcció d'immobles | N15: 236 | O15: 0.011233816 | P15: 240 | Q15: -4 | R15: -0.016666667
A16: 14- Confecció de peces de vestir | B16: 52 | C16: 0.0024752475 | D16: 59 | G16: 42- Construcció d'obres d'enginyeria civil | H16: 72 | I16: 0.0034272658 | J16: 74 | M16: 42- Construcció d'obres d'enginyeria civil | N16: 177 | O16: 0.0084253618 | P16: 180 | Q16: -3 | R16: -0.016666667
A17: 15- Indústria del cuir i del calçat | B17: 4 | C17: 0.00019040366 | D17: 6 | G17: 43- Activitats especialitzades de la construcció | H17: 1534 | I17: 0.073019802 | J17: 1560 | M17: 43- Activitats especialitzades de la construcció | N17: 467 | O17: 0.022229627 | P17: 470 | Q17: -3 | R17: -0.0063829787
A18: 16- Indústria de la fusta i del suro, excepte mobles; cistelleria i esparteria | B18: 67 | C18: 0.0031892612 | D18: 69 | G18: 45- Venda i reparació de vehicles de motor i motocicletes | H18: 598 | I18: 0.028465347 | J18: 614 | M18: 45- Venda i reparació de vehicles de motor i motocicletes | N18: 100 | O18: 0.0047600914 | P18: 103 | Q18: -3 | R18: -0.029126214
A19: 17- Indústries del paper | B19: 46 | C19: 0.002189642 | D19: 46 | G19: 46- Comerç a l'engròs i intermediaris del comerç, excepte vehicles de motor i motocicletes | H19: 1969 | I19: 0.0937262 | J19: 1985 | M19: 46- Comerç a l'engròs i intermediaris del comerç, excepte vehicles de motor i motocicletes | N19: 67 | O19: 0.0031892612 | P19: 69 | Q19: -2 | R19: -0.028985507
A20: 18- Arts gràfiques i reproducció de suports enregistrats | B20: 184 | C20: 0.0087585682 | D20: 186 | G20: 47- Comerç al detall, excepte el comerç de vehicles de motor i motocicletes | H20: 2987 | I20: 0.14218393 | J20: 3055 | M20: 47- Comerç al detall, excepte el comerç de vehicles de motor i motocicletes | N20: 184 | O20: 0.0087585682 | P20: 186 | Q20: -2 | R20: -0.010752688
A21: 19- Coqueries i refinació del petroli | B21: 0 | C21: 0 | D21: 0 | G21: 49- Transport terrestre; transport per canonades | H21: 1037 | I21: 0.049362148 | J21: 1014 | M21: 49- Transport terrestre; transport per canonades | N21: 88 | O21: 0.0041888804 | P21: 90 | Q21: -2 | R21: -0.022222222
A22: 20- Indústries químiques | B22: 110 | C22: 0.0052361005 | D22: 116 | G22: 52- Emmagatzematge i activitats afins al transport | H22: 312 | I22: 0.014851485 | J22: 313 | M22: 52- Emmagatzematge i activitats afins al transport | N22: 72 | O22: 0.0034272658 | P22: 74 | Q22: -2 | R22: -0.027027027
A23: 21- Fabricació de productes farmacèutics | B23: 19 | C23: 0.00090441736 | D23: 19 | G23: 53- Activitats postals i de correus | H23: 71 | I23: 0.0033796649 | J23: 66 | M23: 53- Activitats postals i de correus | N23: 257 | O23: 0.012233435 | P23: 259 | Q23: -2 | R23: -0.0077220077
A24: 22- Fabricació de productes de cautxú i matèries plàstiques | B24: 124 | C24: 0.0059025133 | D24: 125 | G24: 55- Serveis d'allotjament | H24: 82 | I24: 0.0039032749 | J24: 81 | M24: 55- Serveis d'allotjament | N24: 75 | O24: 0.0035700685 | P24: 77 | Q24: -2 | R24: -0.025974026
A25: 23- Fabricació d'altres productes minerals no metàl·lics | B25: 64 | C25: 0.0030464585 | D25: 64 | G25: 56- Serveis de menjar i begudes | H25: 2098 | I25: 0.099866717 | J25: 2047 | M25: 56- Serveis de menjar i begudes | N25: 124 | O25: 0.0059025133 | P25: 125 | Q25: -1 | R25: -0.008
A26: 24- Metal·lúrgia; fabricació de productes bàsics de ferro, acer i ferroaliatges | B26: 38 | C26: 0.0018088347 | D26: 40 | G26: 62- Serveis de tecnologies de la informació | H26: 257 | I26: 0.012233435 | J26: 259 | M26: 62- Serveis de tecnologies de la informació | N26: 71 | O26: 0.0033796649 | P26: 72 | Q26: -1 | R26: -0.013888889
... A39: 38- Activitats de recollida, tractament i eliminació de residus; activitats de valorització | B39: 54 | C39: 0.0025704494 | D39: 51 | G39: 85- Educació | H39: 578 | I39: 0.027513328 | J39: 577 | M39: 85- Educació | N39: 396 | O39: 0.018849962 | P39: 389 | Q39: 7 | R39: 0.017994859
A40: 39- Activitats de descontaminació i altres serveis de gestió de residus | B40: 2 | C40: 9.5201828e-05 | D40: .. | G40: 86- Activitats sanitàries | H40: 557 | I40: 0.026513709 | J40: 539 | M40: 86- Activitats sanitàries | N40: 135 | O40: 0.0064261234 | P40: 123 | Q40: 12 | R40: 0.097560976
A41: 41- Construcció d'immobles | B41: 860 | C41: 0.040936786 | D41: 869 | G41: 87- Activitats de serveis socials amb allotjament | H41: 100 | I41: 0.0047600914 | J41: 103 | M41: 87- Activitats de serveis socials amb allotjament | N41: 201 | O41: 0.0095677837 | P41: 189 | Q41: 12 | R41: 0.063492063
A42: 42- Construcció d'obres d'enginyeria civil | B42: 72 | C42: 0.0034272658 | D42: 74 | G42: 88- Activitats de serveis socials sense allotjament | H42: 77 | I42: 0.0036652704 | J42: 74 | M42: 88- Activitats de serveis socials sense allotjament | N42: 318 | O42: 0.015137091 | P42: 300 | Q42: 18 | R42: 0.06
A43: 43- Activitats especialitzades de la construcció | B43: 1534 | C43: 0.073019802 | D43: 1560 | G43: 93- Activitats esportives, recreatives i d'entreteniment | H43: 396 | I43: 0.018849962 | J43: 389 | M43: 93- Activitats esportives, recreatives i d'entreteniment | N43: 557 | O43: 0.026513709 | P43: 539 | Q43: 18 | R43: 0.033395176
A44: 45- Venda i reparació de vehicles de motor i motocicletes | B44: 598 | C44: 0.028465347 | D44: 614 | G44: 94- Activitats associatives | H44: 201 | I44: 0.0095677837 | J44: 189 | M44: 94- Activitats associatives | N44: 1037 | O44: 0.049362148 | P44: 1014 | Q44: 23 | R44: 0.022682446
A45: 46- Comerç a l'engròs i intermediaris del comerç, excepte vehicles de motor i motocicletes | B45: 1969 | C45: 0.0937262 | D45: 1985 | G45: 95- Reparació d'ordinadors, d'efectes personals i efectes domèstics | H45: 88 | I45: 0.0041888804 | J45: 87 | M45: 95- Reparació d'ordinadors, d'efectes personals i efectes domèstics | N45: 867 | O45: 0.041269992 | P45: 839 | Q45: 28 | R45: 0.033373063
A46: 47- Comerç al detall, excepte el comerç de vehicles de motor i motocicletes | B46: 2987 | C46: 0.14218393 | D46: 3055 | G46: 96- Altres activitats de serveis personals | H46: 867 | I46: 0.041269992 | J46: 839 | M46: 96- Altres activitats de serveis personals | N46: 689 | O46: 0.03279703 | P46: 660 | Q46: 29 | R46: 0.043939394
A47: 49- Transport terrestre; transport per canonades | B47: 1037 | C47: 0.049362148 | D47: 1014 | G47: 97- Activitats de les llars que donen ocupació a personal domèstic | H47: 98 | I47: 0.0046648896 | J47: 105 | M47: 97- Activitats de les llars que donen ocupació a personal domèstic | N47: 2098 | O47: 0.099866717 | P47: 2047 | Q47: 51 | R47: 0.024914509
A48: 50- Transport marítim i per vies de navegació interiors | B48: 1 | C48: 4.7600914e-05 | D48: .. | G48: Total | H48: 21008 | I48: 1 | J48: 20952 | M48: Total | N48: 21008 | O48: 1 | P48: 20952 | Q48: 56 | R48: 0.0026727759
A49: 51- Transport aeri | B49: 27 | C49: 0.0012852247 | D49: 21
A50: 52- Emmagatzematge i activitats afins al transport | B50: 312 | C50: 0.014851485 | D50: 313
A51: 53- Activitats postals i de correus | B51: 71 | C51: 0.0033796649 | D51: 66
A52: 55- Serveis d'allotjament | B52: 82 | C52: 0.0039032749 | D52: 81
A53: 56- Serveis de menjar i begudes | B53: 2098 | C53: 0.099866717 | D53: 2047
A54: 58- Edició | B54: 35 | C54: 0.001666032 | D54: 39
A55: 59- Activitats de cinematografia, de vídeo i de programes de televisió; activitats d'enregistrament de so i edició musical | B55: 61 | C55: 0.0029036558 | D55: 42
A56: 60- Activitats d'emissió i programació de ràdio i televisió | B56: 7 | C56: 0.0003332064 | D56: 6
A57: 61- Telecomunicacions | B57: 40 | C57: 0.0019040366 | D57: 43
A58: 62- Serveis de tecnologies de la informació | B58: 257 | C58: 0.012233435 | D58: 259
A59: 63- Serveis d'informació | B59: 55 | C59: 0.0026180503 | D59: 52
A60: 64- Mediació financera, excepte assegurances i fons de pensions | B60: 54 | C60: 0.0025704494 | D60: 52
... A89: 97- Activitats de les llars que donen ocupació a personal domèstic | B89: 98 | C89: 0.0046648896 | D89: 105
A90: 98- Activitats de les llars que produeixen béns i serveis per a ús propi | B90: 0 | C90: 0
A91: 99- Organismes extraterritorials | B91: 1 | C91: 4.7600914e-05 | D91: ..
A92: Total | B92: 21008 | C92: 1 | D92: 20952

Sheet TE3
A1: TORNAR A L'ÍNDEX
A3: EMPRESES
A5: =[3]Índex!A18 -> TE3 | C5: =[3]Índex!A7 -> 2n trimestre 2022
A6: =[3]Índex!B18 -> Dades municipals.
B8: Empreses | C8: % Baix Llobregat | D8: variació relativa (en %)
B9: Empreses | D9: 2021 | E9: 2020 | F9: 2019 | G9: 2008
A10: Abrera | B10: 395 | C10: =B10/$B$40 -> 0.018803256 | D10: =($B46-C46)/C46 -> 0.0076530612 | E10: =($B46-D46)/D46 -> 0.018041237 | F10: =($B46-E46)/E46 -> -0.077102804 | G10: =($B46-F46)/F46 -> -0.034229829
A11: Begues | B11: 140 | C11: =B11/$B$40 -> 0.0066644452 | D11: =($B47-C47)/C47 -> 0 | E11: =($B47-D47)/D47 -> 0.044776119 | F11: =($B47-E47)/E47 -> -0.054054054 | G11: =($B47-F47)/F47 -> -0.1025641
A12: Castelldefels | B12: 1755 | C12: =B12/$B$40 -> 0.083543581 | D12: =($B48-C48)/C48 -> 0.016801854 | E12: =($B48-D48)/D48 -> 0.059782609 | F12: =($B48-E48)/E48 -> -0.037828947 | G12: =($B48-F48)/F48 -> -0.051351351
A13: Castellví de Rosanes | B13: 62 | C13: =B13/$B$40 -> 0.0029513972 | D13: =($B49-C49)/C49 -> 0.087719298 | E13: =($B49-D49)/D49 -> 0.033333333 | F13: =($B49-E49)/E49 -> -0.03125 | G13: =($B49-F49)/F49 -> -0.33333333
A14: Cervelló | B14: 239 | C14: =B14/$B$40 -> 0.01137716 | D14: =($B50-C50)/C50 -> -0.024489796 | E14: =($B50-D50)/D50 -> 0.0084388186 | F14: =($B50-E50)/E50 -> -0.024489796 | G14: =($B50-F50)/F50 -> 0.021367521
A15: Collbató | B15: 76 | C15: =B15/$B$40 -> 0.0036178417 | D15: =($B51-C51)/C51 -> -0.12643678 | E15: =($B51-D51)/D51 -> -0.073170732 | F15: =($B51-E51)/E51 -> -0.16483516 | G15: =($B51-F51)/F51 -> -0.19148936
A16: Corbera de Llobregat | B16: 237 | C16: =B16/$B$40 -> 0.011281954 | D16: =($B52-C52)/C52 -> 0.025974026 | E16: =($B52-D52)/D52 -> 0.11267606 | F16: =($B52-E52)/E52 -> 0.0085106383 | G16: =($B52-F52)/F52 -> -0.2020202
A17: Cornellà de Llobregat | B17: 2378 | C17: =B17/$B$40 -> 0.11320036 | D17: =($B53-C53)/C53 -> 0 | E17: =($B53-D53)/D53 -> 0.029883066 | F17: =($B53-E53)/E53 -> -0.068181818 | G17: =($B53-F53)/F53 -> -0.11925926
A18: El Papiol | B18: 204 | C18: =B18/$B$40 -> 0.0097110487 | D18: =($B54-C54)/C54 -> 0.0049261084 | E18: =($B54-D54)/D54 -> -0.028571429 | F18: =($B54-E54)/E54 -> -0.085201794 | G18: =($B54-F54)/F54 -> -0.2183908
A19: El Prat de Llobregat | B19: 1754 | C19: =B19/$B$40 -> 0.083495978 | D19: =($B55-C55)/C55 -> 0.007466973 | E19: =($B55-D55)/D55 -> 0.039715471 | F19: =($B55-E55)/E55 -> -0.071466384 | G19: =($B55-F55)/F55 -> -0.041006014
A20: Esparreguera | B20: 575 | C20: =B20/$B$40 -> 0.027371828 | D20: =($B56-C56)/C56 -> 0.024955437 | E20: =($B56-D56)/D56 -> 0.068773234 | F20: =($B56-E56)/E56 -> -0.030354132 | G20: =($B56-F56)/F56 -> -0.1506647
A21: Esplugues de Llobregat | B21: 1194 | C21: =B21/$B$40 -> 0.056838197 | D21: =($B57-C57)/C57 -> -0.0099502488 | E21: =($B57-D57)/D57 -> 0.037358818 | F21: =($B57-E57)/E57 -> -0.073700543 | G21: =($B57-F57)/F57 -> -0.1916046
... A40: BAIX LLOBREGAT | B40: 21007 | C40: =B40/$B$40 -> 1 | D40: =($B76-C76)/C76 -> 0.0026250477 | E40: =($B76-D76)/D76 -> 0.029754902 | F40: =($B76-E76)/E76 -> -0.064526185 | G40: =($B76-F76)/F76 -> -0.12236798
A42: Les dades de 2021 provenen d'Idescat, a partir dels fitxers d'afiliacions i comptes de cotització de la Tresoreria General de la Seguretat Social. Dades provisionals.
B44: empreses
B45: 2022 | C45: 2021 | D45: 2020 | E45: 2019 | F45: 2008
A46: Abrera | B46: 395 | C46: 392 | D46: 388 | E46: 428 | F46: 409
A47: Begues | B47: 140 | C47: 140 | D47: 134 | E47: 148 | F47: 156
A48: Castelldefels | B48: 1755 | C48: 1726 | D48: 1656 | E48: 1824 | F48: 1850
A49: Castellví de Rosanes | B49: 62 | C49: 57 | D49: 60 | E49: 64 | F49: 93
A50: Cervelló | B50: 239 | C50: 245 | D50: 237 | E50: 245 | F50: 234
A51: Collbató | B51: 76 | C51: 87 | D51: 82 | E51: 91 | F51: 94
A52: Corbera de Llobregat | B52: 237 | C52: 231 | D52: 213 | E52: 235 | F52: 297
A53: Cornellà de Llobregat | B53: 2378 | C53: 2378 | D53: 2309 | E53: 2552 | F53: 2700
A54: El Papiol | B54: 204 | C54: 203 | D54: 210 | E54: 223 | F54: 261
A55: El Prat de Llobregat | B55: 1754 | C55: 1741 | D55: 1687 | E55: 1889 | F55: 1829
A56: Esparreguera | B56: 575 | C56: 561 | D56: 538 | E56: 593 | F56: 677
A57: Esplugues de Llobregat | B57: 1194 | C57: 1206 | D57: 1151 | E57: 1289 | F57: 1477
... A76: BAIX LLOBREGAT | B76: 21007 | C76: 20952 | D76: 20400 | E76: 22456 | F76: 23936
A78: Zona | B78: 2022 2T | C78: 2021 2T | D78: 2020 2T | E78: 20219 2T | F78: 2008 2T | G78: 2008-2022 | H78: 2019-2022 | I78: 2020-2022 | J78: 2021-2022 | K78: Zona Centre: Cornellà de Llobregat, Esplugues de Llobregat, Sant Joan Despí, Sant Feliu de Llobregat i Sant Just Desvern.
A79: Centre | B79: =+B53+B57+B69+B70+B68 -> 6153 | C79: =+C53+C57+C69+C70+C68 -> 6169 | D79: =+D53+D57+D69+D70+D68 -> 5996 | E79: =+E53+E57+E69+E70+E68 -> 6644 | F79: =+F53+F57+F69+F70+F68 -> 7089 | G79: =($B79-F79)/F79 -> -0.13203555 | H79: =($B79-E79)/E79 -> -0.073901264 | I79: =($B79-D79)/D79 -> 0.026184123 | J79: =($B79-C79)/C79 -> -0.0025936132 | K79: Zona Delta: Begues, Castelldefels, El Prat de Llobregat, Gavà, Sant Boi de Llobregat, Sant Climent de Llobregat i Viladecans.
A80: Delta | B80: =+B47+B48+B55+B58+B65+B66+B75 -> 8330 | C80: =+C47+C48+C55+C58+C65+C66+C75 -> 8298 | D80: =+D47+D48+D55+D58+D65+D66+D75 -> 8052 | E80: =+E47+E48+E55+E58+E65+E66+E75 -> 8900 | F80: =+F47+F48+F55+F58+F65+F66+F75 -> 9318 | G80: =($B80-F80)/F80 -> -0.10603134 | H80: =($B80-E80)/E80 -> -0.064044944 | I80: =($B80-D80)/D80 -> 0.034525584 | J80: =($B80-C80)/C80 -> 0.0038563509 | K80: Zona Nord: Abrera, Castellví de Rosanes, Collbató, Esparreguera, Martorell, Olesa de Montserrat, Sant Andreu de la Barca i Sant Esteve Sesrovires.
A81: Nord | B81: =+B46+B49+B51+B56+B60+B62+B67+B64 -> 3388 | C81: =+C46+C49+C51+C56+C60+C62+C67+C64 -> 3377 | D81: =+D46+D49+D51+D56+D60+D62+D67+D64 -> 3313 | E81: =+E46+E49+E51+E56+E60+E62+E67+E64 -> 3623 | F81: =+F46+F49+F51+F56+F60+F62+F67+F64 -> 3910 | G81: =($B81-F81)/F81 -> -0.13350384 | H81: =($B81-E81)/E81 -> -0.064863373 | I81: =($B81-D81)/D81 -> 0.022638092 | J81: =($B81-C81)/C81 -> 0.003257329 | K81: Zona Vall Baixa: Cervelló, Corbera de Llobregat, El Papiol, La Palma de Cervelló, Molins de Rei, Pallejà, Sant Vicenç dels Horts, Santa Coloma de Cervelló, Torrelles de Llobregat i Vallirana.
A82: Vall Baixa | B82: =+B50+B52+B54+B59+B61+B63+B71+B72+B73+B74 -> 3136 | C82: =+C50+C52+C54+C59+C61+C63+C71+C72+C73+C74 -> 3108 | D82: =+D50+D52+D54+D59+D61+D63+D71+D72+D73+D74 -> 3039 | E82: =+E50+E52+E54+E59+E61+E63+E71+E72+E73+E74 -> 3289 | F82: =+F50+F52+F54+F59+F61+F63+F71+F72+F73+F74 -> 3619 | G82: =($B82-F82)/F82 -> -0.13346228 | H82: =($B82-E82)/E82 -> -0.046518699 | I82: =($B82-D82)/D82 -> 0.031918394 | J82: =($B82-C82)/C82 -> 0.009009009
A83: Total | B83: =SUM(B79:B82) -> 21007 | C83: =SUM(C79:C82) -> 20952 | D83: =SUM(D79:D82) -> 20400 | E83: =SUM(E79:E82) -> 22456 | F83: =SUM(F79:F82) -> 23936 | G83: =($B83-F83)/F83 -> -0.12236798 | H83: =($B83-E83)/E83 -> -0.064526185 | I83: =($B83-D83)/D83 -> 0.029754902 | J83: =($B83-C83)/C83 -> 0.0026250477

Sheet GRGSS1
A1: TORNAR A L'ÍNDEX
A3: LLOCS DE TREBALL. RÈGIM GENERAL SEGURETAT SOCIAL
A5: GRGSS1 | C5: =Índex!A7 -> 2n trimestre 2022
A6: Llocs de treball del RGSS segons àmbit territorial.
A29: Les dades de 2021 provenen d'Idescat, a partir dels fitxers d'afiliacions i comptes de cotització de la Tresoreria General de la Seguretat Social. Dades provisionals.
B31: RGSS | C31: variació 2022-2021 | D31: variació 2022-2020 | E31: variació 2022-2019 | F31: variació 2022-2008
A32: Baix Llobregat | B32: 283735 | C32: 0.044218313 | D32: 0.10622246 | E32: 0.083520453 | F32: 0.14634846
A33: Àrea Metropolitana de Barcelona | B33: 1555366 | C33: 0.05639266 | D33: 0.093409313 | E33: 0.031189627 | F33: 0.091277378
A34: Àmbit Territorial Metropolità | B34: 2017820 | C34: 0.049357484 | D34: 0.091922301 | E34: 0.029847836 | F34: 0.071931535
A35: Catalunya | B35: 2943190 | C35: 0.049720289 | D35: 0.10275698 | E35: 0.034471002 | F35: 0.069374411

Sheet GRGSS2
A1: TORNAR A L'ÍNDEX | D1: Fet!
A3: LLOCS DE TREBALL. RÈGIM GENERAL SEGURETAT SOCIAL.
A5: GRGSS2 | C5: =Índex!A7 -> 2n trimestre 2022
A6: =Índex!B28 -> Variació interanual llocs de treball assalariat. Baix Llobregat.
A29: Les dades de 2021 provenen d'Idescat, a partir dels fitxers d'afiliacions i comptes de cotització de la Tresoreria General de la Seguretat Social. Dades provisionals.
B31: Llocs de treball RGSS | C31: Variació interanual
A32: 2016 | B32: 228443 | C32: =(B32-B40)/B40 -> 0.048764811
A33: 2017 | B33: 238962 | C33: =(B33-B32)/B32 -> 0.046046497
A34: 2018 | B34: 254715 | C34: =(B34-B33)/B33 -> 0.065922615
A35: 2019 | B35: 261864 | C35: =(B35-B34)/B34 -> 0.028066663
A36: 2020 | B36: 256490 | C36: =(B36-B35)/B35 -> -0.020522103
A37: 2021 | B37: 271720 | C37: =(B37-B36)/B36 -> 0.059378533
A38: 2022 | B38: 283735 | C38: =(B38-B37)/B37 -> 0.044218313 | D38: =B38-B37 -> 12015
A40: 2015 | B40: 217821

Sheet GRGSS3
A1: TORNAR A L'ÍNDEX
A3: LLOCS DE TREBALL. RÈGIM GENERAL SEGURETAT SOCIAL
A5: GRGSS3 | C5: =Índex!A7 -> 2n trimestre 2022
A6: Llocs de treball del RGSS per grandària del compte de cotització
A29: Les dades de 2021 provenen d'Idescat, a partir dels fitxers d'afiliacions i comptes de cotització de la Tresoreria General de la Seguretat Social. Dades provisionals.
B31: variació 2022-2021 | C31: variació 2022-2020 | D31: variació 2022-2019 | E31: variació 2022-2008
A32: Fins a 50 treballadors | B32: 0.010509471 | C32: 0.030893721 | D32: -0.019973827 | E32: -0.097186266
A33: De 51 a 250 treballadors | B33: 0.079706165 | C33: 0.12539894 | D33: 0.10498286 | E33: 0.14581512
A34: 251 i més treballadors | B34: 0.059914751 | C34: 0.20441243 | D34: 0.234719 | E34: 0.783946
A35: Total | B35: 0.044218313 | C35: 0.10622246 | D35: 0.083520453 | E35: 0.14634846

Sheet TRGSS1
A1: TORNAR A L'ÍNDEX
A3: LLOCS DE TREBALL. RÈGIM GENERAL SEGURETAT SOCIAL.
A5: =Índex!A30 -> TRGSS1 | C5: =Índex!A7 -> 2n trimestre 2022
A6: =Índex!B30 -> Activitats econòmiques més rellevants. Baix Llobregat.
D8: Variació
B9: 2022 | C9: %total | D9: 2021-2022 | E9: 2020-2022 | F9: 2019-2022 | G9: 2008-2022
A10: Total | B10: 283735 | D10: 0.044218313 | E10: 0.10622246 | F10: 0.083520453 | G10: 0.14634846
A11: 46- Comerç a l'engròs i intermediaris del comerç, excepte vehicles de motor i motocicletes | B11: 28845 | C11: 0.10166176 | D11: 0.051202624 | E11: 0.080013479 | F11: 0.054584674 | G11: 0.099527331
A12: 47- Comerç al detall, excepte el comerç de vehicles de motor i motocicletes | B12: 25895 | C12: 0.091264736 | D12: -0.008234393 | E12: 0.22175041 | F12: 0.16392485 | G12: 0.29513854
A13: 84- Administració pública, Defensa i Seguretat Social obligatòria | B13: 16705 | C13: 0.058875359 | D13: 0.013038205 | E13: 0.13910672 | F13: 0.10658453 | G13: 0.83874518
A14: 56- Serveis de menjar i begudes | B14: 16135 | C14: 0.056866442 | D14: 0.076025342 | E14: 0.20997375 | F14: 0.058657568 | G14: 0.32340879
A15: 52- Emmagatzematge i activitats afins al transport | B15: 14185 | C15: 0.049993832 | D15: 0.10432075 | E15: 0.20754235 | F15: 0.44996422 | G15: 0.60282486
A16: 43- Activitats especialitzades de la construcció | B16: 13080 | C16: 0.046099353 | D16: 0.034400949 | E16: 0.076011846 | F16: 0.033583564 | G16: -0.24628328
A17: 81- Serveis a edificis i activitats de jardineria | B17: 10325 | C17: 0.036389589 | D17: 0.0546476 | E17: 0.082058269 | F17: 0.13811728 | G17: 0.48283786
A18: 86- Activitats sanitàries | B18: 9765 | C18: 0.034415916 | D18: 0.042155816 | E18: 0.097067745 | F18: 0.078528827 | G18: 0.5576647
A19: 85- Educació | B19: 9400 | C19: 0.033129505 | D19: 0.10199297 | E19: 0.13458057 | F19: 0.064191102 | G19: 0.40403286
A20: 25- Fabricació de productes metàl·lics, excepte maquinària i equips | B20: 7145 | C20: 0.025181948 | D20: 0.0098939929 | E20: 0.050117578 | F20: -0.01243953 | G20: -0.30886051
A23: Les dades de 2022 i 2021 provenen d'Idescat, a partir dels fitxers d'afiliacions i comptes de cotització de la Tresoreria General de la Seguretat Social. Dades provisionals.

Sheet TRGSS2
A1: TORNAR A L'ÍNDEX
A3: =TRGSS1!A3 -> LLOCS DE TREBALL. RÈGIM GENERAL SEGURETAT SOCIAL.
A5: =Índex!A31 -> TRGSS2 | C5: =Índex!A7 -> 2n trimestre 2022
A6: =Índex!B31 -> Dinamisme llocs de treball.
A7: ACTIVITATS QUE MÉS HAN AUGMENTAT L'AFILIACIÓ | B7: n | C7: Variació anual
C8: n | D8: %
A9: 46- Comerç a l'engròs i intermediaris del comerç, excepte vehicles de motor i motocicletes | B9: 28845 | C9: 1405 | D9: 0.051202624
A10: 52- Emmagatzematge i activitats afins al transport | B10: 14185 | C10: 1340 | D10: 0.10432075
A11: 51- Transport aeri | B11: 6995 | C11: 1170 | D11: 0.20085837
A12: 56- Serveis de menjar i begudes | B12: 16135 | C12: 1140 | D12: 0.076025342
A13: 85- Educació | B13: 9400 | C13: 870 | D13: 0.10199297
A14: 62- Serveis de tecnologies de la informació | B14: 5010 | C14: 605 | D14: 0.13734393
A15: 81- Serveis a edificis i activitats de jardineria | B15: 10325 | C15: 535 | D15: 0.0546476
A16: 82- Activitats administratives d'oficina i altres activitats auxiliars a les empreses | B16: 5685 | C16: 440 | D16: 0.083889418
A17: 43- Activitats especialitzades de la construcció | B17: 13080 | C17: 435 | D17: 0.034400949
A18: 74- Altres activitats professionals, científiques i tècniques | B18: 1310 | C18: 415 | D18: 0.46368715
A19: ACTIVITATS QUE MÉS HAN DISMINUÏT L'AFILIACIÓ | B19: n | C19: Variació anual
C20: n | D20: %
A21: 88- Activitats de serveis socials sense allotjament | B21: 2675 | C21: -440 | D21: -0.14125201
A22: 29- Fabricació de vehicles de motor, remolcs i semiremolcs | B22: 4435 | C22: -310 | D22: -0.065331928
A23: 20- Indústries químiques | B23: 4660 | C23: -260 | D23: -0.052845528
A24: 47- Comerç al detall, excepte el comerç de vehicles de motor i motocicletes | B24: 25895 | C24: -215 | D24: -0.008234393
A25: 53- Activitats postals i de correus | B25: 1185 | C25: -175 | D25: -0.12867647
A26: 68- Activitats immobiliàries | B26: 2395 | C26: -75 | D26: -0.030364372
A27: 45- Venda i reparació de vehicles de motor i motocicletes | B27: 4860 | C27: -40 | D27: -0.0081632653
A28: 10- Indústries de productes alimentaris | B28: 5795 | C28: 10 | D28: 0.0017286085
A29: 21- Fabricació de productes farmacèutics | B29: 3240 | C29: 45 | D29: 0.014084507
A30: 22- Fabricació de productes de cautxú i matèries plàstiques | B30: 2680 | C30: 45 | D30: 0.017077799
A32: Les dades de 2022 i 2021 provenen d'Idescat, a partir dels fitxers d'afiliacions i comptes de cotització de la Tresoreria General de la Seguretat Social. Dades provisionals.

Sheet DIN_RGSS
G1: 0.003 | M1: variació | Q1: quan ordenis, millor copiïs les cel·les calculades abans
B3: 2022 | C3: 20.22 | D3: 2021 | H3: 2022 | I3: 20.22 | J3: 2021 | N3: 2022 | O3: 20.22 | P3: 2021 | Q3: var absoluta | R3: var relativa
A4: 1- Agricultura, ramaderia, caça i activitats dels serveis que s'hi relacionen | B4: 100 | C4: =B4/$B$92 -> 0.00035244154 | D4: 95 | G4: 10- Indústries de productes alimentaris | H4: 5795 | I4: 0.020423987 | J4: 5785 | M4: 88- Activitats de serveis socials sense allotjament | N4: 2675 | O4: 0.0094278112 | P4: 3115 | Q4: -440 | R4: -0.14125201
A5: 2- Silvicultura i explotació forestal | B5: 60 | C5: =B5/$B$92 -> 0.00021146492 | D5: 70 | G5: 11- Fabricació de begudes | H5: 1495 | I5: 0.005269001 | J5: 1405 | M5: 29- Fabricació de vehicles de motor, remolcs i semiremolcs | N5: 4435 | O5: 0.015630782 | P5: 4745 | Q5: -310 | R5: -0.065331928
A6: 3- Pesca i aqüicultura | B6: 0 | C6: =B6/$B$92 -> 0 | D6: 5 | G6: 17- Indústries del paper | H6: 1015 | I6: 0.0035772816 | J6: 930 | M6: 20- Indústries químiques | N6: 4660 | O6: 0.016423776 | P6: 4920 | Q6: -260 | R6: -0.052845528
A7: 5- Extracció d'antracita, hulla i lignit | B7: 0 | C7: =B7/$B$92 -> 0 | D7: 0 | G7: 18- Arts gràfiques i reproducció de suports enregistrats | H7: 3340 | I7: 0.011771547 | J7: 3180 | M7: 47- Comerç al detall, excepte el comerç de vehicles de motor i motocicletes | N7: 25895 | O7: 0.091264736 | P7: 26110 | Q7: -215 | R7: -0.008234393
A8: 6- Extracció de petroli brut i de gas natural | B8: 0 | C8: =B8/$B$92 -> 0 | D8: 0 | G8: 20- Indústries químiques | H8: 4660 | I8: 0.016423776 | J8: 4920 | M8: 53- Activitats postals i de correus | N8: 1185 | O8: 0.0041764322 | P8: 1360 | Q8: -175 | R8: -0.12867647
A9: 7- Extracció de minerals metàl·lics | B9: 0 | C9: =B9/$B$92 -> 0 | D9: 0 | G9: 21- Fabricació de productes farmacèutics | H9: 3240 | I9: 0.011419106 | J9: 3195 | M9: 68- Activitats immobiliàries | N9: 2395 | O9: 0.0084409749 | P9: 2470 | Q9: -75 | R9: -0.030364372
A10: 8- Extracció de minerals no metàl·lics ni energètics | B10: 140 | C10: =B10/$B$92 -> 0.00049341815 | D10: 130 | G10: 22- Fabricació de productes de cautxú i matèries plàstiques | H10: 2680 | I10: 0.0094454332 | J10: 2635 | M10: 45- Venda i reparació de vehicles de motor i motocicletes | N10: 4860 | O10: 0.017128659 | P10: 4900 | Q10: -40 | R10: -0.0081632653
A11: 9- Activitats de suport a les indústries extractives | B11: 0 | C11: =B11/$B$92 -> 0 | D11: 0 | G11: 23- Fabricació d'altres productes minerals no metàl·lics | H11: 1075 | I11: 0.0037887465 | J11: 995 | M11: 10- Indústries de productes alimentaris | N11: 5795 | O11: 0.020423987 | P11: 5785 | Q11: 10 | R11: 0.0017286085
A12: 10- Indústries de productes alimentaris | B12: 5795 | C12: =B12/$B$92 -> 0.020423987 | D12: 5785 | G12: 25- Fabricació de productes metàl·lics, excepte maquinària i equips | H12: 7145 | I12: 0.025181948 | J12: 7075 | M12: 21- Fabricació de productes farmacèutics | N12: 3240 | O12: 0.011419106 | P12: 3195 | Q12: 45 | R12: 0.014084507
A13: 11- Fabricació de begudes | B13: 1495 | C13: =B13/$B$92 -> 0.005269001 | D13: 1405 | G13: 26- Fabricació de productes informàtics, electrònics i òptics | H13: 950 | I13: 0.0033481946 | J13: 865 | M13: 22- Fabricació de productes de cautxú i matèries plàstiques | N13: 2680 | O13: 0.0094454332 | P13: 2635 | Q13: 45 | R13: 0.017077799
A14: 12- Indústries del tabac | B14: 0 | C14: =B14/$B$92 -> 0 | D14: 0 | G14: 27- Fabricació de materials i equips elèctrics | H14: 2630 | I14: 0.0092692125 | J14: 2260 | M14: 42- Construcció d'obres d'enginyeria civil | N14: 1425 | O14: 0.0050222919 | P14: 1380 | Q14: 45 | R14: 0.032608696
A15: 13- Indústries tèxtils | B15: 800 | C15: =B15/$B$92 -> 0.0028195323 | D15: 865 | G15: 28- Fabricació de maquinària i equips ncaa | H15: 3480 | I15: 0.012264966 | J15: 3360 | M15: 64- Mediació financera, excepte assegurances i fons de pensions | N15: 1550 | O15: 0.0054628439 | P15: 1495 | Q15: 55 | R15: 0.036789298
... A55: 59- Activitats de cinematografia, de vídeo i de programes de televisió; activitats d'enregistrament de so i edició musical | B55: 870 | C55: =B55/$B$92 -> 0.0030662414 | D55: 795 | G55: Total | H55: 283735 | I55: 1 | J55: 271720 | M55: Total | N55: 283735 | O55: 1 | P55: 271720 | Q55: 12015 | R55: 0.044218313
A56: 60- Activitats d'emissió i programació de ràdio i televisió | B56: 2340 | C56: =B56/$B$92 -> 0.008247132 | D56: 2250
A57: 61- Telecomunicacions | B57: 305 | C57: =B57/$B$92 -> 0.0010749467 | D57: 290
A58: 62- Serveis de tecnologies de la informació | B58: 5010 | C58: =B58/$B$92 -> 0.017657321 | D58: 4405
A59: 63- Serveis d'informació | B59: 425 | C59: =B59/$B$92 -> 0.0014978765 | D59: 690
A60: 64- Mediació financera, excepte assegurances i fons de pensions | B60: 1550 | C60: =B60/$B$92 -> 0.0054628439 | D60: 1495
A61: 65- Assegurances, reassegurances i fons de pensions, excepte la Seguretat Social obligatòria | B61: 475 | C61: =B61/$B$92 -> 0.0016740973 | D61: 505
A62: 66- Activitats auxiliars de la mediació financera i d'assegurances | B62: 525 | C62: =B62/$B$92 -> 0.0018503181 | D62: 540
A63: 68- Activitats immobiliàries | B63: 2395 | C63: =B63/$B$92 -> 0.0084409749 | D63: 2470
A64: 69- Activitats jurídiques i de comptabilitat | B64: 4410 | C64: =B64/$B$92 -> 0.015542672 | D64: 4245
A65: 70- Activitats de les seus centrals; activitats de consultoria de gestió empresarial | B65: 1265 | C65: =B65/$B$92 -> 0.0044583855 | D65: 1140
A66: 71- Serveis tècnics d'arquitectura i enginyeria; assajos i anàlisis tècnics | B66: 5875 | C66: =B66/$B$92 -> 0.02070594 | D66: 5590
A67: 72- Recerca i desenvolupament | B67: 1250 | C67: =B67/$B$92 -> 0.0044055192 | D67: 1110
... A92: Total | B92: 283735 | C92: =B92/$B$92 -> 1 | D92: 271720

Sheet TRGSS3
A1: TORNAR A L'ÍNDEX
A3: =TRGSS1!A3 -> LLOCS DE TREBALL. RÈGIM GENERAL SEGURETAT SOCIAL.
A5: =Índex!A32 -> TRGSS3 | C5: =Índex!A7 -> 2n trimestre 2022
A6: =Índex!B21 -> Dades municipals.
B8: Llocs de treball (RGSS) | C8: % Baix Llobregat | D8: variació relativa (en %)
B9: Empreses | D9: 2021 | E9: 2020 | F9: 2019 | G9: 2008
A10: Abrera | B10: 6495 | C10: 0.022891078 | D10: -0.011415525 | E10: -0.030307554 | F10: -0.0091533181 | G10: 0.036877395
A11: Begues | B11: 610 | C11: 0.0021498934 | D11: 0.0082644628 | E11: -0.019292605 | F11: -0.085457271 | G11: -0.081325301
A12: Castelldefels | B12: 12595 | C12: 0.044390012 | D12: 0.091421144 | E12: 0.10086531 | F12: 0.063407633 | G12: 0.1965609
A13: Castellví de Rosanes | B13: 1010 | C13: 0.0035596595 | D13: 0.12849162 | E13: 0.024340771 | F13: 0.054279749 | G13: 0.099020675
A14: Cervelló | B14: 2125 | C14: 0.0074893827 | D14: 0.03406326 | E14: 0.030552861 | F14: 0.0023584906 | G14: 0.14864865
A15: Collbató | B15: 475 | C15: 0.0016740973 | D15: 0.055555556 | E15: 0.10465116 | F15: 0.014957265 | G15: -0.14874552
A16: Corbera de Llobregat | B16: 1305 | C16: 0.0045993621 | D16: -0.0038167939 | E16: 0.0069444444 | F16: -0.083567416 | G16: 0.003074558
A17: Cornellà de Llobregat | B17: 40225 | C17: 0.14176961 | D17: 0.039271412 | E17: 0.1267507 | F17: 0.13556164 | G17: 0.32641957
A18: El Papiol | B18: 1995 | C18: 0.0070312087 | D18: 0.06684492 | E18: 0.14985591 | F18: 0.13352273 | G18: -0.11529933
A19: El Prat de Llobregat | B19: 51205 | C19: 0.18046769 | D19: 0.067326733 | E19: 0.20567459 | F19: 0.21097815 | G19: 0.48128327
A20: Esparreguera | B20: 4855 | C20: 0.017111037 | D20: 0.061202186 | E20: 0.09841629 | F20: 0.043861535 | G20: -0.0556312
A21: Esplugues de Llobregat | B21: 19235 | C21: 0.06779213 | D21: 0.0036524915 | E21: 0.13796368 | F21: 0.1366188 | G21: 0.11746935
... A40: BAIX LLOBREGAT | B40: 283735 | C40: 1 | D40: 0.044218313 | E40: 0.10622246 | F40: 0.083520453 | G40: 0.14634846
A42: Les dades de 2021 provenen d'Idescat, a partir dels fitxers d'afiliacions i comptes de cotització de la Tresoreria General de la Seguretat Social. Dades provisionals.
A46: Zona | B46: 2022 2T | C46: 2021 2T | D46: 2020 2T | E46: 20219 2T | F46: 2008 2T | G46: 2008-2022 | H46: 2019-2022 | I46: 2020-2022 | J46: 2021-2022 | K46: Zona Centre: Cornellà de Llobregat, Esplugues de Llobregat, Sant Joan Despí, Sant Feliu de Llobregat i Sant Just Desvern.
A47: Centre | B47: 100805 | C47: 97150 | D47: 90475 | E47: 91197 | F47: 81894 | G47: 0.23092046 | H47: 0.10535434 | I47: 0.11417519 | J47: 0.037622234 | K47: Zona Delta: Begues, Castelldefels, El Prat de Llobregat, Gavà, Sant Boi de Llobregat, Sant Climent de Llobregat i Viladecans.
A48: Delta | B48: 116130 | C48: 109995 | D48: 103623 | E48: 106196 | F48: 94310 | G48: 0.23136465 | H48: 0.093544013 | I48: 0.12069714 | J48: 0.055775263 | K48: Zona Nord: Abrera, Castellví de Rosanes, Collbató, Esparreguera, Martorell, Olesa de Montserrat, Sant Andreu de la Barca i Sant Esteve Sesrovires.
A49: Nord | B49: 40990 | C49: 39210 | D49: 38073 | E49: 39386 | F49: 42711 | G49: -0.040294069 | H49: 0.040725131 | I49: 0.076615975 | J49: 0.045396583 | K49: Zona Vall Baixa: Cervelló, Corbera de Llobregat, El Papiol, La Palma de Cervelló, Molins de Rei, Pallejà, Sant Vicenç dels Horts, Santa Coloma de Cervelló, Torrelles de Llobregat i Vallirana.
A50: Vall Baixa | B50: 25810 | C50: 25365 | D50: 24319 | E50: 25085 | F50: 28597 | G50: -0.097457775 | H50: 0.028901734 | I50: 0.061310087 | J50: 0.01754386
A51: Total | B51: 283735 | C51: 271720 | D51: 256490 | E51: 261864 | F51: 247512 | G51: 0.14634846 | H51: 0.083520453 | I51: 0.10622246 | J51: 0.044218313

Sheet TRGSS4
A1: TORNAR A L'ÍNDEX
A3: =TRGSS1!A3 -> LLOCS DE TREBALL. RÈGIM GENERAL SEGURETAT SOCIAL.
A5: =Índex!A33 -> TRGSS4 | C5: =Índex!A7 -> 2n trimestre 2022
A6: =Índex!B33 -> Dades municipals. Llocs de treball assalariat per grandària del compte de cotització.
B8: Fins a 50 treballadors | C8: De 51 a 250 treballadors | D8: 251 i més treballadors | E8: % Baix Llobregat | H8: variació relativa 2021 (en %)
C9: De 51 a 250 treballadors | E9: Fins a 50 treballadors | F9: De 51 a 250 treballadors | G9: 251 i més treballadors | H9: Fins a 50 treballadors | I9: De 51 a 250 treballadors | J9: 251 i més treballadors
A10: Abrera | B10: 2980 | C10: 2605 | D10: 915 | E10: 0.025508239 | F10: 0.033127742 | G10: 0.010365336 | H10: 0.034722222 | I10: -0.064631957 | J10: 0.011049724
A11: Begues | B11: 610 | C11: 0 | D11: 0 | E11: 0.0052214851 | F11: 0 | G11: 0 | H11: 0.0082644628 | I11: - | J11: -
A12: Castelldefels | B12: 8845 | C12: 3075 | D12: 675 | E12: 0.075711534 | F12: 0.039104724 | G12: 0.007646559 | H12: 0.066305003 | I12: 0.17366412 | J12: 0.071428571
A13: Castellví de Rosanes | B13: 545 | C13: 120 | D13: 350 | E13: 0.0046650974 | F13: 0.001526038 | G13: 0.0039648825 | H13: 0.018691589 | I13: 0.84615385 | J13: 0.18644068
A14: Cervelló | B14: 1350 | C14: 775 | D14: 0 | E14: 0.011555746 | F14: 0.0098556622 | G14: 0 | H14: 0.018867925 | I14: 0.061643836 | J14: -
A15: Collbató | B15: 475 | C15: 0 | D15: 0 | E15: 0.0040659105 | F15: 0 | G15: 0 | H15: 0.06741573 | I15: - | J15: -
A16: Corbera de Llobregat | B16: 1010 | C16: 295 | D16: 0 | E16: 0.0086454098 | F16: 0.0037515101 | G16: 0 | H16: 0.0049751244 | I16: -0.016666667 | J16: -
A17: Cornellà de Llobregat | B17: 14205 | C17: 9725 | D17: 16300 | E17: 0.12159212 | F17: 0.12367266 | G17: 0.18465024 | H17: 0.016457961 | I17: 0.10323313 | J17: 0.024191015
A18: Esparreguera | B18: 2985 | C18: 1505 | D18: 365 | E18: 0.025551038 | F18: 0.01913906 | G18: 0.004134806 | H18: 0.0016778523 | I18: 0.14015152 | J18: 0.30357143
A19: Esplugues de Llobregat | B19: 5915 | C19: 5860 | D19: 7455 | E19: 0.050631286 | F19: 0.074521523 | G19: 0.084451997 | H19: -0.0405515 | I19: 0.077205882 | J19: -0.013888889
A20: Gavà | B20: 6690 | C20: 4715 | D20: 1120 | E20: 0.05726514 | F20: 0.059960577 | G20: 0.012687624 | H20: -0.030434783 | I20: 0.1772784 | J20: -0.21126761
A21: Martorell | B21: 4090 | C21: 2435 | D21: 3390 | E21: 0.03500963 | F21: 0.030965855 | G21: 0.038402719 | H21: 0.080581242 | I21: 0.014583333 | J21: 0.049535604
A22: Molins de Rei | B22: 5065 | C22: 1795 | D22: 0 | E22: 0.043355446 | F22: 0.022826985 | G22: 0 | H22: 0.044329897 | I22: -0.024456522 | J22: -
A23: Olesa de Montserrat | B23: 2195 | C23: 1455 | D23: 0 | E23: 0.018788787 | F23: 0.018503211 | G23: 0 | H23: -0.047722343 | I23: 0.12355212 | J23: -
A24: Pallejà | B24: 1715 | C24: 860 | D24: 0 | E24: 0.014680077 | F24: 0.010936606 | G24: 0 | H24: 0.03313253 | I24: -0.011494253 | J24: -
A25: Palma de Cervelló, la | B25: 520 | C25: 0 | D25: 0 | E25: 0.0044511021 | F25: 0 | G25: 0 | H25: -0.028037383 | I25: -1 | J25: -
A26: Papiol, el | B26: 1150 | C26: 845 | D26: 0 | E26: 0.0098437834 | F26: 0.010745851 | G26: 0 | H26: -0.012875536 | I26: 0.19014085 | J26: -
A27: Prat de Llobregat, el | B27: 10290 | C27: 10625 | D27: 30290 | E27: 0.088080462 | F27: 0.13511795 | G27: 0.34313226 | H27: -0.027410208 | I27: 0.14493534 | J27: 0.077360839
A28: Sant Andreu de la Barca | B28: 4475 | C28: 2325 | D28: 2510 | E28: 0.038305157 | F28: 0.029566987 | G28: 0.028433871 | H28: -0.039699571 | I28: 0.15671642 | J28: 0.32453826
A29: Sant Boi de Llobregat | B29: 10405 | C29: 7240 | D29: 5285 | E29: 0.089064841 | F29: 0.092070961 | G29: 0.059869725 | H29: 0.0062862669 | I29: 0.10957854 | J29: 0.057
A30: Sant Climent de Llobregat | B30: 465 | C30: 70 | D30: 0 | E30: 0.0039803124 | F30: 0.00089018885 | G30: 0 | H30: 0.021978022 | I30: 0 | J30: -
A31: Sant Esteve Sesrovires | B31: 1950 | C31: 2035 | D31: 1295 | E31: 0.016691633 | F31: 0.025879061 | G31: 0.014670065 | H31: 0.048387097 | I31: 0.046272494 | J31: -0.03358209
A32: Sant Feliu de Llobregat | B32: 5470 | C32: 3625 | D32: 6455 | E32: 0.04682217 | F32: 0.046099065 | G32: 0.073123761 | H32: -0.0081595648 | I32: 0.10350076 | J32: 0.050447518
A33: Sant Joan Despí | B33: 5080 | C33: 3620 | D33: 4670 | E33: 0.043483843 | F33: 0.04603548 | G33: 0.05290286 | H33: 0.022132797 | I33: 0.11901082 | J33: 0.026373626
A34: Sant Just Desvern | B34: 4970 | C34: 4755 | D34: 2700 | E34: 0.042542264 | F34: 0.060469257 | G34: 0.030586236 | H34: 0.028985507 | I34: 0.0404814 | J34: 0.24137931
A35: Sant Vicenç dels Horts | B35: 3000 | C35: 2980 | D35: 310 | E35: 0.025679435 | F35: 0.037896611 | G35: 0.003511753 | H35: -0.029126214 | I35: 0.11610487 | J35: -0.088235294
A36: Santa Coloma de Cervelló | B36: 900 | C36: 655 | D36: 295 | E36: 0.0077038305 | F36: 0.0083296242 | G36: 0.0033418295 | H36: 0.046511628 | I36: -0.04379562 | J36: 0.072727273
A37: Torrelles de Llobregat | B37: 530 | C37: 0 | D37: 0 | E37: 0.0045367002 | F37: 0 | G37: 0 | H37: 0.0095238095 | I37: - | J37: -
A38: Vallirana | B38: 1600 | C38: 155 | D38: 0 | E38: 0.013695699 | F38: 0.0019711324 | G38: 0 | H38: 0.14285714 | I38: -0.64367816 | J38: -
A39: Viladecans | B39: 7340 | C39: 4490 | D39: 3900 | E39: 0.062829018 | F39: 0.057099256 | G39: 0.044180119 | H39: 0.029453015 | I39: -0.067497404 | J39: 0.21684867
A40: BAIX LLOBREGAT | B40: 116825 | C40: 78635 | D40: 88275 | E40: 1 | F40: 1 | G40: 1 | H40: 0.010509471 | I40: 0.079706165 | J40: 0.059914751
A42: Les dades de 2021 provenen d'Idescat, a partir dels fitxers d'afiliacions i comptes de cotització de la Tresoreria General de la Seguretat Social. Dades provisionals.

Sheet TRGS5
A1: TORNAR A L'ÍNDEX
A3: =TRGSS1!A3 -> LLOCS DE TREBALL. RÈGIM GENERAL SEGURETAT SOCIAL.
A5: =Índex!A34 -> TRGSS5 | C5: =Índex!A7 -> 2n trimestre 2022
A6: =Índex!B34 -> Dades municipals. Relació entre població ocupada i llocs de treball.
B9: P. Règim General resident al municipi | C9: P. Règim General treballant al municipi | D9: Diferència residents-treballant (abs) | E9: Diferència residents-treballant (%)
A11: Abrera | B11: 5262 | C11: 6495 | D11: =+B11-C11 -> -1233 | E11: =+D11/B11 -> -0.23432155
A12: Begues | B12: 2762 | C12: 610 | D12: =+B12-C12 -> 2152 | E12: =+D12/B12 -> 0.77914555
A13: Castelldefels | B13: 24545 | C13: 12595 | D13: =+B13-C13 -> 11950 | E13: =+D13/B13 -> 0.48686087
A14: Castellví de Rosanes | B14: 826 | C14: 1010 | D14: =+B14-C14 -> -184 | E14: =+D14/B14 -> -0.22276029
A15: Cervelló | B15: 3505 | C15: 2125 | D15: =+B15-C15 -> 1380 | E15: =+D15/B15 -> 0.39372325
A16: Collbató | B16: 1813 | C16: 475 | D16: =+B16-C16 -> 1338 | E16: =+D16/B16 -> 0.73800331
A17: Corbera de Llobregat | B17: 5826 | C17: 1305 | D17: =+B17-C17 -> 4521 | E17: =+D17/B17 -> 0.77600412
A18: Cornellà de Llobregat | B18: 34086 | C18: 40225 | D18: =+B18-C18 -> -6139 | E18: =+D18/B18 -> -0.18010327
A19: El Papiol | B19: 1697 | C19: 1995 | D19: =+B19-C19 -> -298 | E19: =+D19/B19 -> -0.17560401
A20: El Prat de Llobregat | B20: 25517 | C20: 51205 | D20: =+B20-C20 -> -25688 | E20: =+D20/B20 -> -1.0067014
A21: Esparreguera | B21: 8792 | C21: 4855 | D21: =+B21-C21 -> 3937 | E21: =+D21/B21 -> 0.44779345
A22: Esplugues de Llobregat | B22: 16284 | C22: 19235 | D22: =+B22-C22 -> -2951 | E22: =+D22/B22 -> -0.18122083
... A41: BAIX LLOBREGAT | B41: 320640 | C41: 283735 | D41: =+B41-C41 -> 36905 | E41: =+D41/B41 -> 0.11509793
A42: Font: OCBL a partir de dades d'IDESCAT, afiliacions segons residència padronal i compte de cotització. Les dades corresponen al segon trimestre.

Sheet TRGSS6
A1: TORNAR A L'ÍNDEX
A3: =TRGSS1!A3 -> LLOCS DE TREBALL. RÈGIM GENERAL SEGURETAT SOCIAL.
A5: =Índex!A35 -> TRGSS6 | C5: =Índex!A7 -> 2n trimestre 2022
A6: =Índex!B35 -> Dades municipals. Llocs de treball assalariat ocupats per dones.
B8: Llocs de treball ocupats per dones | C8: % total llocs de treball
C9: De 51 a 250 treballadors
A10: Abrera | B10: 1841 | C10: 0.27860169
A11: Begues | B11: 356 | C11: 0.47593583
A12: Castelldefels | B12: 6126 | C12: 0.47926772
A13: Castellví de Rosanes | B13: 375 | C13: 0.3585086
A14: Cervelló | B14: 980 | C14: 0.43710972
A15: Collbató | B15: 260 | C15: 0.46345811
A16: Corbera de Llobregat | B16: 770 | C16: 0.53361053
A17: Cornellà de Llobregat | B17: 16039 | C17: 0.39669074
A18: Esparreguera | B18: 2017 | C18: 0.40235388
A19: Esplugues de Llobregat | B19: 10513 | C19: 0.54277454
A20: Gavà | B20: 5268 | C20: 0.41650854
A21: Martorell | B21: 4105 | C21: 0.40793004
... A39: Viladecans | B39: 7611 | C39: 0.47889008
A40: BAIX LLOBREGAT | B40: =SUM(B10:B39) -> 127061 | C40: =B40/D48 -> 0.44192671
A42: Les dades de 2021 provenen d'Idescat, a partir dels fitxers d'afiliacions i comptes de cotització de la Tresoreria General de la Seguretat Social. Dades provisionals.
D48: 287516
D49: =D48-B40 -> 160455

Sheet GRETA1
A1: TORNAR A L'ÍNDEX
A3: LLOCS DE TREBALL. RÈGIM ESPECIAL TREBALLADORS AUTÒNOMS
A5: GRETA1 | C5: =Índex!A7 -> 2n trimestre 2022
A6: Llocs de treball del RETA segons àmbit territorial.
A29: Les dades de 2021 provenen d'Idescat, a partir dels fitxers d'afiliacions i comptes de cotització de la Tresoreria General de la Seguretat Social. Dades provisionals.
B31: RETA | C31: variació 2022-2021 | D31: variació 2022-2020 | E31: variació 2022-2019 | F31: variació 2022-2008
A32: Baix Llobregat | B32: 48960 | C32: 0.00020429009 | D32: -0.018345865 | E32: -0.030725372 | F32: -0.11541519
A33: Àrea Metropolitana de Barcelona | B33: 227808 | C33: 0.0047412595 | D33: 0.023258321 | E33: 0.011145288 | F33: -0.014926922
A34: Àmbit Territorial Metropolità | B34: 345730 | C34: 0.0028280953 | D34: 0.041512276 | E34: 0.02809241 | F34: -0.017589225
A35: Catalunya | B35: 558875 | C35: 0.0023225367 | D35: 0.026453151 | E35: 0.0076701026 | F35: -0.060586399

Sheet GRETA2
A1: TORNAR A L'ÍNDEX
A3: LLOCS DE TREBALL. RÈGIM ESPECIAL TREBALLADORS AUTÒNOMS
A5: =Índex!A40 -> GRETA2 | C5: =Índex!A7 -> 2n trimestre 2022
A6: =Índex!B40 -> Variació interanual llocs de treball autònom. Baix Llobregat.
A29: Les dades de 2022 i 2021 provenen d'Idescat, a partir dels fitxers d'afiliacions i comptes de cotització de la Tresoreria General de la Seguretat Social. Dades provisionals.
B31: Llocs de treball RETA | C31: Variació interanual
A32: 2016 | B32: 50609 | C32: =(B32-B40)/B40 -> 0.0034499851
A33: 2017 | B33: 50685 | C33: =(B33-B32)/B32 -> 0.0015017092
A34: 2018 | B34: 50612 | C34: =(B34-B33)/B33 -> -0.0014402683
A35: 2019 | B35: 50512 | C35: =(B35-B34)/B34 -> -0.001975816
A36: 2020 | B36: 49875 | C36: =(B36-B35)/B35 -> -0.012610865
A37: 2021 | B37: 48950 | C37: =(B37-B36)/B36 -> -0.018546366
A38: 2022 | B38: 48960 | C38: =(B38-B37)/B37 -> 0.00020429009
A40: 2015 | B40: 50435

Sheet TRETA1
A1: TORNAR A L'ÍNDEX
A3: =[1]GRETA1!A3 -> LLOCS DE TREBALL. RÈGIM ESPECIAL TREBALLADORS AUTÒNOMS
A5: =[1]Índex!A36 -> TRETA1 | C5: =[1]Índex!A7 -> 2n trimestre 2022
A6: =[1]Índex!B27 -> Activitats econòmiques més rellevants. Baix Llobregat.
D8: Variació
B9: 2021 | C9: %total | D9: 2021-2022 | E9: 2020-2022 | F9: 2019-2022 | G9: 2008-2022
A10: Total | B10: 48960 | D10: 0.00020429009 | E10: -0.018345865 | F10: -0.030725372 | G10: -0.11541519
A11: 47- Comerç al detall, excepte el comerç de vehicles de motor i motocicletes | B11: 6645 | C11: 0.13572304 | D11: -0.0096870343 | E11: -0.061705733 | F11: -0.087601263 | G11: -0.2025681
A12: 49- Transport terrestre; transport per canonades | B12: 5220 | C12: 0.10661765 | D12: -0.033333333 | E12: -0.027389603 | F12: -0.036189069 | G12: -0.20487433
A13: 43- Activitats especialitzades de la construcció | B13: 4880 | C13: 0.099673203 | D13: -0.020080321 | E13: -0.045943304 | F13: -0.045009785 | G13: -0.34329162
A14: 56- Serveis de menjar i begudes | B14: 4705 | C14: 0.096098856 | D14: 0.016198704 | E14: 0.031798246 | F14: 0.019722583 | G14: -0.018155259
A15: 46- Comerç a l'engròs i intermediaris del comerç, excepte vehicles de motor i motocicletes | B15: 2990 | C15: 0.061070261 | D15: -0.016447368 | E15: -0.047770701 | F15: -0.062989658 | G15: -0.085626911
A16: 96- Altres activitats de serveis personals | B16: 2735 | C16: 0.055861928 | D16: 0.018621974 | E16: -0.0029165148 | F16: 0.0040381791 | G16: 0.25286303
A17: 86- Activitats sanitàries | B17: 1975 | C17: 0.040339052 | D17: 0.050531915 | E17: 0.090557703 | F17: 0.11267606 | G17: 0.92120623
A18: 41- Construcció d'immobles | B18: 1560 | C18: 0.031862745 | D18: 0.02295082 | E18: 0.031064111 | F18: 0.049092132 | G18: -0.23114835
A19: 85- Educació | B19: 1395 | C19: 0.028492647 | D19: 0.056818182 | E19: 0.060836502 | F19: 0.028761062 | G19: 0.57984145
A20: 45- Venda i reparació de vehicles de motor i motocicletes | B20: 1185 | C20: 0.024203431 | D20: -0.028688525 | E20: -0.014962594 | F20: -0.049719326 | G20: -0.17248603
A23: Les dades de 2022 i 2021 provenen d'Idescat, a partir dels fitxers d'afiliacions i comptes de cotització de la Tresoreria General de la Seguretat Social. Dades provisionals.

Sheet TRETA2
A1: TORNAR A L'ÍNDEX
A3: =[3]TRETA1!A3 -> LLOCS DE TREBALL. RÈGIM ESPECIAL TREBALLADORS AUTÒNOMS
A5: =[3]Índex!A37 -> TRETA2 | C5: =[3]Índex!A7 -> 2n trimestre 2022
A6: =[3]Índex!B28 -> Dinamisme llocs de treball.
A7: ACTIVITATS QUE MÉS HAN AUGMENTAT L'AFILIACIÓ | B7: n | C7: Variació anual
C8: n | D8: %
A9: 86- Activitats sanitàries | B9: 1975 | C9: 95 | D9: 0.050531915
A10: 56- Serveis de menjar i begudes | B10: 4705 | C10: 75 | D10: 0.016198704
A11: 85- Educació | B11: 1395 | C11: 75 | D11: 0.056818182
A12: 96- Altres activitats de serveis personals | B12: 2735 | C12: 50 | D12: 0.018621974
A13: 62- Serveis de tecnologies de la informació | B13: 900 | C13: 40 | D13: 0.046511628
A14: 41- Construcció d'immobles | B14: 1560 | C14: 35 | D14: 0.02295082
A15: 93- Activitats esportives, recreatives i d'entreteniment | B15: 470 | C15: 35 | D15: 0.08045977
A16: 73- Publicitat i estudis de mercat | B16: 610 | C16: 30 | D16: 0.051724138
A17: 74- Altres activitats professionals, científiques i tècniques | B17: 1120 | C17: 30 | D17: 0.027522936
A18: 90- Activitats de creació, artístiques i d'espectacles | B18: 535 | C18: 30 | D18: 0.059405941
A19: ACTIVITATS QUE MÉS HAN DISMINUÏT L'AFILIACIÓ | B19: n | C19: Variació anual
C20: n | D20: %
A21: 49- Transport terrestre; transport per canonades | B21: 5220 | C21: -180 | D21: -0.033333333
A22: 43- Activitats especialitzades de la construcció | B22: 4880 | C22: -100 | D22: -0.020080321
A23: 47- Comerç al detall, excepte el comerç de vehicles de motor i motocicletes | B23: 6645 | C23: -65 | D23: -0.0096870343
A24: 46- Comerç a l'engròs i intermediaris del comerç, excepte vehicles de motor i motocicletes | B24: 2990 | C24: -50 | D24: -0.016447368
A25: 95- Reparació d'ordinadors, d'efectes personals i efectes domèstics | B25: 585 | C25: -40 | D25: -0.064
A26: 45- Venda i reparació de vehicles de motor i motocicletes | B26: 1185 | C26: -35 | D26: -0.028688525
A27: 66- Activitats auxiliars de la mediació financera i d'assegurances | B27: 670 | C27: -35 | D27: -0.04964539
A28: 25- Fabricació de productes metàl·lics, excepte maquinària i equips | B28: 685 | C28: -25 | D28: -0.035211268
A29: 71- Serveis tècnics d'arquitectura i enginyeria; assajos i anàlisis tècnics | B29: 900 | C29: -25 | D29: -0.027027027
A30: 1- Agricultura, ramaderia, caça i activitats dels serveis que s'hi relacionen | B30: 345 | C30: -15 | D30: -0.041666667
A32: Les dades de 2022 i 2021 provenen d'Idescat, a partir dels fitxers d'afiliacions i comptes de cotització de la Tresoreria General de la Seguretat Social. Dades provisionals.

Sheet DIN_RETA
B1: Fet! | G1: 0.003 | M1: variació | Q1: quan ordenis, millor copiïs les cel·les calculades abans
B3: 2022 | C3: 20.22 | D3: 2021 | G3: 2022 | H3: 20.22 | I3: 2021 | J3: var absoluta | K3: var relativa | N3: 2022 | O3: 20.22 | P3: 2021 | Q3: var absoluta | R3: º
A4: 1- Agricultura, ramaderia, caça i activitats dels serveis que s'hi relacionen | B4: 328 | C4: 0.0067261355 | D4: 360 | F4: 1- Agricultura, ramaderia, caça i activitats dels serveis que s'hi relacionen | G4: 328 | H4: 0.0067261355 | I4: 360 | J4: =G4-I4 -> -32 | K4: =J4/I4 -> -0.088888889 | M4: 86- Activitats sanitàries | N4: 2022 | O4: 0.041464165 | P4: 1916 | Q4: 106 | R4: 0.055323591
A5: 2- Silvicultura i explotació forestal | B5: 0 | C5: 0 | D5: 20 | F5: 10- Indústries de productes alimentaris | G5: 162 | H5: 0.0033220548 | I5: 208 | J5: =G5-I5 -> -46 | K5: =J5/I5 -> -0.22115385 | M5: 85- Educació | N5: 1410 | O5: 0.02891418 | P5: 1354 | Q5: 56 | R5: 0.041358936
A6: 3- Pesca i aqüicultura | B6: 0 | C6: 0 | D6: .. | F6: 18- Arts gràfiques i reproducció de suports enregistrats | G6: 326 | H6: 0.0066851225 | I6: 353 | J6: =G6-I6 -> -27 | K6: =J6/I6 -> -0.076487252 | M6: 41- Construcció d'immobles | N6: 1645 | O6: 0.03373321 | P6: 1606 | Q6: 39 | R6: 0.024283935
A7: 5- Extracció d'antracita, hulla i lignit | B7: 0 | C7: 0 | D7: 0 | F7: 25- Fabricació de productes metàl·lics, excepte maquinària i equips | G7: 673 | H7: 0.013800882 | I7: 711 | J7: =G7-I7 -> -38 | K7: =J7/I7 -> -0.053445851 | M7: 62- Serveis de tecnologies de la informació | N7: 896 | O7: 0.018373834 | P7: 865 | Q7: 31 | R7: 0.03583815
A8: 6- Extracció de petroli brut i de gas natural | B8: 0 | C8: 0 | D8: 0 | F8: 28- Fabricació de maquinària i equips ncaa | G8: 158 | H8: 0.0032400287 | I8: 199 | J8: =G8-I8 -> -41 | K8: =J8/I8 -> -0.20603015 | M8: 74- Altres activitats professionals, científiques i tècniques | N8: 1135 | O8: 0.02327489 | P8: 1109 | Q8: 26 | R8: 0.023444545
A9: 7- Extracció de minerals metàl·lics | B9: 0 | C9: 0 | D9: 0 | F9: 31- Fabricació de mobles | G9: 150 | H9: 0.0030759766 | I9: 182 | J9: =G9-I9 -> -32 | K9: =J9/I9 -> -0.17582418 | M9: 93- Activitats esportives, recreatives i d'entreteniment | N9: 463 | O9: 0.0094945145 | P9: 450 | Q9: 13 | R9: 0.028888889
A10: 8- Extracció de minerals no metàl·lics ni energètics | B10: 0 | C10: 0 | D10: 8 | F10: 33- Reparació i instal·lació de maquinària i equips | G10: 460 | H10: 0.009432995 | I10: 472 | J10: =G10-I10 -> -12 | K10: =J10/I10 -> -0.025423729 | M10: 79- Activitats de les agències de viatges, operadors turístics i altres serveis de reserves i activitats que s'hi relacionen | N10: 254 | O10: 0.0052086537 | P10: 247 | Q10: 7 | R10: 0.028340081
A11: 9- Activitats de suport a les indústries extractives | B11: 0 | C11: 0 | D11: .. | F11: 41- Construcció d'immobles | G11: 1645 | H11: 0.03373321 | I11: 1606 | J11: =G11-I11 -> 39 | K11: =J11/I11 -> 0.024283935 | M11: 96- Altres activitats de serveis personals | N11: 2901 | O11: 0.059489388 | P11: 2896 | Q11: 5 | R11: 0.0017265193
A12: 10- Indústries de productes alimentaris | B12: 162 | C12: 0.0033220548 | D12: 208 | F12: 42- Construcció d'obres d'enginyeria civil | G12: 176 | H12: 0.0036091459 | I12: 212 | J12: =G12-I12 -> -36 | K12: =J12/I12 -> -0.16981132 | M12: 72- Recerca i desenvolupament | N12: 211 | O12: 0.0043268738 | P12: 207 | Q12: 4 | R12: 0.019323671
A13: 11- Fabricació de begudes | B13: 0 | C13: 0 | D13: 15 | F13: 43- Activitats especialitzades de la construcció | G13: 4996 | H13: 0.10245053 | I13: 5120 | J13: =G13-I13 -> -124 | K13: =J13/I13 -> -0.02421875 | M13: 90- Activitats de creació, artístiques i d'espectacles | N13: 526 | O13: 0.010786425 | P13: 522 | Q13: 4 | R13: 0.0076628352
A14: 12- Indústries del tabac | B14: 0 | C14: 0 | D14: 0 | F14: 45- Venda i reparació de vehicles de motor i motocicletes | G14: 1193 | H14: 0.024464267 | I14: 1230 | J14: =G14-I14 -> -37 | K14: =J14/I14 -> -0.030081301 | M14: 73- Publicitat i estudis de mercat | N14: 645 | O14: 0.013226699 | P14: 642 | Q14: 3 | R14: 0.0046728972
A15: 13- Indústries tèxtils | B15: 37 | C15: 0.0007587409 | D15: 72 | F15: 46- Comerç a l'engròs i intermediaris del comerç, excepte vehicles de motor i motocicletes | G15: 3121 | H15: 0.06400082 | I15: 3215 | J15: =G15-I15 -> -94 | K15: =J15/I15 -> -0.029237947 | M15: 81- Serveis a edificis i activitats de jardineria | N15: 771 | O15: 0.01581052 | P15: 769 | Q15: 2 | R15: 0.0026007802
A16: 14- Confecció de peces de vestir | B16: 144 | C16: 0.0029529376 | D16: 162 | F16: 47- Comerç al detall, excepte el comerç de vehicles de motor i motocicletes | G16: 6928 | H16: 0.14206911 | I16: 7138 | J16: =G16-I16 -> -210 | K16: =J16/I16 -> -0.029420006 | M16: 68- Activitats immobiliàries | N16: 846 | O16: 0.017348508 | P16: 845 | Q16: 1 | R16: 0.001183432
A17: 15- Indústria del cuir i del calçat | B17: 0 | C17: 0 | D17: 16 | F17: 49- Transport terrestre; transport per canonades | G17: 5188 | H17: 0.10638778 | I17: 5337 | J17: =G17-I17 -> -149 | K17: =J17/I17 -> -0.027918306 | M17: 69- Activitats jurídiques i de comptabilitat | N17: 1098 | O17: 0.022516149 | P17: 1100 | Q17: -2 | R17: -0.0018181818
A18: 16- Indústria de la fusta i del suro, excepte mobles; cistelleria i esparteria | B18: 98 | C18: 0.0020096381 | D18: 145 | F18: 52- Emmagatzematge i activitats afins al transport | G18: 158 | H18: 0.0032400287 | I18: 185 | J18: =G18-I18 -> -27 | K18: =J18/I18 -> -0.14594595 | M18: 82- Activitats administratives d'oficina i altres activitats auxiliars a les empreses | N18: 744 | O18: 0.015256844 | P18: 746 | Q18: -2 | R18: -0.0026809651
A19: 17- Indústries del paper | B19: 0 | C19: 0 | D19: 35 | F19: 53- Activitats postals i de correus | G19: 207 | H19: 0.0042448477 | I19: 231 | J19: =G19-I19 -> -24 | K19: =J19/I19 -> -0.1038961 | M19: 33- Reparació i instal·lació de maquinària i equips | N19: 460 | O19: 0.009432995 | P19: 472 | Q19: -12 | R19: -0.025423729
A20: 18- Arts gràfiques i reproducció de suports enregistrats | B20: 326 | C20: 0.0066851225 | D20: 353 | F20: 56- Serveis de menjar i begudes | G20: 4471 | H20: 0.09168461 | I20: 4488 | J20: =G20-I20 -> -17 | K20: =J20/I20 -> -0.0037878788 | M20: 56- Serveis de menjar i begudes | N20: 4471 | O20: 0.09168461 | P20: 4488 | Q20: -17 | R20: -0.0037878788
A21: 19- Coqueries i refinació del petroli | B21: 0 | C21: 0 | D21: 0 | F21: 59- Activitats de cinematografia, de vídeo i de programes de televisió; activitats d'enregistrament de so i edició musical | G21: 172 | H21: 0.0035271199 | I21: 200 | J21: =G21-I21 -> -28 | K21: =J21/I21 -> -0.14 | M21: 70- Activitats de les seus centrals; activitats de consultoria de gestió empresarial | N21: 412 | O21: 0.0084486825 | P21: 435 | Q21: -23 | R21: -0.052873563
A22: 20- Indústries químiques | B22: 34 | C22: 0.00069722137 | D22: 65 | F22: 62- Serveis de tecnologies de la informació | G22: 896 | H22: 0.018373834 | I22: 865 | J22: =G22-I22 -> 31 | K22: =J22/I22 -> 0.03583815 | M22: 53- Activitats postals i de correus | N22: 207 | O22: 0.0042448477 | P22: 231 | Q22: -24 | R22: -0.1038961
A23: 21- Fabricació de productes farmacèutics | B23: 0 | C23: 0 | D23: .. | F23: 66- Activitats auxiliars de la mediació financera i d'assegurances | G23: 715 | H23: 0.014662155 | I23: 746 | J23: =G23-I23 -> -31 | K23: =J23/I23 -> -0.04155496 | M23: 18- Arts gràfiques i reproducció de suports enregistrats | N23: 326 | O23: 0.0066851225 | P23: 353 | Q23: -27 | R23: -0.076487252
A24: 22- Fabricació de productes de cautxú i matèries plàstiques | B24: 71 | C24: 0.0014559623 | D24: 110 | F24: 68- Activitats immobiliàries | G24: 846 | H24: 0.017348508 | I24: 845 | J24: =G24-I24 -> 1 | K24: =J24/I24 -> 0.001183432 | M24: 52- Emmagatzematge i activitats afins al transport | N24: 158 | O24: 0.0032400287 | P24: 185 | Q24: -27 | R24: -0.14594595
A25: 23- Fabricació d'altres productes minerals no metàl·lics | B25: 33 | C25: 0.00067671486 | D25: 89 | F25: 69- Activitats jurídiques i de comptabilitat | G25: 1098 | H25: 0.022516149 | I25: 1100 | J25: =G25-I25 -> -2 | K25: =J25/I25 -> -0.0018181818 | M25: 59- Activitats de cinematografia, de vídeo i de programes de televisió; activitats d'enregistrament de so i edició musical | N25: 172 | O25: 0.0035271199 | P25: 200 | Q25: -28 | R25: -0.14
A26: 24- Metal·lúrgia; fabricació de productes bàsics de ferro, acer i ferroaliatges | B26: 66 | C26: 0.0013534297 | D26: 103 | F26: 70- Activitats de les seus centrals; activitats de consultoria de gestió empresarial | G26: 412 | H26: 0.0084486825 | I26: 435 | J26: =G26-I26 -> -23 | K26: =J26/I26 -> -0.052873563 | M26: 77- Activitats de lloguer | N26: 279 | O26: 0.0057213165 | P26: 308 | Q26: -29 | R26: -0.094155844
A27: 25- Fabricació de productes metàl·lics, excepte maquinària i equips | B27: 673 | C27: 0.013800882 | D27: 711 | F27: 71- Serveis tècnics d'arquitectura i enginyeria; assajos i anàlisis tècnics | G27: 934 | H27: 0.019153081 | I27: 973 | J27: =G27-I27 -> -39 | K27: =J27/I27 -> -0.04008222 | M27: 66- Activitats auxiliars de la mediació financera i d'assegurances | N27: 715 | O27: 0.014662155 | P27: 746 | Q27: -31 | R27: -0.04155496
A28: 26- Fabricació de productes informàtics, electrònics i òptics | B28: 25 | C28: 0.00051266277 | D28: 74 | F28: 72- Recerca i desenvolupament | G28: 211 | H28: 0.0043268738 | I28: 207 | J28: =G28-I28 -> 4 | K28: =J28/I28 -> 0.019323671 | M28: 1- Agricultura, ramaderia, caça i activitats dels serveis que s'hi relacionen | N28: 328 | O28: 0.0067261355 | P28: 360 | Q28: -32 | R28: -0.088888889
A29: 27- Fabricació de materials i equips elèctrics | B29: 0 | C29: 0 | D29: 36 | F29: 73- Publicitat i estudis de mercat | G29: 645 | H29: 0.013226699 | I29: 642 | J29: =G29-I29 -> 3 | K29: =J29/I29 -> 0.0046728972 | M29: 31- Fabricació de mobles | N29: 150 | O29: 0.0030759766 | P29: 182 | Q29: -32 | R29: -0.17582418
A30: 28- Fabricació de maquinària i equips ncaa | B30: 158 | C30: 0.0032400287 | D30: 199 | F30: 74- Altres activitats professionals, científiques i tècniques | G30: 1135 | H30: 0.02327489 | I30: 1109 | J30: =G30-I30 -> 26 | K30: =J30/I30 -> 0.023444545 | M30: 42- Construcció d'obres d'enginyeria civil | N30: 176 | O30: 0.0036091459 | P30: 212 | Q30: -36 | R30: -0.16981132
A31: 29- Fabricació de vehicles de motor, remolcs i semiremolcs | B31: 5 | C31: 0.00010253255 | D31: 31 | F31: 77- Activitats de lloguer | G31: 279 | H31: 0.0057213165 | I31: 308 | J31: =G31-I31 -> -29 | K31: =J31/I31 -> -0.094155844 | M31: 45- Venda i reparació de vehicles de motor i motocicletes | N31: 1193 | O31: 0.024464267 | P31: 1230 | Q31: -37 | R31: -0.030081301
A32: 30- Fabricació d'altres materials de transport | B32: 5 | C32: 0.00010253255 | D32: 21 | F32: 79- Activitats de les agències de viatges, operadors turístics i altres serveis de reserves i activitats que s'hi relacionen | G32: 254 | H32: 0.0052086537 | I32: 247 | J32: =G32-I32 -> 7 | K32: =J32/I32 -> 0.028340081 | M32: 25- Fabricació de productes metàl·lics, excepte maquinària i equips | N32: 673 | O32: 0.013800882 | P32: 711 | Q32: -38 | R32: -0.053445851
A33: 31- Fabricació de mobles | B33: 150 | C33: 0.0030759766 | D33: 182 | F33: 81- Serveis a edificis i activitats de jardineria | G33: 771 | H33: 0.01581052 | I33: 769 | J33: =G33-I33 -> 2 | K33: =J33/I33 -> 0.0026007802 | M33: 71- Serveis tècnics d'arquitectura i enginyeria; assajos i anàlisis tècnics | N33: 934 | O33: 0.019153081 | P33: 973 | Q33: -39 | R33: -0.04008222
A34: 32- Indústries manufactureres diverses | B34: 99 | C34: 0.0020301446 | D34: 148 | F34: 82- Activitats administratives d'oficina i altres activitats auxiliars a les empreses | G34: 744 | H34: 0.015256844 | I34: 746 | J34: =G34-I34 -> -2 | K34: =J34/I34 -> -0.0026809651 | M34: 28- Fabricació de maquinària i equips ncaa | N34: 158 | O34: 0.0032400287 | P34: 199 | Q34: -41 | R34: -0.20603015
A35: 33- Reparació i instal·lació de maquinària i equips | B35: 460 | C35: 0.009432995 | D35: 472 | F35: 85- Educació | G35: 1410 | H35: 0.02891418 | I35: 1354 | J35: =G35-I35 -> 56 | K35: =J35/I35 -> 0.041358936 | M35: 10- Indústries de productes alimentaris | N35: 162 | O35: 0.0033220548 | P35: 208 | Q35: -46 | R35: -0.22115385
A36: 35- Subministrament d'energia elèctrica, gas, vapor i aire condicionat | B36: 0 | C36: 0 | D36: 20 | F36: 86- Activitats sanitàries | G36: 2022 | H36: 0.041464165 | I36: 1916 | J36: =G36-I36 -> 106 | K36: =J36/I36 -> 0.055323591 | M36: 62- Serveis de tecnologies de la informació | N36: 888 | O36: 0.017457634 | P36: 837 | Q36: =P36-N36 -> -51 | R36: =+Q36/P36 -> -0.0609319
A37: 36- Captació, potabilització i distribució d'aigua | B37: 0 | C37: 0 | D37: .. | F37: 90- Activitats de creació, artístiques i d'espectacles | G37: 526 | H37: 0.010786425 | I37: 522 | J37: =G37-I37 -> 4 | K37: =J37/I37 -> 0.0076628352 | M37: 85- Educació | N37: 1408 | O37: 0.027680572 | P37: 1353 | Q37: =P37-N37 -> -55 | R37: =+Q37/P37 -> -0.040650407
A38: 37- Recollida i tractament d'aigües residuals | B38: 0 | C38: 0 | D38: 10 | F38: 93- Activitats esportives, recreatives i d'entreteniment | G38: 463 | H38: 0.0094945145 | I38: 450 | J38: =G38-I38 -> 13 | K38: =J38/I38 -> 0.028888889 | M38: 95- Reparació d'ordinadors, d'efectes personals i efectes domèstics | N38: 634 | O38: 0.013001128 | P38: 690 | Q38: -56 | R38: -0.08115942
A39: 38- Activitats de recollida, tractament i eliminació de residus; activitats de valorització | B39: 0 | C39: 0 | D39: 33 | F39: 95- Reparació d'ordinadors, d'efectes personals i efectes domèstics | G39: 634 | H39: 0.013001128 | I39: 690 | J39: =G39-I39 -> -56 | K39: =J39/I39 -> -0.08115942 | M39: 96- Altres activitats de serveis personals | N39: 2941 | O39: 0.057818582 | P39: 2850 | Q39: =P39-N39 -> -91 | R39: =+Q39/P39 -> -0.031929825
A40: 39- Activitats de descontaminació i altres serveis de gestió de residus | B40: 0 | C40: 0 | D40: .. | F40: 96- Altres activitats de serveis personals | G40: 2901 | H40: 0.059489388 | I40: 2896 | J40: =G40-I40 -> 5 | K40: =J40/I40 -> 0.0017265193 | M40: 46- Comerç a l'engròs i intermediaris del comerç, excepte vehicles de motor i motocicletes | N40: 3121 | O40: 0.06400082 | P40: 3215 | Q40: -94 | R40: -0.029237947
A41: 41- Construcció d'immobles | B41: 1645 | C41: 0.03373321 | D41: 1606 | F41: Total | G41: 48765 | H41: 1 | I41: 50721 | J41: =G41-I41 -> -1956 | K41: =J41/I41 -> -0.038563908 | M41: 86- Activitats sanitàries | N41: 1991 | O41: 0.03914206 | P41: 1892 | Q41: =P41-N41 -> -99 | R41: =+Q41/P41 -> -0.052325581
A42: 42- Construcció d'obres d'enginyeria civil | B42: 176 | C42: 0.0036091459 | D42: 212 | F42: 51- Transport aeri | G42: 3121 | H42: 0.06400082 | I42: 3215 | J42: =G42-I42 -> -94 | K42: =J42/I42 -> -0.029237947 | M42: 43- Activitats especialitzades de la construcció | N42: 4996 | O42: 0.10245053 | P42: 5120 | Q42: -124 | R42: -0.02421875
A43: 43- Activitats especialitzades de la construcció | B43: 4996 | C43: 0.10245053 | D43: 5120 | F43: 5- Extracció d'antracita, hulla i lignit | G43: 4996 | H43: 0.10245053 | I43: 5120 | J43: =G43-I43 -> -124 | K43: =J43/I43 -> -0.02421875 | M43: 49- Transport terrestre; transport per canonades | N43: 5188 | O43: 0.10638778 | P43: 5337 | Q43: -149 | R43: -0.027918306
A44: 45- Venda i reparació de vehicles de motor i motocicletes | B44: 1193 | C44: 0.024464267 | D44: 1230 | F44: 53- Activitats postals i de correus | G44: 5188 | H44: 0.10638778 | I44: 5337 | J44: =G44-I44 -> -149 | K44: =J44/I44 -> -0.027918306 | M44: 47- Comerç al detall, excepte el comerç de vehicles de motor i motocicletes | N44: 6928 | O44: 0.14206911 | P44: 7138 | Q44: -210 | R44: -0.029420006
A45: 46- Comerç a l'engròs i intermediaris del comerç, excepte vehicles de motor i motocicletes | B45: 3121 | C45: 0.06400082 | D45: 3215 | F45: 52- Emmagatzematge i activitats afins al transport | G45: 6928 | H45: 0.14206911 | I45: 7138 | J45: =G45-I45 -> -210 | K45: =J45/I45 -> -0.029420006 | M45: Total | N45: 48765 | O45: 1 | P45: 50721 | Q45: -1956 | R45: -0.038563908
A46: 47- Comerç al detall, excepte el comerç de vehicles de motor i motocicletes | B46: 6928 | C46: 0.14206911 | D46: 7138 | F46: Total | G46: 48765 | H46: 1 | I46: 50721 | J46: =G46-I46 -> -1956 | K46: =J46/I46 -> -0.038563908
A47: 49- Transport terrestre; transport per canonades | B47: 5188 | C47: 0.10638778 | D47: 5337 | M47: Total | N47: 50866 | O47: 1 | P47: 50368 | Q47: =P47-N47 -> -498 | R47: =+Q47/P47 -> -0.00988723
A48: 50- Transport marítim i per vies de navegació interiors | B48: 0 | C48: 0 | D48: 5
A49: 51- Transport aeri | B49: 0 | C49: 0 | D49: 13
A50: 52- Emmagatzematge i activitats afins al transport | B50: 158 | C50: 0.0032400287 | D50: 185
A51: 53- Activitats postals i de correus | B51: 207 | C51: 0.0042448477 | D51: 231
A52: 55- Serveis d'allotjament | B52: 68 | C52: 0.0013944427 | D52: 100
A53: 56- Serveis de menjar i begudes | B53: 4471 | C53: 0.09168461 | D53: 4488
A54: 58- Edició | B54: 124 | C54: 0.0025428073 | D54: 169
A55: 59- Activitats de cinematografia, de vídeo i de programes de televisió; activitats d'enregistrament de so i edició musical | B55: 172 | C55: 0.0035271199 | D55: 200
A56: 60- Activitats d'emissió i programació de ràdio i televisió | B56: 0 | C56: 0 | D56: 13
A57: 61- Telecomunicacions | B57: 61 | C57: 0.0012508972 | D57: 91
A58: 62- Serveis de tecnologies de la informació | B58: 896 | C58: 0.018373834 | D58: 865
A59: 63- Serveis d'informació | B59: 145 | C59: 0.0029734441 | D59: 174
... A88: 96- Altres activitats de serveis personals | B88: 2901 | C88: 0.059489388 | D88: 2896
A89: 97- Activitats de les llars que donen ocupació a personal domèstic | B89: 0 | C89: 0 | D89: ..
A90: 98- Activitats de les llars que produeixen béns i serveis per a ús propi | B90: 0 | C90: 0 | D90: 0
A91: 99- Organismes extraterritorials | B91: 0 | C91: 0 | D91: ..
A92: Total | B92: 48765 | C92: =B92/$B$92 -> 1 | D92: 50721

Sheet TRETA3
A1: TORNAR A L'ÍNDEX
A3: =GRETA1!A3 -> LLOCS DE TREBALL. RÈGIM ESPECIAL TREBALLADORS AUTÒNOMS
A5: =Índex!A43 -> TRETA3 | C5: =Índex!A7 -> 2n trimestre 2022
A6: =Índex!B21 -> Dades municipals.
B8: Llocs de treball (RETA) | C8: % Baix Llobregat | D8: variació relativa (en %)
B9: Empreses | D9: 2021 | E9: 2020 | F9: 2019 | G9: 2008
A10: Abrera | B10: 615 | C10: =B10/$B$40 -> 0.012561275 | D10: -0.016 | E10: -0.019138756 | F10: -0.042056075 | G10: -0.19291339
A11: Begues | B11: 520 | C11: =B11/$B$40 -> 0.010620915 | D11: 0.0097087379 | E11: -0.25714286 | F11: -0.25820257 | G11: -0.13333333
A12: Castelldefels | B12: 4715 | C12: =B12/$B$40 -> 0.096303105 | D12: 0.010718114 | E12: -0.1093691 | F12: -0.11438768 | G12: -0.092920354
A13: Castellví de Rosanes | B13: 130 | C13: =B13/$B$40 -> 0.0026552288 | D13: 0 | E13: -0.21212121 | F13: -0.19753086 | G13: -0.14473684
A14: Cervelló | B14: 660 | C14: =B14/$B$40 -> 0.013480392 | D14: 0 | E14: -0.21985816 | F14: -0.22352941 | G14: -0.1613723
A15: Collbató | B15: 290 | C15: =B15/$B$40 -> 0.0059232026 | D15: 0.054545455 | E15: -0.30952381 | F15: -0.32242991 | G15: -0.17847025
A16: Corbera de Llobregat | B16: 990 | C16: =B16/$B$40 -> 0.020220588 | D16: 0.0050761421 | E16: -0.26503341 | F16: -0.27631579 | G16: -0.24714829
A17: Cornellà de Llobregat | B17: 4840 | C17: =B17/$B$40 -> 0.098856209 | D17: -0.0041152263 | E17: 0.15761779 | F17: 0.1493707 | G17: 0.026511135
A18: El Papiol | B18: 385 | C18: =B18/$B$40 -> 0.0078635621 | D18: 0.026666667 | E18: 0.072423398 | F18: 0.037735849 | G18: 0.026666667
A19: El Prat de Llobregat | B19: 3080 | C19: =B19/$B$40 -> 0.062908497 | D19: 0.0065359477 | E19: 0.094527363 | F19: 0.067961165 | G19: -0.080322484
A20: Esparreguera | B20: 1350 | C20: =B20/$B$40 -> 0.027573529 | D20: -0.02173913 | E20: 0.074840764 | F20: 0.049766719 | G20: -0.11184211
A21: Esplugues de Llobregat | B21: 2955 | C21: =B21/$B$40 -> 0.060355392 | D21: 0.0085324232 | E21: -0.025717112 | F21: -0.040895813 | G21: -0.20048701
... A39: Viladecans | B39: 3690 | C39: =B39/$B$40 -> 0.075367647 | D39: -0.0027027027 | E39: -0.0016233766 | F39: -0.026385224 | G39: -0.16723087
A40: BAIX LLOBREGAT | B40: 48960 | C40: 1 | D40: 0.00020429009 | E40: -0.018345865 | F40: -0.030725372 | G40: -0.11541519
A42: Les dades de 2022 i 2021 provenen d'Idescat, a partir dels fitxers d'afiliacions i comptes de cotització de la Tresoreria General de la Seguretat Social. Dades provisionals.
A44: Zona | B44: 2022 2T | C44: 2021 2T | D44: 2020 2T | E44: 20219 2T | F44: 2008 2T | G44: 2008-2022 | H44: 2019-2022 | I44: 2020-2022 | J44: 2021-2022 | K44: Zona Centre: Cornellà de Llobregat, Esplugues de Llobregat, Sant Joan Despí, Sant Feliu de Llobregat i Sant Just Desvern.
A45: Centre | B45: 13910 | C45: 13930 | D45: 13815 | E45: 13952 | F45: 15314 | G45: -0.091680815 | H45: -0.0030103211 | I45: 0.0068765834 | J45: -0.0014357502 | K45: Zona Delta: Begues, Castelldefels, El Prat de Llobregat, Gavà, Sant Boi de Llobregat, Sant Climent de Llobregat i Viladecans.
A46: Delta | B46: 19590 | C46: 19515 | D46: 20004 | E46: 20255 | F46: 22478 | G46: -0.12848118 | H46: -0.0328314 | I46: -0.020695861 | J46: 0.0038431975 | K46: Zona Nord: Abrera, Castellví de Rosanes, Collbató, Esparreguera, Martorell, Olesa de Montserrat, Sant Andreu de la Barca i Sant Esteve Sesrovires.
A47: Nord | B47: 7180 | C47: 7190 | D47: 6766 | E47: 6867 | F47: 7817 | G47: -0.081489062 | H47: 0.045580312 | I47: 0.061188294 | J47: -0.0013908206 | K47: Zona Vall Baixa: Cervelló, Corbera de Llobregat, El Papiol, La Palma de Cervelló, Molins de Rei, Pallejà, Sant Vicenç dels Horts, Santa Coloma de Cervelló, Torrelles de Llobregat i Vallirana.
A48: Vall Baixa | B48: 8285 | C48: 8315 | D48: 9290 | E48: 9438 | F48: 9739 | G48: -0.14929664 | H48: -0.12216571 | I48: -0.10818084 | J48: -0.0036079375
A49: Total | B49: 48965 | C49: 48950 | D49: 49875 | E49: 50512 | F49: 55348 | G49: -0.11532485 | H49: -0.030626386 | I49: -0.018245614 | J49: 0.00030643514

Sheet T7S1
A1: TORNAR A L'ÍNDEX
A3: =Índex!A45 -> ANÀLISI SEGONS 7 SECTORS PRODUCTIUS
A5: =Índex!A47 -> T7S1 | B5: =Índex!A7 -> 2n trimestre 2022
A6: =Índex!B47 -> Llocs de treball segons àmbit territorial
A7: SUMA LLOCS TREBALL (RETA+RGSS)
B8: Baix Llobregat | D8: ATM | F8: Catalunya
B9: n | C9: % | D9: n | E9: % | F9: n | G9: %
A10: AGRICULTURA | B10: 520 | C10: 0.0015629931 | D10: 3125 | E10: 0.0013213922 | F10: 32065 | G10: 0.0091560265
A11: CONSTRUCCIÓ | B11: 25780 | C11: 0.07748839 | D11: 129935 | E11: 0.05494243 | F11: 220495 | G11: 0.062961424
A12: COMERÇ | B12: 70420 | C12: 0.21166534 | D12: 410625 | E12: 0.17363093 | F12: 613025 | G12: 0.17504672
A13: INDÚSTRIA | B13: 52110 | C13: 0.15662995 | D13: 264655 | E13: 0.11190817 | F13: 459125 | G13: 0.13110122
A14: SERVEIS A LA CIUTADANIA | B14: 46070 | C14: 0.13847518 | D14: 484010 | E14: 0.20466145 | F14: 707840 | G14: 0.20212075
A15: SERVEIS AL CONSUMIDOR | B15: 40585 | C15: 0.12198861 | D15: 310265 | E15: 0.13119416 | F15: 494835 | G15: 0.14129806
A16: SERVEIS RELACIONATS AMB L’EMPRESA | B16: 97210 | C16: 0.29218954 | D16: 761865 | E16: 0.32215118 | F16: 974160 | G16: 0.27816731
A17: Total | B17: 332695 | C17: 1 | D17: 2364930 | E17: 1 | F17: 3502065 | G17: 1
A18: Font: OCBL, a partir de les dades d'Estadística de l'ocupació assalariada i autònoma segons afiliacions a la Seguretat Social d'IDESCAT.

Sheet G7S1
A1: TORNAR A L'ÍNDEX
A3: =Índex!A45 -> ANÀLISI SEGONS 7 SECTORS PRODUCTIUS
A5: =Índex!A48 -> G7S1 | C5: =Índex!A7 -> 2n trimestre 2022
A6: =Índex!B48 -> Variació intertrimestral llocs de treball. Baix Llobregat.
A25: Font: OCBL, a partir de les dades d'Estadística de l'ocupació assalariada i autònoma segons afiliacions a la Seguretat Social d'IDESCAT.
B27: 2T 2022 | C27: var trimestral (%)
A28: Agricultura | B28: 907 | C28: 0.037757437
A29: Construcció | B29: 26020 | C29: 0.013476669
A30: Comerç | B30: 70904 | C30: 0.019922611
A31: Indústria | B31: 51764 | C31: 0.011568827
A32: Serveis a la ciutadania | B32: 46249 | C32: -0.12240987
A33: Serveis al consumidor | B33: 44658 | C33: -0.01917375
A34: Serveis relacionats amb l'empresa | B34: 97750 | C34: 0.017296645
A35: Total llocs treball | B35: =SUM(B28:B34) -> 338252 | C35: -0.009679091

Sheet T7S2
A1: TORNAR A L'ÍNDEX
A3: =Índex!A45 -> ANÀLISI SEGONS 7 SECTORS PRODUCTIUS
A5: =Índex!A49 -> T7S2 | C5: =Índex!A7 -> 2n trimestre 2022
A6: =Índex!B49 -> Llocs de treball segons municipi.
A8: Treballadors per activitats econòmiques | L8: Distribució dels llocs de treball segons sectors productius
A9: Municipi | B9: Agricultura | C9: Construcció | D9: Comerç | E9: Indústria | F9: Serveis a la ciutadania | G9: Serveis al consumidor | H9: Serveis relacionats amb l'empresa | I9: Total | L9: Municipi | M9: Agricultura | N9: Construcció | O9: Comerç | P9: Indústria | Q9: Serveis a la ciutadania | R9: Serveis al consumidor | S9: Serveis relacionats amb l'empresa
A10: Abrera | B10: 15 | C10: 474 | D10: 1029 | E10: 2707 | F10: 374 | G10: 364 | H10: 2162 | I10: 7125 | L10: Abrera | M10: 0.0021052632 | N10: 0.066526316 | O10: 0.14442105 | P10: 0.37992982 | Q10: 0.052491228 | R10: 0.051087719 | S10: 0.3034386
A11: Begues | B11: 14 | C11: 162 | D11: 263 | E11: 135 | F11: 242 | G11: 241 | H11: 287 | I11: 1344 | L11: Begues | M11: 0.010416667 | N11: 0.12053571 | O11: 0.19568452 | P11: 0.10044643 | Q11: 0.18005952 | R11: 0.17931548 | S11: 0.21354167
A12: Castelldefels | B12: 13 | C12: 1370 | D12: 3278 | E12: 944 | F12: 2633 | G12: 5402 | H12: 4920 | I12: 18560 | L12: Castelldefels | M12: 0.00070043103 | N12: 0.073814655 | O12: 0.17661638 | P12: 0.050862069 | Q12: 0.14186422 | R12: 0.29105603 | S12: 0.26508621
A13: Castellví de Rosanes | B13: 2 | C13: 58 | D13: 168 | E13: 269 | F13: 156 | G13: 45 | H13: 462 | I13: 1160 | L13: Castellví de Rosanes | M13: 0.0017241379 | N13: 0.05 | O13: 0.14482759 | P13: 0.23189655 | Q13: 0.13448276 | R13: 0.038793103 | S13: 0.39827586
A14: Cervelló | B14: 0 | C14: 258 | D14: 594 | E14: 797 | F14: 356 | G14: 371 | H14: 612 | I14: 2988 | L14: Cervelló | M14: 0 | N14: 0.086345382 | O14: 0.19879518 | P14: 0.2667336 | Q14: 0.11914324 | R14: 0.12416332 | S14: 0.20481928
A15: Collbató | B15: 3 | C15: 135 | D15: 176 | E15: 102 | F15: 154 | G15: 139 | H15: 178 | I15: 887 | L15: Collbató | M15: 0.0033821871 | N15: 0.15219842 | O15: 0.19842165 | P15: 0.11499436 | Q15: 0.17361894 | R15: 0.156708 | S15: 0.20067644
A16: Corbera de Llobregat | B16: 13 | C16: 336 | D16: 437 | E16: 323 | F16: 534 | G16: 446 | H16: 631 | I16: 2720 | L16: Corbera de Llobregat | M16: 0.0047794118 | N16: 0.12352941 | O16: 0.16066176 | P16: 0.11875 | Q16: 0.19632353 | R16: 0.16397059 | S16: 0.23198529
A17: Cornellà de Llobregat | B17: 48 | C17: 5491 | D17: 9481 | E17: 5476 | F17: 2943 | G17: 5380 | H17: 16073 | I17: 44892 | L17: Cornellà de Llobregat | M17: 0.0010692328 | N17: 0.12231578 | O17: 0.21119576 | P17: 0.12198164 | Q17: 0.065557338 | R17: 0.11984318 | S17: 0.35803707
A18: El Papiol | B18: 21 | C18: 175 | D18: 708 | E18: 700 | F18: 97 | G18: 204 | H18: 427 | I18: 2332 | L18: Esparreguera | M18: 0.0090051458 | N18: 0.075042882 | O18: 0.30360206 | P18: 0.30017153 | Q18: 0.041595197 | R18: 0.087478559 | S18: 0.18310463
A19: El Prat de Llobregat | B19: 63 | C19: 1656 | D19: 14419 | E19: 4291 | F19: 3700 | G19: 3346 | H19: 26981 | I19: 54456 | L19: Esplugues de Llobregat | M19: 0.0011568973 | N19: 0.030409872 | O19: 0.26478258 | P19: 0.078797561 | Q19: 0.067944763 | R19: 0.061444102 | S19: 0.49546423
A20: Esparreguera | B20: 17 | C20: 446 | D20: 1366 | E20: 1485 | F20: 555 | G20: 607 | H20: 1697 | I20: 6173 | L20: Gavà | M20: 0.0027539284 | N20: 0.072250121 | O20: 0.22128625 | P20: 0.24056375 | Q20: 0.089907662 | R20: 0.098331443 | S20: 0.27490685
A21: Esplugues de Llobregat | B21: 30 | C21: 876 | D21: 4262 | E21: 3411 | F21: 3564 | G21: 4661 | H21: 6073 | I21: 22877 | L21: Martorell | M21: 0.0013113608 | N21: 0.038291734 | O21: 0.18630065 | P21: 0.14910172 | Q21: 0.15578966 | R21: 0.20374175 | S21: 0.26546313
... A40: Total | B40: 907 | C40: 26020 | D40: 70904 | E40: 51764 | F40: 46249 | G40: 44658 | H40: 97750 | I40: 338252 | L40: BAIX LLOBREGAT | M40: 0.0026814328 | N40: 0.076924896 | O40: 0.20961886 | P40: 0.15303383 | Q40: 0.13672942 | R40: 0.13202583 | S40: 0.28898573
A41: Font: OCBL, a partir dels registres mensuals de treballadors en alta darrer dia del mes de l'INSS | L41: Font: OCBL, a partir dels registres mensuals de treballadors en alta darrer dia del mes de l'INSS
A45: Zona | B45: Agricultura | C45: Construcció | D45: Comerç | E45: Indústria | F45: Serveis a la ciutadania | G45: Serveis al consumidor | H45: Serveis relacionats amb l'empresa | I45: Total | L45: Zona | M45: Agricultura | N45: Construcció | O45: Comerç | P45: Indústria | Q45: Serveis a la ciutadania | R45: Serveis al consumidor | S45: Serveis relacionats amb l'empresa
A46: Centre | B46: 153 | C46: 9064 | D46: 23159 | E46: 15009 | F46: 17160 | G46: 19296 | H46: 32839 | I46: 116680 | L46: Centre | M46: 0.0013112787 | N46: 0.077682551 | O46: 0.19848303 | P46: 0.12863387 | Q46: 0.14706891 | R46: 0.16537539 | S46: 0.28144498
A47: Delta | B47: 491 | C47: 9812 | D47: 32447 | E47: 14434 | F47: 17736 | G47: 17171 | H47: 46021 | I47: 138112 | L47: Delta | M47: 0.0035550857 | N47: 0.071043791 | O47: 0.23493252 | P47: 0.10450938 | Q47: 0.12841752 | R47: 0.12432663 | S47: 0.33321507
A48: Nord | B48: 148 | C48: 3462 | D48: 7282 | E48: 15159 | F48: 6855 | G48: 3802 | H48: 11279 | I48: 47987 | L48: Nord | M48: 0.0030841686 | N48: 0.072144539 | O48: 0.15174943 | P48: 0.31589806 | Q48: 0.14285119 | R48: 0.079229791 | S48: 0.23504282
A49: Vall Baixa | B49: 115 | C49: 3682 | D49: 8016 | E49: 7162 | F49: 4498 | G49: 4389 | H49: 7611 | I49: 35473 | L49: Vall Baixa | M49: 0.0032419023 | N49: 0.10379725 | O49: 0.22597468 | P49: 0.20190004 | Q49: 0.12680067 | R49: 0.12372791 | S49: 0.21455755
A50: Total | B50: 907 | C50: 26020 | D50: 70904 | E50: 51764 | F50: 46249 | G50: 44658 | H50: 97750 | I50: 338252 | L50: Total | M50: 0.0026814328 | N50: 0.076924896 | O50: 0.20961886 | P50: 0.15303383 | Q50: 0.13672942 | R50: 0.13202583 | S50: 0.28898573
A51: Font: OCBL, a partir dels registres mensuals de treballadors en alta darrer dia del mes de l'INSS | L51: Font: OCBL, a partir dels registres mensuals de treballadors en alta darrer dia del mes de l'INSS
G54: Distribució dels llocs de treball segons sectors productius. Baix Llobregat.
G82: Font: OCBL, a partir dels registres mensuals de treballadors en alta darrer dia del mes de l'INSS

Sheet G7S2
A1: TORNAR A L'ÍNDEX
A3: =Índex!A45 -> ANÀLISI SEGONS 7 SECTORS PRODUCTIUS
A5: =Índex!A50 -> G7S2 | C5: =Índex!A7 -> 2n trimestre 2022
A6: =Índex!B50 -> Llocs de treball segons sexe.
A8: % dones segons sectors productius i àmbits territorials.
B9: Baix Llobregat | C9: AMB | D9: Catalunya
A10: Agricultura | B10: 0.24285714 | C10: 0.24305556 | D10: 0.25160565
A11: Construcció | B11: 0.11990445 | C11: 0.14692786 | D11: 0.13853627
A12: Comerç | B12: 0.47374943 | C12: 0.5123926 | D12: 0.51171671
A13: Indústria | B13: 0.32076155 | C13: 0.33005009 | D13: 0.32116283
A14: Serveis a la ciutadania | B14: 0.69101662 | C14: 0.66936536 | D14: 0.67368018
A15: Serveis al consumidor | B15: 0.50515888 | C15: 0.48467233 | D15: 0.50787991
A16: Serveis relacionats a l'empresa | B16: 0.4103812 | C16: 0.4554783 | D16: 0.45155809
A17: Total | B17: 0.44073703 | C17: 0.49437708 | D17: 0.48326646
A18: Font: OCBL, a partir dels registres mensuals de treballadors en alta darrer dia del mes de l'INSS.
A19: *Als registres amb secret estadístic (menys de 5 individus) se'ls hi ha assignat un 5.
A21: Llocs de treball segons sexe i sectors productius.
A44: Font: OCBL, a partir dels registres mensuals de treballadors en alta darrer dia del mes de l'INSS.

Sheet T7S3
A1: TORNAR A L'ÍNDEX
A3: =Índex!A45 -> ANÀLISI SEGONS 7 SECTORS PRODUCTIUS
A5: =Índex!A51 -> T7S3 | C5: =Índex!A7 -> 2n trimestre 2022
A6: =Índex!B51 -> Diferencial segons sexe de les activitats econòmiques.
B8: % | C8: Absolut
A9: Agricultura | B9: -0.67924528 | C9: -108
A10: Construcció | B10: -0.86375974 | C10: -14639
A11: Comerç | B11: -0.099764511 | C11: -3135
A12: Indústria | B12: -0.52776296 | C12: -17812
A13: Serveis a la ciutadania | B13: 1.23642 | C13: 16343
A14: Serveis al consumidor | B14: 0.020850656 | C14: 326
A15: Serveis relacionats a l'empresa | B15: -0.30398894 | C15: -14952
A16: Font: OCBL, a partir dels registres mensuals de treballadors en alta darrer dia del mes de l'INSS.

Sheet TTC1
A1: TORNAR A L'ÍNDEX
A3: =Índex!A53 -> ÚS DE TECNOLOGIA i CONEIXEMENT
A5: =Índex!A55 -> TTC1 | C5: =Índex!A7 -> 2n trimestre 2022
A6: =Índex!B55 -> Llocs de treball segons ús de tecnologia i coneixement. Baix Llobregat i àmbits territorials.
B9: INDÚSTRIA | C9: SERVEIS
B10: Activitats de tecnologia alta i mitjana-alta | C10: Activitats basades en el coneixement
A11: Baix Llobregat | B11: =+SUMIF(I:I,B$11,M:M)/SUMIF(J:J,"Indústria",M:M) -> 0.38328247 | C11: =+SUMIF(I:I,C$11,M:M)/SUMIF(J:J,"Serveis",M:M) -> 0.41410784
A12: Àmbit Territorial Metropolità | B12: =+SUMIF(I:I,B$11,N:N)/SUMIF(J:J,"Indústria",N:N) -> 0.41292741 | C12: =+SUMIF(I:I,C$11,N:N)/SUMIF(J:J,"Serveis",N:N) -> 0.52660006
A13: Catalunya | B13: =+SUMIF(I:I,B$11,O:O)/SUMIF(J:J,"Indústria",O:O) -> 0.32850109 | C13: =+SUMIF(I:I,C$11,O:O)/SUMIF(J:J,"Serveis",O:O) -> 0.50677574
A14: Font: OCBL a partir de les dades d'afiliacions publicades per IDESCAT.
A19: % llocs de treball d'activitats d'indústria de tecnologia alta i mitjana alta i de serveis basades en el coneixement.
A34: Font: OCBL a partir de les dades d'afiliacions publicades per IDESCAT.

Sheet TTC2
A1: TORNAR A L'ÍNDEX
A3: =Índex!A53 -> ÚS DE TECNOLOGIA i CONEIXEMENT
A5: =Índex!A56 -> TTC2 | C5: =Índex!A7 -> 2n trimestre 2022
A6: =Índex!B56 -> Llocs de treball segons ús de tecnologia i coneixement. Dades municipals.
B8: INDÚSTRIA | C8: SERVEIS
B9: Activitats de tecnologia alta i mitjana-alta | C9: Activitats basades en el coneixement
A10: Abrera | B10: 0.59830007 | C10: 0.17070289
A11: Begues | B11: 0.04379562 | C11: 0.34504792
A12: Castelldefels | B12: 0.36878216 | C12: 0.31613254
A13: Castellví de Rosanes | B13: 0.22592593 | C13: 0.37184874
A14: Cervelló | B14: 0.6357868 | C14: 0.29814004
A15: Collbató | B15: 0.32758621 | C15: 0.33680556
A16: Corbera de Llobregat | B16: 0.72815534 | C16: 0.36876356
A17: Cornellà de Llobregat | B17: 0.39941585 | C17: 0.34623278
A18: El Papiol | B18: 0.33687003 | C18: 0.099322799
A19: El Prat de Llobregat | B19: 0.30610393 | C19: 0.30349635
A20: Esparreguera | B20: 0.32991672 | C20: 0.29408714
A21: Esplugues de Llobregat | B21: 0.23043096 | C21: 0.37593677
... A39: Viladecans | B39: 0.25670347 | C39: 0.2624698
A40: Font: OCBL, a partir de les dades de l'INSS.

Sheet Instamaps dones
A1: Codi_INE | B1: Municipi | C1: Agricultura | D1: Construcció | E1: Comerç | F1: Indústria | G1: Serveis a la ciutadania | H1: Serveis al consumidor | I1: Serveis relacionats amb empresa | J1: Total_Dones | L1: Fet!
A2: =[4]Empreses!A4 -> 08001 | B2: =[4]Empreses!B4 -> Abrera | C2: 0.3125 | D2: 0.15698925 | E2: 0.35707845 | F2: 0.2276511 | G2: 0.69553806 | H2: 0.58009709 | I2: 0.25573034 | J2: 0.27695111
A3: =[4]Empreses!A5 -> 08020 | B3: =[4]Empreses!B5 -> Begues | C3: 0.3125 | D3: 0.13812155 | E3: 0.4738806 | F3: 0.37339056 | G3: 0.62204724 | H3: 0.53571429 | I3: 0.41404358 | J3: 0.47560976
A4: =[4]Empreses!A6 -> 08056 | B4: =[4]Empreses!B6 -> Castelldefels | C4: 0.4 | D4: 0.14675516 | E4: 0.47570657 | F4: 0.23535354 | G4: 0.70886551 | H4: 0.51967494 | I4: 0.41138716 | J4: 0.4782711
A5: =[4]Empreses!A7 -> 08066 | B5: =[4]Empreses!B7 -> Castellví de Rosanes | C5: 0 | D5: 0.26153846 | E5: 0.40782123 | F5: 0.38244514 | G5: 0.69736842 | H5: 0.43076923 | I5: 0.2472119 | J5: 0.3585086
A6: =[4]Empreses!A8 -> 08068 | B6: =[4]Empreses!B8 -> Cervelló | C6: 0.5 | D6: 0.11522634 | E6: 0.31756757 | F6: 0.432703 | G6: 0.71052632 | H6: 0.65753425 | I6: 0.3379694 | J6: 0.43682796
A7: =[4]Empreses!A9 -> 08069 | B7: =[4]Empreses!B9 -> Collbató | C7: 0.25 | D7: 0.14285714 | E7: 0.49180328 | F7: 0.34078212 | G7: 0.64670659 | H7: 0.57627119 | I7: 0.41481481 | J7: 0.45985401
A8: =[4]Empreses!A10 -> 08072 | B8: =[4]Empreses!B10 -> Corbera de Llobregat | C8: 0.25 | D8: 0.10826211 | E8: 0.45111111 | F8: 0.470726 | G8: 0.72924188 | H8: 0.62523901 | I8: 0.35538262 | J8: 0.53254024
A9: =[4]Empreses!A11 -> 08073 | B9: =[4]Empreses!B11 -> Cornellà de Llobregat | C9: 0.23255814 | D9: 0.12028725 | E9: 0.4398193 | F9: 0.26254826 | G9: 0.71256765 | H9: 0.60129112 | I9: 0.4106914 | J9: 0.39583178
A10: =[4]Empreses!A12 -> 08158 | B10: =[4]Empreses!B12 -> El Papiol | C10: 0.4 | D10: 0.083526682 | E10: 0.47352722 | F10: 0.31301069 | G10: 0.67664671 | H10: 0.58190328 | I10: 0.34677905 | J10: 0.34526112
A11: =[4]Empreses!A13 -> 08169 | B11: =[4]Empreses!B13 -> El Prat de Llobregat | C11: 0.2 | D11: 0.12820513 | E11: 0.5095776 | F11: 0.45107604 | G11: 0.70612583 | H11: 0.56971938 | I11: 0.51358025 | J11: 0.45089712
A12: =[4]Empreses!A14 -> 08076 | B12: =[4]Empreses!B14 -> Esparreguera | C12: 0.17391304 | D12: 0.10618182 | E12: 0.45801527 | F12: 0.33517292 | G12: 0.69274909 | H12: 0.52687225 | I12: 0.39990433 | J12: 0.40012034 | M12: PES MUNICIPAL DELS LLOCS DE TREBALL OCUPATS PER DONES EL 2T 2022 (JUNY)
A13: =[4]Empreses!A15 -> 08077 | B13: =[4]Empreses!B15 -> Esplugues de Llobregat | C13: 0.3125 | D13: 0.10784314 | E13: 0.43414211 | F13: 0.26266996 | G13: 0.70727432 | H13: 0.54580521 | I13: 0.33378333 | J13: 0.54211071
A14: =[4]Empreses!A16 -> 08089 | B14: =[4]Empreses!B16 -> Gavà | C14: 0.32258065 | D14: 0.13018598 | E14: 0.3877822 | F14: 0.32123412 | G14: 0.74363636 | H14: 0.53863636 | I14: 0.34288538 | J14: 0.41533217
A15: =[4]Empreses!A17 -> 08905 | B15: =[4]Empreses!B17 -> La Palma de Cervelló | C15: 0.41666667 | D15: 0.10920771 | E15: 0.53043478 | F15: 0.32075472 | G15: 0.69795038 | H15: 0.59883721 | I15: 0.3920742 | J15: 0.4304419
A16: =[4]Empreses!A18 -> 08114 | B16: =[4]Empreses!B18 -> Martorell | C16: 0 | D16: 0.087912088 | E16: 0.37238095 | F16: 0.28543689 | G16: 0.73630137 | H16: 0.62041885 | I16: 0.35993976 | J16: 0.40648056
A17: =[4]Empreses!A19 -> 08123 | B17: =[4]Empreses!B19 -> Molins de Rei | C17: 0.5 | D17: 0.17575758 | E17: 0.43835616 | F17: 0.36594203 | G17: 0.58823529 | H17: 0.61764706 | I17: 0.42276423 | J17: 0.40494324
A18: =[4]Empreses!A20 -> 08147 | B18: =[4]Empreses!B20 -> Olesa de Montserrat | C18: 0.3125 | D18: 0.12886598 | E18: 0.28346457 | F18: 0.39823009 | G18: 0.57758621 | H18: 0.48305085 | I18: 0.3592233 | J18: 0.47406035
A19: =[4]Empreses!A21 -> 08157 | B19: =[4]Empreses!B21 -> Pallejà | C19: 0.13888889 | D19: 0.13235294 | E19: 0.57162038 | F19: 0.28657653 | G19: 0.75698372 | H19: 0.52449298 | I19: 0.37863337 | J19: 0.38751868
A20: =[4]Empreses!A22 -> 08196 | B20: =[4]Empreses!B22 -> Sant Andreu de la Barca | C20: 0.3125 | D20: 0.094869313 | E20: 0.39263804 | F20: 0.29772727 | G20: 0.81218457 | H20: 0.65576748 | I20: 0.40219092 | J20: 0.37602645
A21: =[4]Empreses!A23 -> 08200 | B21: =[4]Empreses!B23 -> Sant Boi de Llobregat | C21: 0.1497006 | D21: 0.083725988 | E21: 0.39216316 | F21: 0.3302653 | G21: 0.71933567 | H21: 0.56287806 | I21: 0.38893443 | J21: 0.45242955
A22: =[4]Empreses!A24 -> 08204 | B22: =[4]Empreses!B24 -> Sant Climent de Llobregat | C22: 0.25 | D22: 0.16806723 | E22: 0.48888889 | F22: 0.33103448 | G22: 0.60674157 | H22: 0.69026549 | I22: 0.3516129 | J22: 0.36859504
A23: =[4]Empreses!A25 -> 08208 | B23: =[4]Empreses!B25 -> Sant Esteve Sesrovires | C23: 0.29411765 | D23: 0.19607843 | E23: 0.33415842 | F23: 0.35259133 | G23: 0.23740458 | H23: 0.60691824 | I23: 0.29841897 | J23: 0.31707769
A24: =[4]Empreses!A26 -> 08211 | B24: =[4]Empreses!B26 -> Sant Feliu de Llobregat | C24: 0.30952381 | D24: 0.12885662 | E24: 0.48423851 | F24: 0.27713499 | G24: 0.68125439 | H24: 0.59513961 | I24: 0.41832964 | J24: 0.55222357
... A31: =[4]Empreses!A33 -> 08301 | B31: =[4]Empreses!B33 -> Viladecans | C31: 0.16049383 | D31: 0.11985527 | E31: 0.46617284 | F31: 0.36765271 | G31: 0.72199454 | H31: 0.6347359 | I31: 0.40609952 | J31: 0.47741487
