Workbook

Sheet Índex
A6: INFORME TRIMESTRAL ESTRUCTURA PRODUCTIVA
A7: 2n trimestre 2022
A9: CONTINGUT
A10: Fer click als vincles per anar als documents, taules i gràfics corresponents
A12: GG | B12: Variació interanual del conjunt de components de l'estructura productiva. Evolució recent de l'estructura productiva del Baix Llobregat.
A13: TG | B13: =[1]TG!A7 -> Posicionament comarcal en el context de l'àmbit territorial metropolità i Catalunya. Estructura productiva.
A15: EMPRESES
A17: GE1 | B17: Comptes de cotització segons àmbit territorial.
A18: GE2 | B18: Variació interanual comptes de cotització. Baix Llobregat.
A19: TE1 | B19: Activitats econòmiques més rellevants. Baix Llobregat.
A20: TE2 | B20: Dinamisme empresarial.
A21: TE3 | B21: Dades municipals.
A23: LLOCS DE TREBALL
A25: Règim General Seguretat Social (RGSS)
A27: GRGSS1 | B27: Llocs de treball assalariat segons àmbit territorial.
A28: GRGSS2 | B28: Variació interanual llocs de treball assalariat. Baix Llobregat.
A29: GRGSS3 | B29: Variació interanual llocs de treball assalariat per grandària del compte de cotització. Baix Llobregat.
A30: TRGSS1 | B30: Activitats econòmiques més rellevants. Baix Llobregat.
A31: TRGSS2 | B31: Dinamisme llocs de treball.
A32: TRGSS3 | B32: Dades municipals.
A33: TRGSS4 | B33: Dades municipals. Llocs de treball assalariat per grandària del compte de cotització.
A34: TRGSS5 | B34: Dades municipals. Relació entre població ocupada i llocs de treball.
A35: TRGSS6 | B35: Dades municipals. Llocs de treball assalariat ocupats per dones.
A37: Règim Especial Treballadors Autònoms (RETA)
A39: GRETA1 | B39: Llocs de treball autònom segons àmbit territorial.
A40: GRETA2 | B40: Variació interanual llocs de treball autònom. Baix Llobregat.
A41: TRETA1 | B41: Activitats econòmiques més rellevants. Baix Llobregat.
A42: TRETA2 | B42: Dinamisme llocs de treball.
A43: TRETA3 | B43: Dades municipals.
A45: ANÀLISI SEGONS 7 SECTORS PRODUCTIUS
A47: T7S1 | B47: Llocs de treball segons àmbit territorial
A48: G7S1 | B48: Variació intertrimestral llocs de treball. Baix Llobregat.
A49: T7S2 | B49: Llocs de treball segons municipi.
A50: G7S2 | B50: Llocs de treball segons sexe.
A51: T7S3 | B51: Diferencial segons sexe de les activitats econòmiques.
A53: ÚS DE TECNOLOGIA i CONEIXEMENT
A55: TTC1 | B55: Llocs de treball segons ús de tecnologia i coneixement. Baix Llobregat i àmbits territorials.
A56: TTC2 | B56: Llocs de treball segons ús de tecnologia i coneixement. Dades municipals.

Sheet GG
A1: TORNAR A L'ÍNDEX
A3: EMPRESES, LLOCS DE TREBALL, RGSS I RETA
A5: GG | C5: =Índex!A7 -> 2n trimestre 2022
A7: Variació interanual de l'estructura productiva. Baix Llobregat i àmbits territorials de referència
A30: Les dades de 2021 provenen d'Idescat, a partir dels fitxers d'afiliacions i comptes de cotització de la Tresoreria General de la Seguretat Social. Dades provisionals.
B32: Empreses | C32: Total llocs de treball | D32: RGSS | E32: RETA
A33: Baix Llobregat | B33: 0.0028636884 | C33: 0.03749961 | D33: 0.044218313 | E33: 0.00020429009
A34: Àrea Metropolitana de Barcelona | B34: 0.01868872 | C34: 0.049500021 | D34: 0.05639266 | E34: 0.0047412595
A35: Àmbit Territorial Metropolità | B35: 0.011291152 | C35: 0.042283582 | D35: 0.049357484 | E35: 0.0028280953
A36: Catalunya | B36: 0.012151982 | C36: 0.041857995 | D36: 0.049720289 | E36: 0.0023225367
A62: Les dades de 2021 provenen d'Idescat, a partir dels fitxers d'afiliacions i comptes de cotització de la Tresoreria General de la Seguretat Social. Dades provisionals.
B64: Empreses | C64: Total llocs de treball | D64: RGSS | E64: RETA
A65: Variació anual | B65: 0.0028636884 | C65: 0.03749961 | D65: 0.044218313 | E65: 0.00020429009
A66: Variació 2019 | B66: -0.064303527 | C66: 0.06504661 | D66: 0.083520453 | E66: -0.030725372

Sheet TG
A1: TORNAR A L'ÍNDEX
D2: =B20+B30 -> 332695
A3: =[2]GG!A3 -> EMPRESES, LLOCS DE TREBALL, RGSS I RETA | D3: =B25+B35 -> 1783174
A5: TG | B5: 2n trimestre 2022
A7: Posicionament comarcal en el context de l'àmbit territorial metropolità i Catalunya. Estructura productiva. | H7: Ocultar
B8: n | C8: % / Total ATM | D8: % / Total Catalunya | E8: Variació trimestral | H8: Trimestre anterior
A9: CENTRES DE COTITZACIÓ | E9: n | F9: % | H9: 4rt 2021
A10: BAIX LLOBREGAT | B10: 21007 | C10: =B10/$B$16 -> 0.13686055 | D10: =B10/$B$17 -> 0.084977023 | E10: =B10-H10 -> -5 | F10: =E10/H10 -> -0.00023795926 | H10: 21012
A11: Barcelonès | B11: 83128 | C11: =B11/$B$16 -> 0.54157871 | D11: =B11/$B$17 -> 0.33626743 | E11: =B11-H11 -> 617 | F11: =E11/H11 -> 0.0074777908 | H11: 82511
A12: Maresme | B12: 12227 | C12: =B12/$B$16 -> 0.079658875 | D12: =B12/$B$17 -> 0.049460373 | E12: =B12-H12 -> 333 | F12: =E12/H12 -> 0.02799731 | H12: 11894
A13: Vallès Occidental | B13: 25294 | C13: =B13/$B$16 -> 0.16479035 | D13: =B13/$B$17 -> 0.1023187 | E13: =B13-H13 -> -76 | F13: =E13/H13 -> -0.0029956642 | H13: 25370
A14: Vallès Oriental | B14: 11836 | C14: =B14/$B$16 -> 0.077111511 | D14: =B14/$B$17 -> 0.047878709 | E14: =B14-H14 -> -41 | F14: =E14/H14 -> -0.0034520502 | H14: 11877
A15: Àrea Metropolitana de Barcelona (AMB) | B15: 110106 | C15: - | D15: =B15/B16 -> 0.71734032 | E15: =B15-H15 -> 599 | F15: =E15/H15 -> 0.00546997 | H15: 109507
A16: Àmbit Territorial Metropolità (ATM) | B16: 153492 | C16: - | D16: =B16/B17 -> 0.62090224 | E16: =B16-H16 -> 828 | F16: =E16/H16 -> 0.0054236755 | H16: 152664
A17: Catalunya | B17: 247208 | C17: - | D17: - | E17: =B17-H17 -> 3819 | F17: =E17/H17 -> 0.015690931 | H17: 243389
B18: n | C18: % / Total ATM | D18: % / Total Catalunya | E18: Variació trimestral
A19: POBLACIÓ ASSALARIADA | E19: n | F19: %
A20: BAIX LLOBREGAT | B20: 283735 | C20: =B20/$B$26 -> 0.14054428 | D20: =B20/$B$27 -> 0.096403902 | E20: =B20-H20 -> -4016 | F20: =E20/H20 -> -0.013956511 | H20: 287751
A21: Barcelonès | B21: 1165475 | C21: =B21/$B$26 -> 0.5773022 | D21: =B21/$B$27 -> 0.3959904 | E21: =B21-H21 -> 15292 | F21: =E21/H21 -> 0.013295276 | H21: 1150183
A22: Maresme | B22: 108300 | C22: =B22/$B$26 -> 0.053644933 | D22: =B22/$B$27 -> 0.036796809 | E22: =B22-H22 -> 4999 | F22: =E22/H22 -> 0.048392562 | H22: 103301
A23: Vallès Occidental | B23: 335200 | C23: =B23/$B$26 -> 0.16603676 | D23: =B23/$B$27 -> 0.11389003 | E23: =B23-H23 -> 221 | F23: =E23/H23 -> 0.00065974285 | H23: 334979
A24: Vallès Oriental | B24: 125110 | C24: =B24/$B$26 -> 0.061971538 | D24: =B24/$B$27 -> 0.042508299 | E24: =B24-H24 -> 87 | F24: =E24/H24 -> 0.00069587196 | H24: 125023
A25: Àrea Metropolitana de Barcelona (AMB) | B25: 1555366 | C25: - | D25: =B25/$B$27 -> 0.52846265 | E25: =B25-H25 -> 15438 | F25: =E25/H25 -> 0.010025144 | H25: 1539928
A26: Àmbit Territorial Metropolità (ATM) | B26: 2018830 | C26: - | D26: =B26/$B$27 -> 0.68593261 | E26: =B26-H26 -> 17593 | F26: =E26/H26 -> 0.0087910627 | H26: 2001237
A27: Catalunya | B27: 2943190 | C27: - | D27: - | E27: =B27-H27 -> 70362 | F27: =E27/H27 -> 0.024492242 | H27: 2872828
B28: n | C28: % / Total ATM | D28: % / Total Catalunya | E28: Variació trimestral
A29: POBLACIÓ DEL RÈGIM AUTÒNOM | E29: n | F29: %
A30: BAIX LLOBREGAT | B30: 48960 | C30: =B30/$B$36 -> 0.14146201 | D30: =B30/$B$37 -> 0.087604563 | E30: =B30-H30 -> -1799 | F30: =E30/H30 -> -0.035441991 | H30: 50759
A31: Barcelonès | B31: 172370 | C31: =B31/$B$36 -> 0.49803525 | D31: =B31/$B$37 -> 0.30842317 | E31: =B31-H31 -> 11559 | F31: =E31/H31 -> 0.071879411 | H31: 160811
A32: Maresme | B32: 33905 | C32: =B32/$B$36 -> 0.097963016 | D32: =B32/$B$37 -> 0.060666518 | E32: =B32-H32 -> -2833 | F32: =E32/H32 -> -0.077113615 | H32: 36738
A33: Vallès Occidental | B33: 61145 | C33: =B33/$B$36 -> 0.17666859 | D33: =B33/$B$37 -> 0.10940729 | E33: =B33-H33 -> -973 | F33: =E33/H33 -> -0.015663737 | H33: 62118
A34: Vallès Oriental | B34: 29350 | C34: =B34/$B$36 -> 0.08480208 | D34: =B34/$B$37 -> 0.052516216 | E34: =B34-H34 -> -738 | F34: =E34/H34 -> -0.024528051 | H34: 30088
A35: Àrea Metropolitana de Barcelona (AMB) | B35: 227808 | C35: - | D35: =B35/$B$37 -> 0.40761888 | E35: =B35-H35 -> 701 | F35: =E35/H35 -> 0.0030866508 | H35: 227107
A36: Àmbit Territorial Metropolità (ATM) | B36: 346100 | C36: - | D36: =B36/$B$37 -> 0.6192798 | E36: =B36-H36 -> 5586 | F36: =E36/H36 -> 0.016404612 | H36: 340514
A37: Catalunya | B37: 558875 | C37: - | D37: - | E37: =B37-H37 -> 2832 | F37: =E37/H37 -> 0.0050931313 | H37: 556043
A38: Font: OCBL, a partir de les dades d'Estadística de l'ocupació assalariada i autònoma segons afiliacions a la Seguretat Social d'IDESCAT.
B41: =B37+B27 -> 3502065

Sheet GE1
A1: TORNAR A L'ÍNDEX | B1: Fet!
A3: EMPRESES
A5: GE1 | C5: =Índex!A7 -> 2n trimestre 2022
A6: Comptes de cotització segons àmbit territorial.
A29: Les dades de 2021 provenen d'Idescat, a partir dels fitxers d'afiliacions i comptes de cotització de la Tresoreria General de la Seguretat Social. Dades provisionals.
B31: Empreses | C31: variació 2022-2021 | D31: variació 2022-2020 | E31: variació 2022-2019 | F31: variació 2022-2008
A32: Baix Llobregat | B32: 21007 | C32: 0.0028636884 | D32: 0.03 | E32: -0.064303527 | F32: -0.12215909
A33: Àrea Metropolitana de Barcelona | B33: 110106 | C33: 0.01868872 | D33: 0.02517366 | E33: -0.083132389 | F33: -0.11503059
A34: Àmbit Territorial Metropolità | B34: 153492 | C34: 0.011291152 | D34: 0.033513492 | E34: -0.066421167 | F34: -0.12864367
A35: Catalunya | B35: 247208 | C35: 0.012151982 | D35: 0.034862693 | E35: -0.063981886 | F35: -0.13162239

Sheet GE2
A1: TORNAR A L'ÍNDEX
A3: EMPRESES
A5: GE2 | C5: =Índex!A7 -> 2n trimestre 2022
A6: =Índex!B18 -> Variació interanual comptes de cotització. Baix Llobregat.
A29: Les dades de 2021 provenen d'Idescat, a partir dels fitxers d'afiliacions i comptes de cotització de la Tresoreria General de la Seguretat Social. Dades provisionals.
B31: Empreses | C31: Variació interanual
A32: 2016 | B32: 21504 | C32: =(B32-B40)/B40 -> 0.016305118
A33: 2017 | B33: 22064 | C33: =(B33-B32)/B32 -> 0.026041667
A34: 2018 | B34: 22319 | C34: =(B34-B33)/B33 -> 0.011557288
A35: 2019 | B35: 22456 | C35: =(B35-B34)/B34 -> 0.0061382678
A36: 2020 | B36: 20400 | C36: =(B36-B35)/B35 -> -0.091556822
A37: 2021 | B37: 20952 | C37: =(B37-B36)/B36 -> 0.027058824
A38: 2022 | B38: 21007 | C38: =(B38-B37)/B37 -> 0.0026250477
A40: 2015 | B40: 21159

Sheet TE1
A1: TORNAR A L'ÍNDEX
A3: EMPRESES
A5: =Índex!A19 -> TE1 | C5: =Índex!A7 -> 2n trimestre 2022
A6: =Índex!B19 -> Activitats econòmiques més rellevants. Baix Llobregat.
D8: Variació
B9: 2022 | C9: %total | D9: 2021-2022 | E9: 2020-2022 | F9: 2019-2022 | G9: 2008-2022
A10: Total | B10: 21007 | C10: 1 | D10: 0.0026727759 | E10: 0.029803922 | F10: -0.064481653 | G10: -0.1223262
A11: 47- Comerç al detall, excepte el comerç de vehicles de motor i motocicletes | B11: 2987 | C11: 0.14218393 | D11: -0.022258592 | E11: 0.020847573 | F11: -0.066854108 | G11: -0.10273355
A12: 56- Serveis de menjar i begudes | B12: 2098 | C12: 0.099866717 | D12: 0.024914509 | E12: 0.051102204 | F12: -0.045495905 | G12: 0.094418362
A13: 46- Comerç a l'engròs i intermediaris del comerç, excepte vehicles de motor i motocicletes | B13: 1969 | C13: 0.0937262 | D13: -0.0080604534 | E13: 0.0097435897 | F13: -0.11901566 | G13: -0.12449978
A14: 43- Activitats especialitzades de la construcció | B14: 1534 | C14: 0.073019802 | D14: -0.016666667 | E14: 0.012541254 | F14: -0.05308642 | G14: -0.33850798
A15: 49- Transport terrestre; transport per canonades | B15: 1037 | C15: 0.049362148 | D15: 0.022682446 | E15: 0.028769841 | F15: -0.099826389 | G15: -0.32398957
A16: 96- Altres activitats de serveis personals | B16: 867 | C16: 0.041269992 | D16: 0.033373063 | E16: 0.01880141 | F16: -0.051422319 | G16: 0.016412661
A17: 41- Construcció d'immobles | B17: 860 | C17: 0.040936786 | D17: -0.010356732 | E17: 0.10115237 | F17: 0.056511057 | G17: -0.36857562
A18: 68- Activitats immobiliàries | B18: 689 | C18: 0.03279703 | D18: 0.043939394 | E18: 0.069875776 | F18: -0.028208745 | G18: 0.21302817
A19: 45- Venda i reparació de vehicles de motor i motocicletes | B19: 598 | C19: 0.028465347 | D19: -0.026058632 | E19: -0.022875817 | F19: -0.14326648 | G19: -0.16944444
A20: 85- Educació | B20: 578 | C20: 0.027513328 | D20: 0.0017331023 | E20: 0.01048951 | F20: -0.11076923 | G20: 0.19917012
A22: Les dades de 2021 provenen d'Idescat, a partir dels fitxers d'afiliacions i comptes de cotització de la Tresoreria General de la Seguretat Social. Dades provisionals.

Sheet TE2
A1: TORNAR A L'ÍNDEX
A3: ='TE1'!A3 -> EMPRESES
A5: =Índex!A20 -> TE2 | C5: =Índex!A7 -> 2n trimestre 2022
A6: =Índex!B20 -> Dinamisme empresarial.
A7: ACTIVITATS QUE MÉS HAN AUGMENTAT | B7: n | C7: Variació anual
C8: n | D8: %
A9: 56- Serveis de menjar i begudes | B9: 2098 | C9: 51 | D9: 0.024914509
A10: 68- Activitats immobiliàries | B10: 689 | C10: 29 | D10: 0.043939394
A11: 96- Altres activitats de serveis personals | B11: 867 | C11: 28 | D11: 0.033373063
A12: 49- Transport terrestre; transport per canonades | B12: 1037 | C12: 23 | D12: 0.022682446
A13: 82- Activitats administratives d'oficina i altres activitats auxiliars a les empreses | B13: 318 | C13: 18 | D13: 0.06
A14: 86- Activitats sanitàries | B14: 557 | C14: 18 | D14: 0.033395176
A15: 73- Publicitat i estudis de mercat | B15: 135 | C15: 12 | D15: 0.097560976
A16: 94- Activitats associatives | B16: 201 | C16: 12 | D16: 0.063492063
A17: 93- Activitats esportives, recreatives i d'entreteniment | B17: 396 | C17: 7 | D17: 0.017994859
A18: 53- Activitats postals i de correus | B18: 71 | C18: 5 | D18: 0.075757576
A19: ACTIVITATS QUE MÉS HAN DISMINUÏT | B19: n | C19: Variació anual
C20: n | D20: %
A21: 47- Comerç al detall, excepte el comerç de vehicles de motor i motocicletes | B21: 2987 | C21: -68 | D21: -0.022258592
A22: 43- Activitats especialitzades de la construcció | B22: 1534 | C22: -26 | D22: -0.016666667
A23: 45- Venda i reparació de vehicles de motor i motocicletes | B23: 598 | C23: -16 | D23: -0.026058632
A24: 46- Comerç a l'engròs i intermediaris del comerç, excepte vehicles de motor i motocicletes | B24: 1969 | C24: -16 | D24: -0.0080604534
A25: 41- Construcció d'immobles | B25: 860 | C25: -9 | D25: -0.010356732
A26: 71- Serveis tècnics d'arquitectura i enginyeria; assajos i anàlisis tècnics | B26: 328 | C26: -9 | D26: -0.026706231
A27: 97- Activitats de les llars que donen ocupació a personal domèstic | B27: 98 | C27: -7 | D27: -0.066666667
A28: 20- Indústries químiques | B28: 110 | C28: -6 | D28: -0.051724138
A29: 77- Activitats de lloguer | B29: 169 | C29: -6 | D29: -0.034285714
A30: 25- Fabricació de productes metàl·lics, excepte maquinària i equips | B30: 516 | C30: -5 | D30: -0.009596929
A32: Les dades de 2021 provenen d'Idescat, a partir dels fitxers d'afiliacions i comptes de cotització de la Tresoreria General de la Seguretat Social. Dades provisionals.

Sheet DIN_Empreses
A1: Fet! | G1: 0.003 | M1: variació | Q1: quan ordenis, millor copiïs les cel·les calculades abans
B3: 2022 | C3: 20.22 | D3: 2021 | H3: 2022 | I3: 20.22 | J3: 2021 | N3: 2022 | O3: 20.22 | P3: 2021 | Q3: var absoluta | R3: var relativa
A4: 1- Agricultura, ramaderia, caça i activitats dels serveis que s'hi relacionen | B4: 25 | C4: 0.0011900228 | D4: 27 | G4: 10- Indústries de productes alimentaris | H4: 181 | I4: 0.0086157654 | J4: 181 | M4: 10- Indústries de productes alimentaris | N4: 2987 | O4: 0.14218393 | P4: 3055 | Q4: -68 | R4: -0.022258592
A5: 2- Silvicultura i explotació forestal | B5: 10 | C5: 0.00047600914 | D5: 8 | G5: 16- Indústria de la fusta i del suro, excepte mobles; cistelleria i esparteria | H5: 67 | I5: 0.0031892612 | J5: 69 | M5: 16- Indústria de la fusta i del suro, excepte mobles; cistelleria i esparteria | N5: 1534 | O5: 0.073019802 | P5: 1560 | Q5: -26 | R5: -0.016666667
A6: 3- Pesca i aqüicultura | B6: 0 | C6: 0 | D6: .. | G6: 18- Arts gràfiques i reproducció de suports enregistrats | H6: 184 | I6: 0.0087585682 | J6: 186 | M6: 18- Arts gràfiques i reproducció de suports enregistrats | N6: 598 | O6: 0.028465347 | P6: 614 | Q6: -16 | R6: -0.026058632
A7: 5- Extracció d'antracita, hulla i lignit | B7: 0 | C7: 0 | G7: 20- Indústries químiques | H7: 110 | I7: 0.0052361005 | J7: 116 | M7: 20- Indústries químiques | N7: 1969 | O7: 0.0937262 | P7: 1985 | Q7: -16 | R7: -0.0080604534
A8: 6- Extracció de petroli brut i de gas natural | B8: 0 | C8: 0 | G8: 22- Fabricació de productes de cautxú i matèries plàstiques | H8: 124 | I8: 0.0059025133 | J8: 125 | M8: 22- Fabricació de productes de cautxú i matèries plàstiques | N8: 860 | O8: 0.040936786 | P8: 869 | Q8: -9 | R8: -0.010356732
A9: 7- Extracció de minerals metàl·lics | B9: 0 | C9: 0 | D9: 0 | G9: 23- Fabricació d'altres productes minerals no metàl·lics | H9: 64 | I9: 0.0030464585 | J9: 64 | M9: 23- Fabricació d'altres productes minerals no metàl·lics | N9: 328 | O9: 0.0156131 | P9: 337 | Q9: -9 | R9: -0.026706231
A10: 8- Extracció de minerals no metàl·lics ni energètics | B10: 12 | C10: 0.00057121097 | D10: 12 | G10: 25- Fabricació de productes metàl·lics, excepte maquinària i equips | H10: 516 | I10: 0.024562072 | J10: 521 | M10: 25- Fabricació de productes metàl·lics, excepte maquinària i equips | N10: 98 | O10: 0.0046648896 | P10: 105 | Q10: -7 | R10: -0.066666667
A11: 9- Activitats de suport a les indústries extractives | B11: 0 | C11: 0 | D11: 0 | G11: 28- Fabricació de maquinària i equips ncaa | H11: 177 | I11: 0.0084253618 | J11: 180 | M11: 28- Fabricació de maquinària i equips ncaa | N11: 110 | O11: 0.0052361005 | P11: 116 | Q11: -6 | R11: -0.051724138
A12: 10- Indústries de productes alimentaris | B12: 181 | C12: 0.0086157654 | D12: 181 | G12: 31- Fabricació de mobles | H12: 88 | I12: 0.0041888804 | J12: 90 | M12: 31- Fabricació de mobles | N12: 169 | O12: 0.0080445545 | P12: 175 | Q12: -6 | R12: -0.034285714
A13: 11- Fabricació de begudes | B13: 18 | C13: 0.00085681645 | D13: 15 | G13: 32- Indústries manufactureres diverses | H13: 71 | I13: 0.0033796649 | J13: 72 | M13: 32- Indústries manufactureres diverses | N13: 516 | O13: 0.024562072 | P13: 521 | Q13: -5 | R13: -0.009596929
A14: 12- Indústries del tabac | B14: 0 | C14: 0 | G14: 33- Reparació i instal·lació de maquinària i equips | H14: 177 | I14: 0.0084253618 | J14: 174 | M14: 33- Reparació i instal·lació de maquinària i equips | N14: 160 | O14: 0.0076161462 | P14: 164 | Q14: -4 | R14: -0.024390244
A15: 13- Indústries tèxtils | B15: 51 | C15: 0.0024276466 | D15: 58 | G15: 41- Construcció d'immobles | H15: 860 | I15: 0.040936786 | J15: 869 | M15: 41- Construcció d'immobles | N15: 236 | O15: 0.011233816 | P15: 240 | Q15: -4 | R15: -0.016666667
A16: 14- Confecció de peces de vestir | B16: 52 | C16: 0.0024752475 | D16: 59 | G16: 42- Construcció d'obres d'enginyeria civil | H16: 72 | I16: 0.0034272658 | J16: 74 | M16: 42- Construcció d'obres d'enginyeria civil | N16: 177 | O16: 0.0084253618 | P16: 180 | Q16: -3 | R16: -0.016666667
A17: 15- Indústria del cuir i del calçat | B17: 4 | C17: 0.00019040366 | D17: 6 | G17: 43- Activitats especialitzades de la construcció | H17: 1534 | I17: 0.073019802 | J17: 1560 | M17: 43- Activitats especialitzades de la construcció | N17: 467 | O17: 0.022229627 | P17: 470 | Q17: -3 | R17: -0.0063829787
A18: 16- Indústria de la fusta i del suro, excepte mobles; cistelleria i esparteria | B18: 67 | C18: 0.0031892612 | D18: 69 | G18: 45- Venda i reparació de vehicles de motor i motocicletes | H18: 598 | I18: 0.028465347 | J18: 614 | M18: 45- Venda i reparació de vehicles de motor i motocicletes | N18: 100 | O18: 0.0047600914 | P18: 103 | Q18: -3 | R18: -0.029126214
A19: 17- Indústries del paper | B19: 46 | C19: 0.002189642 | D19: 46 | G19: 46- Comerç a l'engròs i intermediaris del comerç, excepte vehicles de motor i motocicletes | H19: 1969 | I19: 0.0937262 | J19: 1985 | M19: 46- Comerç a l'engròs i intermediaris del comerç, excepte vehicles de motor i motocicletes | N19: 67 | O19: 0.0031892612 | P19: 69 | Q19: -2 | R19: -0.028985507
A20: 18- Arts gràfiques i reproducció de suports enregistrats | B20: 184 | C20: 0.0087585682 | D20: 186 | G20: 47- Comerç al detall, excepte el comerç de vehicles de motor i motocicletes | H20: 2987 | I20: 0.14218393 | J20: 3055 | M20: 47- Comerç al detall, excepte el comerç de vehicles de motor i motocicletes | N20: 184 | O20: 0.0087585682 | P20: 186 | Q20: -2 | R20: -0.010752688
A21: 19- Coqueries i refinació del petroli | B21: 0 | C21: 0 | D21: 0 | G21: 49- Transport terrestre; transport per canonades | H21: 1037 | I21: 0.049362148 | J21: 1014 | M21: 49- Transport terrestre; transport per canonades | N21: 88 | O21: 0.0041888804 | P21: 90 | Q21: -2 | R21: -0.022222222
A22: 20- Indústries químiques | B22: 110 | C22: 0.0052361005 | D22: 116 | G22: 52- Emmagatzematge i activitats afins al transport | H22: 312 | I22: 0.014851485 | J22: 313 | M22: 52- Emmagatzematge i activitats afins al transport | N22: 72 | O22: 0.0034272658 | P22: 74 | Q22: -2 | R22: -0.027027027
A23: 21- Fabricació de productes farmacèutics | B23: 19 | C23: 0.00090441736 | D23: 19 | G23: 53- Activitats postals i de correus | H23: 71 | I23: 0.0033796649 | J23: 66 | M23: 53- Activitats postals i de correus | N23: 257 | O23: 0.012233435 | P23: 259 | Q23: -2 | R23: -0.0077220077
A24: 22- Fabricació de productes de cautxú i matèries plàstiques | B24: 124 | C24: 0.0059025133 | D24: 125 | G24: 55- Serveis d'allotjament | H24: 82 | I24: 0.0039032749 | J24: 81 | M24: 55- Serveis d'allotjament | N24: 75 | O24: 0.0035700685 | P24: 77 | Q24: -2 | R24: -0.025974026
A25: 23- Fabricació d'altres productes minerals no metàl·lics | B25: 64 | C25: 0.0030464585 | D25: 64 | G25: 56- Serveis de menjar i begudes | H25: 2098 | I25: 0.099866717 | J25: 2047 | M25: 56- Serveis de menjar i begudes | N25: 124 | O25: 0.0059025133 | P25: 125 | Q25: -1 | R25: -0.008
A26: 24- Metal·lúrgia; fabricació de productes bàsics de ferro, acer i ferroaliatges | B26: 38 | C26: 0.0018088347 | D26: 40 | G26: 62- Serveis de tecnologies de la informació | H26: 257 | I26: 0.012233435 | J26: 259 | M26: 62- Serveis de tecnologies de la informació | N26: 71 | O26: 0.0033796649 | P26: 72 | Q26: -1 | R26: -0.013888889
... A39: 38- Activitats de recollida, tractament i eliminació de residus; activitats de valorització | B39: 54 | C39: 0.0025704494 | D39: 51 | G39: 85- Educació | H39: 578 | I39: 0.027513328 | J39: 577 | M39: 85- Educació | N39: 396 | O39: 0.018849962 | P39: 389 | Q39: 7 | R39: 0.017994859
A40: 39- Activitats de descontaminació i altres serveis de gestió de residus | B40: 2 | C40: 9.5201828e-05 | D40: .. | G40: 86- Activitats sanitàries | H40: 557 | I40: 0.026513709 | J40: 539 | M40: 86- Activitats sanitàries | N40: 135 | O40: 0.0064261234 | P40: 123 | Q40: 12 | R40: 0.097560976
A41: 41- Construcció d'immobles | B41: 860 | C41: 0.040936786 | D41: 869 | G41: 87- Activitats de serveis socials amb allotjament | H41: 100 | I41: 0.0047600914 | J41: 103 | M41: 87- Activitats de serveis socials amb allotjament | N41: 201 | O41: 0.0095677837 | P41: 189 | Q41: 12 | R41: 0.063492063
A42: 42- Construcció d'obres d'enginyeria civil | B42: 72 | C42: 0.0034272658 | D42: 74 | G42: 88- Activitats de serveis socials sense allotjament | H42: 77 | I42: 0.0036652704 | J42: 74 | M42: 88- Activitats de serveis socials sense allotjament | N42: 318 | O42: 0.015137091 | P42: 300 | Q42: 18 | R42: 0.06
A43: 43- Activitats especialitzades de la construcció | B43: 1534 | C43: 0.073019802 | D43: 1560 | G43: 93- Activitats esportives, recreatives i d'entreteniment | H43: 396 | I43: 0.018849962 | J43: 389 | M43: 93- Activitats esportives, recreatives i d'entreteniment | N43: 557 | O43: 0.026513709 | P43: 539 | Q43: 18 | R43: 0.033395176
A44: 45- Venda i reparació de vehicles de motor i motocicletes | B44: 598 | C44: 0.028465347 | D44: 614 | G44: 94- Activitats associatives | H44: 201 | I44: 0.0095677837 | J44: 189 | M44: 94- Activitats associatives | N44: 1037 | O44: 0.049362148 | P44: 1014 | Q44: 23 | R44: 0.022682446
A45: 46- Comerç a l'engròs i intermediaris del comerç, excepte vehicles de motor i motocicletes | B45: 1969 | C45: 0.0937262 | D45: 1985 | G45: 95- Reparació d'ordinadors, d'efectes personals i efectes domèstics | H45: 88 | I45: 0.0041888804 | J45: 87 | M45: 95- Reparació d'ordinadors, d'efectes personals i efectes domèstics | N45: 867 | O45: 0.041269992 | P45: 839 | Q45: 28 | R45: 0.033373063
A46: 47- Comerç al detall, excepte el comerç de vehicles de motor i motocicletes | B46: 2987 | C46: 0.14218393 | D46: 3055 | G46: 96- Altres activitats de serveis personals | H46: 867 | I46: 0.041269992 | J46: 839 | M46: 96- Altres activitats de serveis personals | N46: 689 | O46: 0.03279703 | P46: 660 | Q46: 29 | R46: 0.043939394
A47: 49- Transport terrestre; transport per canonades | B47: 1037 | C47: 0.049362148 | D47: 1014 | G47: 97- Activitats de les llars que donen ocupació a personal domèstic | H47: 98 | I47: 0.0046648896 | J47: 105 | M47: 97- Activitats de les llars que donen ocupació a personal domèstic | N47: 2098 | O47: 0.099866717 | P47: 2047 | Q47: 51 | R47: 0.024914509
A48: 50- Transport marítim i per vies de navegació interiors | B48: 1 | C48: 4.7600914e-05 | D48: .. | G48: Total | H48: 21008 | I48: 1 | J48: 20952 | M48: Total | N48: 21008 | O48: 1 | P48: 20952 | Q48: 56 | R48: 0.0026727759
A49: 51- Transport aeri | B49: 27 | C49: 0.0012852247 | D49: 21
A50: 52- Emmagatzematge i activitats afins al transport | B50: 312 | C50: 0.014851485 | D50: 313
A51: 53- Activitats postals i de correus | B51: 71 | C51: 0.0033796649 | D51: 66
A52: 55- Serveis d'allotjament | B52: 82 | C52: 0.0039032749 | D52: 81
A53: 56- Serveis de menjar i begudes | B53: 2098 | C53: 0.099866717 | D53: 2047
...

Sheet TE3
A1: TORNAR A L'ÍNDEX
A3: EMPRESES
A5: =[3]Índex!A18 -> TE3 | C5: =[3]Índex!A7 -> 2n trimestre 2022
A6: =[3]Índex!B18 -> Dades municipals.
B8: Empreses | C8: % Baix Llobregat | D8: variació relativa (en %)
B9: Empreses | D9: 2021 | E9: 2020 | F9: 2019 | G9: 2008
A10: Abrera | B10: 395 | C10: =B10/$B$40 -> 0.018803256 | D10: =($B46-C46)/C46 -> 0.0076530612 | E10: =($B46-D46)/D46 -> 0.018041237 | F10: =($B46-E46)/E46 -> -0.077102804 | G10: =($B46-F46)/F46 -> -0.034229829
A11: Begues | B11: 140 | C11: =B11/$B$40 -> 0.0066644452 | D11: =($B47-C47)/C47 -> 0 | E11: =($B47-D47)/D47 -> 0.044776119 | F11: =($B47-E47)/E47 -> -0.054054054 | G11: =($B47-F47)/F47 -> -0.1025641
A12: Castelldefels | B12: 1755 | C12: =B12/$B$40 -> 0.083543581 | D12: =($B48-C48)/C48 -> 0.016801854 | E12: =($B48-D48)/D48 -> 0.059782609 | F12: =($B48-E48)/E48 -> -0.037828947 | G12: =($B48-F48)/F48 -> -0.051351351
A13: Castellví de Rosanes | B13: 62 | C13: =B13/$B$40 -> 0.0029513972 | D13: =($B49-C49)/C49 -> 0.087719298 | E13: =($B49-D49)/D49 -> 0.033333333 | F13: =($B49-E49)/E49 -> -0.03125 | G13: =($B49-F49)/F49 -> -0.33333333
A14: Cervelló | B14: 239 | C14: =B14/$B$40 -> 0.01137716 | D14: =($B50-C50)/C50 -> -0.024489796 | E14: =($B50-D50)/D50 -> 0.0084388186 | F14: =($B50-E50)/E50 -> -0.024489796 | G14: =($B50-F50)/F50 -> 0.021367521
A15: Collbató | B15: 76 | C15: =B15/$B$40 -> 0.0036178417 | D15: =($B51-C51)/C51 -> -0.12643678 | E15: =($B51-D51)/D51 -> -0.073170732 | F15: =($B51-E51)/E51 -> -0.16483516 | G15: =($B51-F51)/F51 -> -0.19148936
A16: Corbera de Llobregat | B16: 237 | C16: =B16/$B$40 -> 0.011281954 | D16: =($B52-C52)/C52 -> 0.025974026 | E16: =($B52-D52)/D52 -> 0.11267606 | F16: =($B52-E52)/E52 -> 0.0085106383 | G16: =($B52-F52)/F52 -> -0.2020202
A17: Cornellà de Llobregat | B17: 2378 | C17: =B17/$B$40 -> 0.11320036 | D17: =($B53-C53)/C53 -> 0 | E17: =($B53-D53)/D53 -> 0.029883066 | F17: =($B53-E53)/E53 -> -0.068181818 | G17: =($B53-F53)/F53 -> -0.11925926
A18: El Papiol | B18: 204 | C18: =B18/$B$40 -> 0.0097110487 | D18: =($B54-C54)/C54 -> 0.0049261084 | E18: =($B54-D54)/D54 -> -0.028571429 | F18: =($B54-E54)/E54 -> -0.085201794 | G18: =($B54-F54)/F54 -> -0.2183908
A19: El Prat de Llobregat | B19: 1754 | C19: =B19/$B$40 -> 0.083495978 | D19: =($B55-C55)/C55 -> 0.007466973 | E19: =($B55-D55)/D55 -> 0.039715471 | F19: =($B55-E55)/E55 -> -0.071466384 | G19: =($B55-F55)/F55 -> -0.041006014
A20: Esparreguera | B20: 575 | C20: =B20/$B$40 -> 0.027371828 | D20: =($B56-C56)/C56 -> 0.024955437 | E20: =($B56-D56)/D56 -> 0.068773234 | F20: =($B56-E56)/E56 -> -0.030354132 | G20: =($B56-F56)/F56 -> -0.1506647
A21: Esplugues de Llobregat | B21: 1194 | C21: =B21/$B$40 -> 0.056838197 | D21: =($B57-C57)/C57 -> -0.0099502488 | E21: =($B57-D57)/D57 -> 0.037358818 | F21: =($B57-E57)/E57 -> -0.073700543 | G21: =($B57-F57)/F57 -> -0.1916046
... A40: BAIX LLOBREGAT | B40: 21007 | C40: =B40/$B$40 -> 1 | D40: =($B76-C76)/C76 -> 0.0026250477 | E40: =($B76-D76)/D76 -> 0.029754902 | F40: =($B76-E76)/E76 -> -0.064526185 | G40: =($B76-F76)/F76 -> -0.12236798
A42: Les dades de 2021 provenen d'Idescat, a partir dels fitxers d'afiliacions i comptes de cotització de la Tresoreria General de la Seguretat Social. Dades provisionals.
B44: empreses
B45: 2022 | C45: 2021 | D45: 2020 | E45: 2019 | F45: 2008
A46: Abrera | B46: 395 | C46: 392 | D46: 388 | E46: 428 | F46: 409
A47: Begues | B47: 140 | C47: 140 | D47: 134 | E47: 148 | F47: 156
A48: Castelldefels | B48: 1755 | C48: 1726 | D48: 1656 | E48: 1824 | F48: 1850
A49: Castellví de Rosanes | B49: 62 | C49: 57 | D49: 60 | E49: 64 | F49: 93
A50: Cervelló | B50: 239 | C50: 245 | D50: 237 | E50: 245 | F50: 234
A51: Collbató | B51: 76 | C51: 87 | D51: 82 | E51: 91 | F51: 94
A52: Corbera de Llobregat | B52: 237 | C52: 231 | D52: 213 | E52: 235 | F52: 297
A53: Cornellà de Llobregat | B53: 2378 | C53: 2378 | D53: 2309 | E53: 2552 | F53: 2700
A54: El Papiol | B54: 204 | C54: 203 | D54: 210 | E54: 223 | F54: 261
A55: El Prat de Llobregat | B55: 1754 | C55: 1741 | D55: 1687 | E55: 1889 | F55: 1829
A56: Esparreguera | B56: 575 | C56: 561 | D56: 538 | E56: 593 | F56: 677
A57: Esplugues de Llobregat | B57: 1194 | C57: 1206 | D57: 1151 | E57: 1289 | F57: 1477
... A76: BAIX LLOBREGAT | B76: 21007 | C76: 20952 | D76: 20400 | E76: 22456 | F76: 23936
A78: Zona | B78: 2022 2T | C78: 2021 2T | D78: 2020 2T | E78: 20219 2T | F78: 2008 2T | G78: 2008-2022 | H78: 2019-2022 | I78: 2020-2022 | J78: 2021-2022 | K78: Zona Centre: Cornellà de Llobregat, Esplugues de Llobregat, Sant Joan Despí, Sant Feliu de Llobregat i Sant Just Desvern.
A79: Centre | B79: =+B53+B57+B69+B70+B68 -> 6153 | C79: =+C53+C57+C69+C70+C68 -> 6169 | D79: =+D53+D57+D69+D70+D68 -> 5996 | E79: =+E53+E57+E69+E70+E68 -> 6644 | F79: =+F53+F57+F69+F70+F68 -> 7089 | G79: =($B79-F79)/F79 -> -0.13203555 | H79: =($B79-E79)/E79 -> -0.073901264 | I79: =($B79-D79)/D79 -> 0.026184123 | J79: =($B79-C79)/C79 -> -0.0025936132 | K79: Zona Delta: Begues, Castelldefels, El Prat de Llobregat, Gavà, Sant Boi de Llobregat, Sant Climent de Llobregat i Viladecans.
A80: Delta | B80: =+B47+B48+B55+B58+B65+B66+B75 -> 8330 | C80: =+C47+C48+C55+C58+C65+C66+C75 -> 8298 | D80: =+D47+D48+D55+D58+D65+D66+D75 -> 8052 | E80: =+E47+E48+E55+E58+E65+E66+E75 -> 8900 | F80: =+F47+F48+F55+F58+F65+F66+F75 -> 9318 | G80: =($B80-F80)/F80 -> -0.10603134 | H80: =($B80-E80)/E80 -> -0.064044944 | I80: =($B80-D80)/D80 -> 0.034525584 | J80: =($B80-C80)/C80 -> 0.0038563509 | K80: Zona Nord: Abrera, Castellví de Rosanes, Collbató, Esparreguera, Martorell, Olesa de Montserrat, Sant Andreu de la Barca i Sant Esteve Sesrovires.
A81: Nord | B81: =+B46+B49+B51+B56+B60+B62+B67+B64 -> 3388 | C81: =+C46+C49+C51+C56+C60+C62+C67+C64 -> 3377 | D81: =+D46+D49+D51+D56+D60+D62+D67+D64 -> 3313 | E81: =+E46+E49+E51+E56+E60+E62+E67+E64 -> 3623 | F81: =+F46+F49+F51+F56+F60+F62+F67+F64 -> 3910 | G81: =($B81-F81)/F81 -> -0.13350384 | H81: =($B81-E81)/E81 -> -0.064863373 | I81: =($B81-D81)/D81 -> 0.022638092 | J81: =($B81-C81)/C81 -> 0.003257329 | K81: Zona Vall Baixa: Cervelló, Corbera de Llobregat, El Papiol, La Palma de Cervelló, Molins de Rei, Pallejà, Sant Vicenç dels Horts, Santa Coloma de Cervelló, Torrelles de Llobregat i Vallirana.
A82: Vall Baixa | B82: =+B50+B52+B54+B59+B61+B63+B71+B72+B73+B74 -> 3136 | C82: =+C50+C52+C54+C59+C61+C63+C71+C72+C73+C74 -> 3108 | D82: =+D50+D52+D54+D59+D61+D63+D71+D72+D73+D74 -> 3039 | E82: =+E50+E52+E54+E59+E61+E63+E71+E72+E73+E74 -> 3289 | F82: =+F50+F52+F54+F59+F61+F63+F71+F72+F73+F74 -> 3619 | G82: =($B82-F82)/F82 -> -0.13346228 | H82: =($B82-E82)/E82 -> -0.046518699 | I82: =($B82-D82)/D82 -> 0.031918394 | J82: =($B82-C82)/C82 -> 0.009009009
...

Sheet GRGSS1
A1: TORNAR A L'ÍNDEX
A3: LLOCS DE TREBALL. RÈGIM GENERAL SEGURETAT SOCIAL
A5: GRGSS1 | C5: =Índex!A7 -> 2n trimestre 2022
A6: Llocs de treball del RGSS segons àmbit territorial.
A29: Les dades de 2021 provenen d'Idescat, a partir dels fitxers d'afiliacions i comptes de cotització de la Tresoreria General de la Seguretat Social. Dades provisionals.
B31: RGSS | C31: variació 2022-2021 | D31: variació 2022-2020 | E31: variació 2022-2019 | F31: variació 2022-2008
A32: Baix Llobregat | B32: 283735 | C32: 0.044218313 | D32: 0.10622246 | E32: 0.083520453 | F32: 0.14634846
A33: Àrea Metropolitana de Barcelona | B33: 1555366 | C33: 0.05639266 | D33: 0.093409313 | E33: 0.031189627 | F33: 0.091277378
A34: Àmbit Territorial Metropolità | B34: 2017820 | C34: 0.049357484 | D34: 0.091922301 | E34: 0.029847836 | F34: 0.071931535
A35: Catalunya | B35: 2943190 | C35: 0.049720289 | D35: 0.10275698 | E35: 0.034471002 | F35: 0.069374411

Sheet GRGSS2
A1: TORNAR A L'ÍNDEX | D1: Fet!
A3: LLOCS DE TREBALL. RÈGIM GENERAL SEGURETAT SOCIAL.
A5: GRGSS2 | C5: =Índex!A7 -> 2n trimestre 2022
A6: =Índex!B28 -> Variació interanual llocs de treball assalariat. Baix Llobregat.
A29: Les dades de 2021 provenen d'Idescat, a partir dels fitxers d'afiliacions i comptes de cotització de la Tresoreria General de la Seguretat Social. Dades provisionals.
B31: Llocs de treball RGSS | C31: Variació interanual
A32: 2016 | B32: 228443 | C32: =(B32-B40)/B40 -> 0.048764811
A33: 2017 | B33: 238962 | C33: =(B33-B32)/B32 -> 0.046046497
A34: 2018 | B34: 254715 | C34: =(B34-B33)/B33 -> 0.065922615
A35: 2019 | B35: 261864 | C35: =(B35-B34)/B34 -> 0.028066663
A36: 2020 | B36: 256490 | C36: =(B36-B35)/B35 -> -0.020522103
A37: 2021 | B37: 271720 | C37: =(B37-B36)/B36 -> 0.059378533
A38: 2022 | B38: 283735 | C38: =(B38-B37)/B37 -> 0.044218313 | D38: =B38-B37 -> 12015
A40: 2015 | B40: 217821

Sheet GRGSS3
A1: TORNAR A L'ÍNDEX
A3: LLOCS DE TREBALL. RÈGIM GENERAL SEGURETAT SOCIAL
A5: GRGSS3 | C5: =Índex!A7 -> 2n trimestre 2022
A6: Llocs de treball del RGSS per grandària del compte de cotització
A29: Les dades de 2021 provenen d'Idescat, a partir dels fitxers d'afiliacions i comptes de cotització de la Tresoreria General de la Seguretat Social. Dades provisionals.
B31: variació 2022-2021 | C31: variació 2022-2020 | D31: variació 2022-2019 | E31: variació 2022-2008
A32: Fins a 50 treballadors | B32: 0.010509471 | C32: 0.030893721 | D32: -0.019973827 | E32: -0.097186266
A33: De 51 a 250 treballadors | B33: 0.079706165 | C33: 0.12539894 | D33: 0.10498286 | E33: 0.14581512
A34: 251 i més treballadors | B34: 0.059914751 | C34: 0.20441243 | D34: 0.234719 | E34: 0.783946
A35: Total | B35: 0.044218313 | C35: 0.10622246 | D35: 0.083520453 | E35: 0.14634846

Sheet TRGSS1
A1: TORNAR A L'ÍNDEX
A3: LLOCS DE TREBALL. RÈGIM GENERAL SEGURETAT SOCIAL.
A5: =Índex!A30 -> TRGSS1 | C5: =Índex!A7 -> 2n trimestre 2022
A6: =Índex!B30 -> Activitats econòmiques més rellevants. Baix Llobregat.
D8: Variació
B9: 2022 | C9: %total | D9: 2021-2022 | E9: 2020-2022 | F9: 2019-2022 | G9: 2008-2022
A10: Total | B10: 283735 | D10: 0.044218313 | E10: 0.10622246 | F10: 0.083520453 | G10: 0.14634846
A11: 46- Comerç a l'engròs i intermediaris del comerç, excepte vehicles de motor i motocicletes | B11: 28845 | C11: 0.10166176 | D11: 0.051202624 | E11: 0.080013479 | F11: 0.054584674 | G11: 0.099527331
A12: 47- Comerç al detall, excepte el comerç de vehicles de motor i motocicletes | B12: 25895 | C12: 0.091264736 | D12: -0.008234393 | E12: 0.22175041 | F12: 0.16392485 | G12: 0.29513854
A13: 84- Administració pública, Defensa i Seguretat Social obligatòria | B13: 16705 | C13: 0.058875359 | D13: 0.013038205 | E13: 0.13910672 | F13: 0.10658453 | G13: 0.83874518
A14: 56- Serveis de menjar i begudes | B14: 16135 | C14: 0.056866442 | D14: 0.076025342 | E14: 0.20997375 | F14: 0.058657568 | G14: 0.32340879
A15: 52- Emmagatzematge i activitats afins al transport | B15: 14185 | C15: 0.049993832 | D15: 0.10432075 | E15: 0.20754235 | F15: 0.44996422 | G15: 0.60282486
A16: 43- Activitats especialitzades de la construcció | B16: 13080 | C16: 0.046099353 | D16: 0.034400949 | E16: 0.076011846 | F16: 0.033583564 | G16: -0.24628328
A17: 81- Serveis a edificis i activitats de jardineria | B17: 10325 | C17: 0.036389589 | D17: 0.0546476 | E17: 0.082058269 | F17: 0.13811728 | G17: 0.48283786
A18: 86- Activitats sanitàries | B18: 9765 | C18: 0.034415916 | D18: 0.042155816 | E18: 0.097067745 | F18: 0.078528827 | G18: 0.5576647
A19: 85- Educació | B19: 9400 | C19: 0.033129505 | D19: 0.10199297 | E19: 0.13458057 | F19: 0.064191102 | G19: 0.40403286
A20: 25- Fabricació de productes metàl·lics, excepte maquinària i equips | B20: 7145 | C20: 0.025181948 | D20: 0.0098939929 | E20: 0.050117578 | F20: -0.01243953 | G20: -0.30886051
A23: Les dades de 2022 i 2021 provenen d'Idescat, a partir dels fitxers d'afiliacions i comptes de cotització de la Tresoreria General de la Seguretat Social. Dades provisionals.

Sheet TRGSS2
A1: TORNAR A L'ÍNDEX
A3: =TRGSS1!A3 -> LLOCS DE TREBALL. RÈGIM GENERAL SEGURETAT SOCIAL.
A5: =Índex!A31 -> TRGSS2 | C5: =Índex!A7 -> 2n trimestre 2022
A6: =Índex!B31 -> Dinamisme llocs de treball.
A7: ACTIVITATS QUE MÉS HAN AUGMENTAT L'AFILIACIÓ | B7: n | C7: Variació anual
C8: n | D8: %
A9: 46- Comerç a l'engròs i intermediaris del comerç, excepte vehicles de motor i motocicletes | B9: 28845 | C9: 1405 | D9: 0.051202624
A10: 52- Emmagatzematge i activitats afins al transport | B10: 14185 | C10: 1340 | D10: 0.10432075
A11: 51- Transport aeri | B11: 6995 | C11: 1170 | D11: 0.20085837
A12: 56- Serveis de menjar i begudes | B12: 16135 | C12: 1140 | D12: 0.076025342
A13: 85- Educació | B13: 9400 | C13: 870 | D13: 0.10199297
A14: 62- Serveis de tecnologies de la informació | B14: 5010 | C14: 605 | D14: 0.13734393
A15: 81- Serveis a edificis i activitats de jardineria | B15: 10325 | C15: 535 | D15: 0.0546476
A16: 82- Activitats administratives d'oficina i altres activitats auxiliars a les empreses | B16: 5685 | C16: 440 | D16: 0.083889418
A17: 43- Activitats especialitzades de la construcció | B17: 13080 | C17: 435 | D17: 0.034400949
A18: 74- Altres activitats professionals, científiques i tècniques | B18: 1310 | C18: 415 | D18: 0.46368715
A19: ACTIVITATS QUE MÉS HAN DISMINUÏT L'AFILIACIÓ | B19: n | C19: Variació anual
C20: n | D20: %
A21: 88- Activitats de serveis socials sense allotjament | B21: 2675 | C21: -440 | D21: -0.14125201
A22: 29- Fabricació de vehicles de motor, remolcs i semiremolcs | B22: 4435 | C22: -310 | D22: -0.065331928
A23: 20- Indústries químiques | B23: 4660 | C23: -260 | D23: -0.052845528
A24: 47- Comerç al detall, excepte el comerç de vehicles de motor i motocicletes | B24: 25895 | C24: -215 | D24: -0.008234393
A25: 53- Activitats postals i de correus | B25: 1185 | C25: -175 | D25: -0.12867647
A26: 68- Activitats immobiliàries | B26: 2395 | C26: -75 | D26: -0.030364372
A27: 45- Venda i reparació de vehicles de motor i motocicletes | B27: 4860 | C27: -40 | D27: -0.0081632653
A28: 10- Indústries de productes alimentaris | B28: 5795 | C28: 10 | D28: 0.0017286085
A29: 21- Fabricació de productes farmacèutics | B29: 3240 | C29: 45 | D29: 0.014084507
A30: 22- Fabricació de productes de cautxú i matèries plàstiques | B30: 2680 | C30: 45 | D30: 0.017077799
A32: Les dades de 2022 i 2021 provenen d'Idescat, a partir dels fitxers d'afiliacions i comptes de cotització de la Tresoreria General de la Seguretat Social. Dades provisionals.

Sheet DIN_RGSS
G1: 0.003 | M1: variació | Q1: quan ordenis, millor copiïs les cel·les calculades abans
B3: 2022 | C3: 20.22 | D3: 2021 | H3: 2022 | I3: 20.22 | J3: 2021 | N3: 2022 | O3: 20.22 | P3: 2021 | Q3: var absoluta | R3: var relativa
A4: 1- Agricultura, ramaderia, caça i activitats dels serveis que s'hi relacionen | B4: 100 | C4: =B4/$B$92 -> 0.00035244154 | D4: 95 | G4: 10- Indústries de productes alimentaris | H4: 5795 | I4: 0.020423987 | J4: 5785 | M4: 88- Activitats de serveis socials sense allotjament | N4: 2675 | O4: 0.0094278112 | P4: 3115 | Q4: -440 | R4: -0.14125201
A5: 2- Silvicultura i explotació forestal | B5: 60 | C5: =B5/$B$92 -> 0.00021146492 | D5: 70 | G5: 11- Fabricació de begudes | H5: 1495 | I5: 0.005269001 | J5: 1405 | M5: 29- Fabricació de vehicles de motor, remolcs i semiremolcs | N5: 4435 | O5: 0.015630782 | P5: 4745 | Q5: -310 | R5: -0.065331928
A6: 3- Pesca i aqüicultura | B6: 0 | C6: =B6/$B$92 -> 0 | D6: 5 | G6: 17- Indústries del paper | H6: 1015 | I6: 0.0035772816 | J6: 930 | M6: 20- Indústries químiques | N6: 4660 | O6: 0.016423776 | P6: 4920 | Q6: -260 | R6: -0.052845528
A7: 5- Extracció d'antracita, hulla i lignit | B7: 0 | C7: =B7/$B$92 -> 0 | D7: 0 | G7: 18- Arts gràfiques i reproducció de suports enregistrats | H7: 3340 | I7: 0.011771547 | J7: 3180 | M7: 47- Comerç al detall, excepte el comerç de vehicles de motor i motocicletes | N7: 25895 | O7: 0.091264736 | P7: 26110 | Q7: -215 | R7: -0.008234393
A8: 6- Extracció de petroli brut i de gas natural | B8: 0 | C8: =B8/$B$92 -> 0 | D8: 0 | G8: 20- Indústries químiques | H8: 4660 | I8: 0.016423776 | J8: 4920 | M8: 53- Activitats postals i de correus | N8: 1185 | O8: 0.0041764322 | P8: 1360 | Q8: -175 | R8: -0.12867647
A9: 7- Extracció de minerals metàl·lics | B9: 0 | C9: =B9/$B$92 -> 0 | D9: 0 | G9: 21- Fabricació de productes farmacèutics | H9: 3240 | I9: 0.011419106 | J9: 3195 | M9: 68- Activitats immobiliàries | N9: 2395 | O9: 0.0084409749 | P9: 2470 | Q9: -75 | R9: -0.030364372
A10: 8- Extracció de minerals no metàl·lics ni energètics | B10: 140 | C10: =B10/$B$92 -> 0.00049341815 | D10: 130 | G10: 22- Fabricació de productes de cautxú i matèries plàstiques | H10: 2680 | I10: 0.0094454332 | J10: 2635 | M10: 45- Venda i reparació de vehicles de motor i motocicletes | N10: 4860 | O10: 0.017128659 | P10: 4900 | Q10: -40 | R10: -0.0081632653
A11: 9- Activitats de suport a les indústries extractives | B11: 0 | C11: =B11/$B$92 -> 0 | D11: 0 | G11: 23- Fabricació d'altres productes minerals no metàl·lics | H11: 1075 | I11: 0.0037887465 | J11: 995 | M11: 10- Indústries de productes alimentaris | N11: 5795 | O11: 0.020423987 | P11: 5785 | Q11: 10 | R11: 0.0017286085
A12: 10- Indústries de productes alimentaris | B12: 5795 | C12: =B12/$B$92 -> 0.020423987 | D12: 5785 | G12: 25- Fabricació de productes metàl·lics, excepte maquinària i equips | H12: 7145 | I12: 0.025181948 | J12: 7075 | M12: 21- Fabricació de productes farmacèutics | N12: 3240 | O12: 0.011419106 | P12: 3195 | Q12: 45 | R12: 0.014084507
A13: 11- Fabricació de begudes | B13: 1495 | C13: =B13/$B$92 -> 0.005269001 | D13: 1405 | G13: 26- Fabricació de productes informàtics, electrònics i òptics | H13: 950 | I13: 0.0033481946 | J13: 865 | M13: 22- Fabricació de productes de cautxú i matèries plàstiques | N13: 2680 | O13: 0.0094454332 | P13: 2635 | Q13: 45 | R13: 0.017077799
A14: 12- Indústries del tabac | B14: 0 | C14: =B14/$B$92 -> 0 | D14: 0 | G14: 27- Fabricació de materials i equips elèctrics | H14: 2630 | I14: 0.0092692125 | J14: 2260 | M14: 42- Construcció d'obres d'enginyeria civil | N14: 1425 | O14: 0.0050222919 | P14: 1380 | Q14: 45 | R14: 0.032608696
A15: 13- Indústries tèxtils | B15: 800 | C15: =B15/$B$92 -> 0.0028195323 | D15: 865 | G15: 28- Fabricació de maquinària i equips ncaa | H15: 3480 | I15: 0.012264966 | J15: 3360 | M15: 64- Mediació financera, excepte assegurances i fons de pensions | N15: 1550 | O15: 0.0054628439 | P15: 1495 | Q15: 55 | R15: 0.036789298
... A55: 59- Activitats de cinematografia, de vídeo i de programes de televisió; activitats d'enregistrament de so i edició musical | B55: 870 | C55: =B55/$B$92 -> 0.0030662414 | D55: 795 | G55: Total | H55: 283735 | I55: 1 | J55: 271720 | M55: Total | N55: 283735 | O55: 1 | P55: 271720 | Q55: 12015 | R55: 0.044218313
A56: 60- Activitats d'emissió i programació de ràdio i televisió | B56: 2340 | C56: =B56/$B$92 -> 0.008247132 | D56: 2250
A57: 61- Telecomunicacions | B57: 305 | C57: =B57/$B$92 -> 0.0010749467 | D57: 290
A58: 62- Serveis de tecnologies de la informació | B58: 5010 | C58: =B58/$B$92 -> 0.017657321 | D58: 4405
A59: 63- Serveis d'informació | B59: 425 | C59: =B59/$B$92 -> 0.0014978765 | D59: 690
A60: 64- Mediació financera, excepte assegurances i fons de pensions | B60: 1550 | C60: =B60/$B$92 -> 0.0054628439 | D60: 1495
A61: 65- Assegurances, reassegurances i fons de pensions, excepte la Seguretat Social obligatòria | B61: 475 | C61: =B61/$B$92 -> 0.0016740973 | D61: 505
A62: 66- Activitats auxiliars de la mediació financera i d'assegurances | B62: 525 | C62: =B62/$B$92 -> 0.0018503181 | D62: 540
A63: 68- Activitats immobiliàries | B63: 2395 | C63: =B63/$B$92 -> 0.0084409749 | D63: 2470
A64: 69- Activitats jurídiques i de comptabilitat | B64: 4410 | C64: =B64/$B$92 -> 0.015542672 | D64: 4245
A65: 70- Activitats de les seus centrals; activitats de consultoria de gestió empresarial | B65: 1265 | C65: =B65/$B$92 -> 0.0044583855 | D65: 1140
A66: 71- Serveis tècnics d'arquitectura i enginyeria; assajos i anàlisis tècnics | B66: 5875 | C66: =B66/$B$92 -> 0.02070594 | D66: 5590
A67: 72- Recerca i desenvolupament | B67: 1250 | C67: =B67/$B$92 -> 0.0044055192 | D67: 1110
... A92: Total | B92: 283735 | C92: =B92/$B$92 -> 1 | D92: 271720

Sheet TRGSS3
A1: TORNAR A L'ÍNDEX
A3: =TRGSS1!A3 -> LLOCS DE TREBALL. RÈGIM GENERAL SEGURETAT SOCIAL.
A5: =Índex!A32 -> TRGSS3 | C5: =Índex!A7 -> 2n trimestre 2022
A6: =Índex!B21 -> Dades municipals.
B8: Llocs de treball (RGSS) | C8: % Baix Llobregat | D8: variació relativa (en %)
B9: Empreses | D9: 2021 | E9: 2020 | F9: 2019 | G9: 2008
A10: Abrera | B10: 6495 | C10: 0.022891078 | D10: -0.011415525 | E10: -0.030307554 | F10: -0.0091533181 | G10: 0.036877395
A11: Begues | B11: 610 | C11: 0.0021498934 | D11: 0.0082644628 | E11: -0.019292605 | F11: -0.085457271 | G11: -0.081325301
A12: Castelldefels | B12: 12595 | C12: 0.044390012 | D12: 0.091421144 | E12: 0.10086531 | F12: 0.063407633 | G12: 0.1965609
A13: Castellví de Rosanes | B13: 1010 | C13: 0.0035596595 | D13: 0.12849162 | E13: 0.024340771 | F13: 0.054279749 | G13: 0.099020675
A14: Cervelló | B14: 2125 | C14: 0.0074893827 | D14: 0.03406326 | E14: 0.030552861 | F14: 0.0023584906 | G14: 0.14864865
A15: Collbató | B15: 475 | C15: 0.0016740973 | D15: 0.055555556 | E15: 0.10465116 | F15: 0.014957265 | G15: -0.14874552
A16: Corbera de Llobregat | B16: 1305 | C16: 0.0045993621 | D16: -0.0038167939 | E16: 0.0069444444 | F16: -0.083567416 | G16: 0.003074558
A17: Cornellà de Llobregat | B17: 40225 | C17: 0.14176961 | D17: 0.039271412 | E17: 0.1267507 | F17: 0.13556164 | G17: 0.32641957
A18: El Papiol | B18: 1995 | C18: 0.0070312087 | D18: 0.06684492 | E18: 0.14985591 | F18: 0.13352273 | G18: -0.11529933
A19: El Prat de Llobregat | B19: 51205 | C19: 0.18046769 | D19: 0.067326733 | E19: 0.20567459 | F19: 0.21097815 | G19: 0.48128327
A20: Esparreguera | B20: 4855 | C20: 0.017111037 | D20: 0.061202186 | E20: 0.09841629 | F20: 0.043861535 | G20: -0.0556312
A21: Esplugues de Llobregat | B21: 19235 | C21: 0.06779213 | D21: 0.0036524915 | E21: 0.13796368 | F21: 0.1366188 | G21: 0.11746935
... A40: BAIX LLOBREGAT | B40: 283735 | C40: 1 | D40: 0.044218313 | E40: 0.10622246 | F40: 0.083520453 | G40: 0.14634846
A42: Les dades de 2021 provenen d'Idescat, a partir dels fitxers d'afiliacions i comptes de cotització de la Tresoreria General de la Seguretat Social. Dades provisionals.
A46: Zona | B46: 2022 2T | C46: 2021 2T | D46: 2020 2T | E46: 20219 2T | F46: 2008 2T | G46: 2008-2022 | H46: 2019-2022 | I46: 2020-2022 | J46: 2021-2022 | K46: Zona Centre: Cornellà de Llobregat, Esplugues de Llobregat, Sant Joan Despí, Sant Feliu de Llobregat i Sant Just Desvern.
A47: Centre | B47: 100805 | C47: 97150 | D47: 90475 | E47: 91197 | F47: 81894 | G47: 0.23092046 | H47: 0.10535434 | I47: 0.11417519 | J47: 0.037622234 | K47: Zona Delta: Begues, Castelldefels, El Prat de Llobregat, Gavà, Sant Boi de Llobregat, Sant Climent de Llobregat i Viladecans.
A48: Delta | B48: 116130 | C48: 109995 | D48: 103623 | E48: 106196 | F48: 94310 | G48: 0.23136465 | H48: 0.093544013 | I48: 0.12069714 | J48: 0.055775263 | K48: Zona Nord: Abrera, Castellví de Rosanes, Collbató, Esparreguera, Martorell, Olesa de Montserrat, Sant Andreu de la Barca i Sant Esteve Sesrovires.
A49: Nord | B49: 40990 | C49: 39210 | D49: 38073 | E49: 39386 | F49: 42711 | G49: -0.040294069 | H49: 0.040725131 | I49: 0.076615975 | J49: 0.045396583 | K49: Zona Vall Baixa: Cervelló, Corbera de Llobregat, El Papiol, La Palma de Cervelló, Molins de Rei, Pallejà, Sant Vicenç dels Horts, Santa Coloma de Cervelló, Torrelles de Llobregat i Vallirana.
A50: Vall Baixa | B50: 25810 | C50: 25365 | D50: 24319 | E50: 25085 | F50: 28597 | G50: -0.097457775 | H50: 0.028901734 | I50: 0.061310087 | J50: 0.01754386
A51: Total | B51: 283735 | C51: 271720 | D51: 256490 | E51: 261864 | F51: 247512 | G51: 0.14634846 | H51: 0.083520453 | I51: 0.10622246 | J51: 0.044218313

Sheet TRGSS4
A1: TORNAR A L'ÍNDEX
A3: =TRGSS1!A3 -> LLOCS DE TREBALL. RÈGIM GENERAL SEGURETAT SOCIAL.
A5: =Índex!A33 -> TRGSS4 | C5: =Índex!A7 -> 2n trimestre 2022
A6: =Índex!B33 -> Dades municipals. Llocs de treball assalariat per grandària del compte de cotització.
B8: Fins a 50 treballadors | C8: De 51 a 250 treballadors | D8: 251 i més treballadors | E8: % Baix Llobregat | H8: variació relativa 2021 (en %)
C9: De 51 a 250 treballadors | E9: Fins a 50 treballadors | F9: De 51 a 250 treballadors | G9: 251 i més treballadors | H9: Fins a 50 treballadors | I9: De 51 a 250 treballadors | J9: 251 i més treballadors
A10: Abrera | B10: 2980 | C10: 2605 | D10: 915 | E10: 0.025508239 | F10: 0.033127742 | G10: 0.010365336 | H10: 0.034722222 | I10: -0.064631957 | J10: 0.011049724
A11: Begues | B11: 610 | C11: 0 | D11: 0 | E11: 0.0052214851 | F11: 0 | G11: 0 | H11: 0.0082644628 | I11: - | J11: -
A12: Castelldefels | B12: 8845 | C12: 3075 | D12: 675 | E12: 0.075711534 | F12: 0.039104724 | G12: 0.007646559 | H12: 0.066305003 | I12: 0.17366412 | J12: 0.071428571
A13: Castellví de Rosanes | B13: 545 | C13: 120 | D13: 350 | E13: 0.0046650974 | F13: 0.001526038 | G13: 0.0039648825 | H13: 0.018691589 | I13: 0.84615385 | J13: 0.18644068
A14: Cervelló | B14: 1350 | C14: 775 | D14: 0 | E14: 0.011555746 | F14: 0.0098556622 | G14: 0 | H14: 0.018867925 | I14: 0.061643836 | J14: -
A15: Collbató | B15: 475 | C15: 0 | D15: 0 | E15: 0.0040659105 | F15: 0 | G15: 0 | H15: 0.06741573 | I15: - | J15: -
A16: Corbera de Llobregat | B16: 1010 | C16: 295 | D16: 0 | E16: 0.0086454098 | F16: 0.0037515101 | G16: 0 | H16: 0.0049751244 | I16: -0.016666667 | J16: -
A17: Cornellà de Llobregat | B17: 14205 | C17: 9725 | D17: 16300 | E17: 0.12159212 | F17: 0.12367266 | G17: 0.18465024 | H17: 0.016457961 | I17: 0.10323313 | J17: 0.024191015
A18: Esparreguera | B18: 2985 | C18: 1505 | D18: 365 | E18: 0.025551038 | F18: 0.01913906 | G18: 0.004134806 | H18: 0.0016778523 | I18: 0.14015152 | J18: 0.30357143
A19: Esplugues de Llobregat | B19: 5915 | C19: 5860 | D19: 7455 | E19: 0.050631286 | F19: 0.074521523 | G19: 0.084451997 | H19: -0.0405515 | I19: 0.077205882 | J19: -0.013888889
A20: Gavà | B20: 6690 | C20: 4715 | D20: 1120 | E20: 0.05726514 | F20: 0.059960577 | G20: 0.012687624 | H20: -0.030434783 | I20: 0.1772784 | J20: -0.21126761
A21: Martorell | B21: 4090 | C21: 2435 | D21: 3390 | E21: 0.03500963 | F21: 0.030965855 | G21: 0.038402719 | H21: 0.080581242 | I21: 0.014583333 | J21: 0.049535604
A22: Molins de Rei | B22: 5065 | C22: 1795 | D22: 0 | E22: 0.043355446 | F22: 0.022826985 | G22: 0 | H22: 0.044329897 | I22: -0.024456522 | J22: -
A23: Olesa de Montserrat | B23: 2195 | C23: 1455 | D23: 0 | E23: 0.018788787 | F23: 0.018503211 | G23: 0 | H23: -0.047722343 | I23: 0.12355212 | J23: -
A24: Pallejà | B24: 1715 | C24: 860 | D24: 0 | E24: 0.014680077 | F24: 0.010936606 | G24: 0 | H24: 0.03313253 | I24: -0.011494253 | J24: -
A25: Palma de Cervelló, la | B25: 520 | C25: 0 | D25: 0 | E25: 0.0044511021 | F25: 0 | G25: 0 | H25: -0.028037383 | I25: -1 | J25: -
A26: Papiol, el | B26: 1150 | C26: 845 | D26: 0 | E26: 0.0098437834 | F26: 0.010745851 | G26: 0 | H26: -0.012875536 | I26: 0.19014085 | J26: -
A27: Prat de Llobregat, el | B27: 10290 | C27: 10625 | D27: 30290 | E27: 0.088080462 | F27: 0.13511795 | G27: 0.34313226 | H27: -0.027410208 | I27: 0.14493534 | J27: 0.077360839
A28: Sant Andreu de la Barca | B28: 4475 | C28: 2325 | D28: 2510 | E28: 0.038305157 | F28: 0.029566987 | G28: 0.028433871 | H28: -0.039699571 | I28: 0.15671642 | J28: 0.32453826
A29: Sant Boi de Llobregat | B29: 10405 | C29: 7240 | D29: 5285 | E29: 0.089064841 | F29: 0.092070961 | G29: 0.059869725 | H29: 0.0062862669 | I29: 0.10957854 | J29: 0.057
A30: Sant Climent de Llobregat | B30: 465 | C30: 70 | D30: 0 | E30: 0.0039803124 | F30: 0.00089018885 | G30: 0 | H30: 0.021978022 | I30: 0 | J30: -
A31: Sant Esteve Sesrovires | B31: 1950 | C31: 2035 | D31: 1295 | E31: 0.016691633 | F31: 0.025879061 | G31: 0.014670065 | H31: 0.048387097 | I31: 0.046272494 | J31: -0.03358209
A32: Sant Feliu de Llobregat | B32: 5470 | C32: 3625 | D32: 6455 | E32: 0.04682217 | F32: 0.046099065 | G32: 0.073123761 | H32: -0.0081595648 | I32: 0.10350076 | J32: 0.050447518
A33: Sant Joan Despí | B33: 5080 | C33: 3620 | D33: 4670 | E33: 0.043483843 | F33: 0.04603548 | G33: 0.05290286 | H33: 0.022132797 | I33: 0.11901082 | J33: 0.026373626
A34: Sant Just Desvern | B34: 4970 | C34: 4755 | D34: 2700 | E34: 0.042542264 | F34: 0.060469257 | G34: 0.030586236 | H34: 0.028985507 | I34: 0.0404814 | J34: 0.24137931
A35: Sant Vicenç dels Horts | B35: 3000 | C35: 2980 | D35: 310 | E35: 0.025679435 | F35: 0.037896611 | G35: 0.003511753 | H35: -0.029126214 | I35: 0.11610487 | J35: -0.088235294
A36: Santa Coloma de Cervelló | B36: 900 | C36: 655 | D36: 295 | E36: 0.0077038305 | F36: 0.0083296242 | G36: 0.0033418295 | H36: 0.046511628 | I36: -0.04379562 | J36: 0.072727273
A37: Torrelles de Llobregat | B37: 530 | C37: 0 | D37: 0 | E37: 0.0045367002 | F37: 0 | G37: 0 | H37: 0.0095238095 | I37: - | J37: -
A38: Vallirana | B38: 1600 | C38: 155 | D38: 0 | E38: 0.013695699 | F38: 0.0019711324 | G38: 0 | H38: 0.14285714 | I38: -0.64367816 | J38: -
A39: Viladecans | B39: 7340 | C39: 4490 | D39: 3900 | E39: 0.062829018 | F39: 0.057099256 | G39: 0.044180119 | H39: 0.029453015 | I39: -0.067497404 | J39: 0.21684867
A40: BAIX LLOBREGAT | B40: 116825 | C40: 78635 | D40: 88275 | E40: 1 | F40: 1 | G40: 1 | H40: 0.010509471 | I40: 0.079706165 | J40: 0.059914751
A42: Les dades de 2021 provenen d'Idescat, a partir dels fitxers d'afiliacions i comptes de cotització de la Tresoreria General de la Seguretat Social. Dades provisionals.

Sheet TRGS5
A1: TORNAR A L'ÍNDEX
A3: =TRGSS1!A3 -> LLOCS DE TREBALL. RÈGIM GENERAL SEGURETAT SOCIAL.
A5: =Índex!A34 -> TRGSS5 | C5: =Índex!A7 -> 2n trimestre 2022
A6: =Índex!B34 -> Dades municipals. Relació entre població ocupada i llocs de treball.
B9: P. Règim General resident al municipi | C9: P. Règim General treballant al municipi | D9: Diferència residents-treballant (abs) | E9: Diferència residents-treballant (%)
A11: Abrera | B11: 5262 | C11: 6495 | D11: =+B11-C11 -> -1233 | E11: =+D11/B11 -> -0.23432155
A12: Begues | B12: 2762 | C12: 610 | D12: =+B12-C12 -> 2152 | E12: =+D12/B12 -> 0.77914555
A13: Castelldefels | B13: 24545 | C13: 12595 | D13: =+B13-C13 -> 11950 | E13: =+D13/B13 -> 0.48686087
A14: Castellví de Rosanes | B14: 826 | C14: 1010 | D14: =+B14-C14 -> -184 | E14: =+D14/B14 -> -0.22276029
A15: Cervelló | B15: 3505 | C15: 2125 | D15: =+B15-C15 -> 1380 | E15: =+D15/B15 -> 0.39372325
A16: Collbató | B16: 1813 | C16: 475 | D16: =+B16-C16 -> 1338 | E16: =+D16/B16 -> 0.73800331
A17: Corbera de Llobregat | B17: 5826 | C17: 1305 | D17: =+B17-C17 -> 4521 | E17: =+D17/B17 -> 0.77600412
A18: Cornellà de Llobregat | B18: 34086 | C18: 40225 | D18: =+B18-C18 -> -6139 | E18: =+D18/B18 -> -0.18010327
A19: El Papiol | B19: 1697 | C19: 1995 | D19: =+B19-C19 -> -298 | E19: =+D19/B19 -> -0.17560401
A20: El Prat de Llobregat | B20: 25517 | C20: 51205 | D20: =+B20-C20 -> -25688 | E20: =+D20/B20 -> -1.0067014
A21: Esparreguera | B21: 8792 | C21: 4855 | D21: =+B21-C21 -> 3937 | E21: =+D21/B21 -> 0.44779345
A22: Esplugues de Llobregat | B22: 16284 | C22: 19235 | D22: =+B22-C22 -> -2951 | E22: =+D22/B22 -> -0.18122083
... A41: BAIX LLOBREGAT | B41: 320640 | C41: 283735 | D41: =+B41-C41 -> 36905 | E41: =+D41/B41 -> 0.11509793
A42: Font: OCBL a partir de dades d'IDESCAT, afiliacions segons residència padronal i compte de cotització. Les dades corresponen al segon trimestre.

Sheet TRGSS6
A1: TORNAR A L'ÍNDEX
A3: =TRGSS1!A3 -> LLOCS DE TREBALL. RÈGIM GENERAL SEGURETAT SOCIAL.
A5: =Índex!A35 -> TRGSS6 | C5: =Índex!A7 -> 2n trimestre 2022
A6: =Índex!B35 -> Dades municipals. Llocs de treball assalariat ocupats per dones.
B8: Llocs de treball ocupats per dones | C8: % total llocs de treball
C9: De 51 a 250 treballadors
A10: Abrera | B10: 1841 | C10: 0.27860169
A11: Begues | B11: 356 | C11: 0.47593583
A12: Castelldefels | B12: 6126 | C12: 0.47926772
A13: Castellví de Rosanes | B13: 375 | C13: 0.3585086
A14: Cervelló | B14: 980 | C14: 0.43710972
A15: Collbató | B15: 260 | C15: 0.46345811
A16: Corbera de Llobregat | B16: 770 | C16: 0.53361053
A17: Cornellà de Llobregat | B17: 16039 | C17: 0.39669074
A18: Esparreguera | B18: 2017 | C18: 0.40235388
A19: Esplugues de Llobregat | B19: 10513 | C19: 0.54277454
A20: Gavà | B20: 5268 | C20: 0.41650854
A21: Martorell | B21: 4105 | C21: 0.40793004
... A39: Viladecans | B39: 7611 | C39: 0.47889008
A40: BAIX LLOBREGAT | B40: =SUM(B10:B39) -> 127061 | C40: =B40/D48 -> 0.44192671
A42: Les dades de 2021 provenen d'Idescat, a partir dels fitxers d'afiliacions i comptes de cotització de la Tresoreria General de la Seguretat Social. Dades provisionals.
D48: 287516
D49: =D48-B40 -> 160455

Sheet GRETA1
A1: TORNAR A L'ÍNDEX
A3: LLOCS DE TREBALL. RÈGIM ESPECIAL TREBALLADORS AUTÒNOMS
A5: GRETA1 | C5: =Índex!A7 -> 2n trimestre 2022
A6: Llocs de treball del RETA segons àmbit territorial.
A29: Les dades de 2021 provenen d'Idescat, a partir dels fitxers d'afiliacions i comptes de cotització de la Tresoreria General de la Seguretat Social. Dades provisionals.
B31: RETA | C31: variació 2022-2021 | D31: variació 2022-2020 | E31: variació 2022-2019 | F31: variació 2022-2008
A32: Baix Llobregat | B32: 48960 | C32: 0.00020429009 | D32: -0.018345865 | E32: -0.030725372 | F32: -0.11541519
A33: Àrea Metropolitana de Barcelona | B33: 227808 | C33: 0.0047412595 | D33: 0.023258321 | E33: 0.011145288 | F33: -0.014926922
A34: Àmbit Territorial Metropolità | B34: 345730 | C34: 0.0028280953 | D34: 0.041512276 | E34: 0.02809241 | F34: -0.017589225
A35: Catalunya | B35: 558875 | C35: 0.0023225367 | D35: 0.026453151 | E35: 0.0076701026 | F35: -0.060586399

Sheet GRETA2
A1: TORNAR A L'ÍNDEX
A3: LLOCS DE TREBALL. RÈGIM ESPECIAL TREBALLADORS AUTÒNOMS
A5: =Índex!A40 -> GRETA2 | C5: =Índex!A7 -> 2n trimestre 2022
A6: =Índex!B40 -> Variació interanual llocs de treball autònom. Baix Llobregat.
A29: Les dades de 2022 i 2021 provenen d'Idescat, a partir dels fitxers d'afiliacions i comptes de cotització de la Tresoreria General de la Seguretat Social. Dades provisionals.
B31: Llocs de treball RETA | C31: Variació interanual
A32: 2016 | B32: 50609 | C32: =(B32-B40)/B40 -> 0.0034499851
A33: 2017 | B33: 50685 | C33: =(B33-B32)/B32 -> 0.0015017092
A34: 2018 | B34: 50612 | C34: =(B34-B33)/B33 -> -0.0014402683
A35: 2019 | B35: 50512 | C35: =(B35-B34)/B34 -> -0.001975816
A36: 2020 | B36: 49875 | C36: =(B36-B35)/B35 -> -0.012610865
A37: 2021 | B37: 48950 | C37: =(B37-B36)/B36 -> -0.018546366
A38: 2022 | B38: 48960 | C38: =(B38-B37)/B37 -> 0.00020429009
A40: 2015 | B40: 50435

Sheet TRETA1
A1: TORNAR A L'ÍNDEX
