Workbook

Sheet Índex
A6: INFORME TRIMESTRAL ESTRUCTURA PRODUCTIVA
A7: 3r trimestre 2023
A9: CONTINGUT
A10: Fer click als vincles per anar als documents, taules i gràfics corresponents
A12: GG | B12: Variació interanual del conjunt de components de l'estructura productiva. Evolució recent de l'estructura productiva del Baix Llobregat.
A13: TG | B13: =[1]TG!A7 -> Posicionament comarcal en el context de l'àmbit territorial metropolità i Catalunya. Estructura productiva.
A15: EMPRESES
A17: GE1 | B17: Comptes de cotització segons àmbit territorial.
A18: GE2 | B18: Variació interanual comptes de cotització. Baix Llobregat.
A19: TE1 | B19: Activitats econòmiques més rellevants. Baix Llobregat.
A20: TE2 | B20: Dinamisme empresarial.
A21: TE3 | B21: Dades municipals.
A23: LLOCS DE TREBALL
A25: Règim General Seguretat Social (RGSS)
A27: GRGSS1 | B27: Llocs de treball assalariat segons àmbit territorial.
A28: GRGSS2 | B28: Variació interanual llocs de treball assalariat. Baix Llobregat.
A29: GRGSS3 | B29: Variació interanual llocs de treball assalariat per grandària del compte de cotització. Baix Llobregat.
A30: TRGSS1 | B30: Activitats econòmiques més rellevants. Baix Llobregat.
A31: TRGSS2 | B31: Dinamisme llocs de treball.
A32: TRGSS3 | B32: Dades municipals.
A33: TRGSS4 | B33: Dades municipals. Llocs de treball assalariat per grandària del compte de cotització.
A34: TRGSS5 | B34: Dades municipals. Relació entre població ocupada i llocs de treball.
A35: TRGSS6 | B35: Dades municipals. Llocs de treball assalariat ocupats per dones.
A37: Règim Especial Treballadors Autònoms (RETA)
A39: GRETA1 | B39: Llocs de treball autònom segons àmbit territorial.
A40: GRETA2 | B40: Variació interanual llocs de treball autònom. Baix Llobregat.
A41: TRETA1 | B41: Activitats econòmiques més rellevants. Baix Llobregat.
A42: TRETA2 | B42: Dinamisme llocs de treball.
A43: TRETA3 | B43: Dades municipals.
A45: ANÀLISI SEGONS 7 SECTORS PRODUCTIUS
A47: T7S1 | B47: Llocs de treball segons àmbit territorial
A48: G7S1 | B48: Variació intertrimestral llocs de treball. Baix Llobregat.
A49: T7S2 | B49: Llocs de treball segons municipi.
A50: G7S2 | B50: Llocs de treball segons sexe.
A51: T7S3 | B51: Diferencial segons sexe de les activitats econòmiques.
A53: ÚS DE TECNOLOGIA i CONEIXEMENT
A55: TTC1 | B55: Llocs de treball segons ús de tecnologia i coneixement. Baix Llobregat i àmbits territorials.
A56: TTC2 | B56: Llocs de treball segons ús de tecnologia i coneixement. Dades municipals.

Sheet GG
A1: TORNAR A L'ÍNDEX
A3: EMPRESES, LLOCS DE TREBALL, RGSS I RETA
A5: GG | C5: =Índex!A7 -> 3r trimestre 2023
A7: Variació interanual de l'estructura productiva. Baix Llobregat i àmbits territorials de referència
A30: Les dades de 2021 provenen d'Idescat, a partir dels fitxers d'afiliacions i comptes de cotització de la Tresoreria General de la Seguretat Social. Dades provisionals.
B32: Empreses | C32: Total llocs de treball | D32: RGSS | E32: RETA
A33: Baix Llobregat | B33: ='GE1'!C32 -> 0.0014411991 | C33: 0.035648053 | D33: =GRGSS1!C32 -> 0.040909559 | E33: =GRETA1!C32 -> 0.0041169205
A34: Àrea Metropolitana de Barcelona | B34: ='GE1'!C33 -> 0.0082109139 | C34: 0.030175708 | D34: =GRGSS1!C33 -> 0.033103528 | E34: =GRETA1!C33 -> 0.010610363
A35: Àmbit Territorial Metropolità | B35: ='GE1'!C34 -> 0.0067214144 | C35: 0.035015197 | D35: =GRGSS1!C34 -> 0.03930347 | E35: =GRETA1!C34 -> 0.0096936403
A36: Catalunya | B36: ='GE1'!C35 -> 0.0081113297 | C36: 0.03647841 | D36: =GRGSS1!C35 -> 0.04155111 | E36: =GRETA1!C35 -> 0.0096979848
A62: Les dades de 2021 provenen d'Idescat, a partir dels fitxers d'afiliacions i comptes de cotització de la Tresoreria General de la Seguretat Social. Dades provisionals.
B64: Empreses | C64: Total llocs de treball | D64: RGSS | E64: RETA
A65: Variació anual | B65: ='GE1'!C32 -> 0.0014411991 | C65: 0.024677257 | D65: =GRGSS1!C32 -> 0.040909559 | E65: =GRETA1!C32 -> 0.0041169205
A66: Variació 2019 | B66: ='GE1'!F32 -> -0.054345854 | C66: 0.091329039 | D66: =GRGSS1!F32 -> 0.13008424 | E66: =GRETA1!F32 -> -0.026561035

Sheet TG
A1: TORNAR A L'ÍNDEX | B1: Fet!
D2: =B20+B30 -> 351820
A3: EMPRESES, LLOCS DE TREBALL, RGSS I RETA | D3: =B25+B35 -> 1853590
A5: TG | B5: =Índex!A7 -> 3r trimestre 2023
A7: Posicionament comarcal en el context de l'àmbit territorial metropolità i Catalunya. Estructura productiva. | H7: Ocultar
B8: n | C8: % / Total ATM | D8: % / Total Catalunya | E8: Variació trimestral | H8: Trimestre anterior
A9: CENTRES DE COTITZACIÓ | E9: n | F9: % | H9: 2t 2023
A10: BAIX LLOBREGAT | B10: 20846 | C10: =B10/$B$16 -> 0.13538825 | D10: =B10/$B$17 -> 0.084412823 | E10: =B10-H10 -> -37 | F10: =E10/H10 -> -0.0017717761 | H10: 20883
A11: Barcelonès | B11: 83837 | C11: =B11/$B$16 -> 0.5444951 | D11: =B11/$B$17 -> 0.33948565 | E11: =B11-H11 -> 8 | F11: =E11/H11 -> 9.5432368e-05 | H11: 83829
A12: Maresme | B12: 12115 | C12: =B12/$B$16 -> 0.078683137 | D12: =B12/$B$17 -> 0.049057918 | E12: =B12-H12 -> -103 | F12: =E12/H12 -> -0.008430185 | H12: 12218
A13: Vallès Occidental | B13: 25313 | C13: =B13/$B$16 -> 0.16440002 | D13: =B13/$B$17 -> 0.10250129 | E13: =B13-H13 -> -46 | F13: =E13/H13 -> -0.0018139517 | H13: 25359
A14: Vallès Oriental | B14: 11738 | C14: =B14/$B$16 -> 0.07623464 | D14: =B14/$B$17 -> 0.047531312 | E14: =B14-H14 -> -59 | F14: =E14/H14 -> -0.0050012715 | H14: 11797
A15: Àrea Metropolitana de Barcelona (AMB) | B15: 110633 | C15: - | D15: =B15/B16 -> 0.71852675 | E15: =B15-H15 -> -75 | F15: =E15/H15 -> -0.00067745782 | H15: 110708
A16: Àmbit Territorial Metropolità (ATM) | B16: 153972 | C16: - | D16: =B16/B17 -> 0.62348706 | E16: =B16-H16 -> -240 | F16: =E16/H16 -> -0.0015562991 | H16: 154212
A17: Catalunya | B17: 246953 | C17: - | D17: - | E17: =B17-H17 -> -902 | F17: =E17/H17 -> -0.0036392245 | H17: 247855
B18: n | C18: % / Total ATM | D18: % / Total Catalunya | E18: Variació trimestral | H18: n
A19: POBLACIÓ ASSALARIADA | E19: n | F19: %
A20: BAIX LLOBREGAT | B20: 303040 | C20: =B20/$B$26 -> 0.14352936 | D20: =B20/$B$27 -> 0.099251455 | E20: =B20-H20 -> 10835 | F20: =E20/H20 -> 0.037080132 | H20: 292205
A21: Barcelonès | B21: 1207020 | C21: =B21/$B$26 -> 0.57168298 | D21: =B21/$B$27 -> 0.39532237 | E21: =B21-H21 -> 10000 | F21: =E21/H21 -> 0.0083540793 | H21: 1197020
A22: Maresme | B22: 111435 | C22: =B22/$B$26 -> 0.052779153 | D22: =B22/$B$27 -> 0.036497115 | E22: =B22-H22 -> -215 | F22: =E22/H22 -> -0.0019256605 | H22: 111650
A23: Vallès Occidental | B23: 363010 | C23: =B23/$B$26 -> 0.17193306 | D23: =B23/$B$27 -> 0.11889279 | E23: =B23-H23 -> 4390 | F23: =E23/H23 -> 0.01224137 | H23: 358620
A24: Vallès Oriental | B24: 126060 | C24: =B24/$B$26 -> 0.059706017 | D24: =B24/$B$27 -> 0.041287085 | E24: =B24-H24 -> 45 | F24: =E24/H24 -> 0.00035710035 | H24: 126015
A25: Àrea Metropolitana de Barcelona (AMB) | B25: 1616900 | C25: - | D25: =B25/$B$27 -> 0.52956599 | E25: =B25-H25 -> 23680 | F25: =E25/H25 -> 0.014862982 | H25: 1593220
A26: Àmbit Territorial Metropolità (ATM) | B26: 2111345 | C26: - | D26: =B26/$B$27 -> 0.69150628 | E26: =B26-H26 -> 25055 | F26: =E26/H26 -> 0.012009356 | H26: 2086290
A27: Catalunya | B27: 3053255 | C27: - | D27: - | E27: =B27-H27 -> 14065 | F27: =E27/H27 -> 0.0046278778 | H27: 3039190
B28: n | C28: % / Total ATM | D28: % / Total Catalunya | E28: Variació trimestral | H28: n
A29: POBLACIÓ DEL RÈGIM AUTÒNOM | E29: n | F29: %
A30: BAIX LLOBREGAT | B30: 48780 | C30: =B30/$B$36 -> 0.14042461 | D30: =B30/$B$37 -> 0.087005378 | E30: =B30-H30 -> 80 | F30: =E30/H30 -> 0.0016427105 | H30: 48700
A31: Barcelonès | B31: 173840 | C31: =B31/$B$36 -> 0.50043901 | D31: =B31/$B$37 -> 0.31006591 | E31: =B31-H31 -> 710 | F31: =E31/H31 -> 0.0041009646 | H31: 173130
A32: Maresme | B32: 33820 | C32: =B32/$B$36 -> 0.097358762 | D32: =B32/$B$37 -> 0.060322302 | E32: =B32-H32 -> -5 | F32: =E32/H32 -> -0.00014781966 | H32: 33825
A33: Vallès Occidental | B33: 61150 | C33: =B33/$B$36 -> 0.17603454 | D33: =B33/$B$37 -> 0.10906886 | E33: =B33-H33 -> 145 | F33: =E33/H33 -> 0.0023768544 | H33: 61005
A34: Vallès Oriental | B34: 29405 | C34: =B34/$B$36 -> 0.084649154 | D34: =B34/$B$37 -> 0.052447584 | E34: =B34-H34 -> 95 | F34: =E34/H34 -> 0.0032412146 | H34: 29310
A35: Àrea Metropolitana de Barcelona (AMB) | B35: 236690 | C35: - | D35: =B35/$B$37 -> 0.42216693 | E35: =B35-H35 -> 735 | F35: =E35/H35 -> 0.0031150007 | H35: 235955
A36: Àmbit Territorial Metropolità (ATM) | B36: 347375 | C36: - | D36: =B36/$B$37 -> 0.6195878 | E36: =B36-H36 -> 1030 | F36: =E36/H36 -> 0.0029739133 | H36: 346345
A37: Catalunya | B37: 560655 | C37: - | D37: - | E37: =B37-H37 -> 1360 | F37: =E37/H37 -> 0.0024316327 | H37: 559295
A38: Font: OCBL, a partir de les dades d'Estadística de l'ocupació assalariada i autònoma segons afiliacions a la Seguretat Social d'IDESCAT.
B41: =B30+B20 -> 351820

Sheet GE1
A1: TORNAR A L'ÍNDEX
A3: EMPRESES
A5: GE1 | C5: =Índex!A7 -> 3r trimestre 2023
A6: Comptes de cotització segons àmbit territorial.
A29: Les dades de 2021 provenen d'Idescat, a partir dels fitxers d'afiliacions i comptes de cotització de la Tresoreria General de la Seguretat Social. Dades provisionals.
B31: Empreses | C31: variació 2023-2022 | D31: variació 2023-2021 | E31: variació 2023-2020 | F31: variació 2023-2019 | G31: variació 2023-2008
A32: Baix Llobregat | B32: 20846 | C32: 0.0014411991 | D32: -0.0021062709 | E32: 0.015392109 | F32: -0.054345854 | G32: -0.10746703
A33: Àrea Metropolitana de Barcelona | B33: 110633 | C33: 0.0082109139 | D33: 0.016464384 | E33: 0.028723127 | F33: -0.054467292 | G33: -0.087623085
A34: Àmbit Territorial Metropolità | B34: 153972 | C34: 0.0067214144 | D34: 0.01343373 | E34: 0.027678959 | F34: -0.052270041 | G34: -0.1436485
A35: Catalunya | B35: 246953 | C35: 0.0081113297 | D35: 0.017159074 | E35: 0.03178244 | F35: -0.043607409 | G35: -0.10944707

Sheet GE2
A1: TORNAR A L'ÍNDEX | B1: Fet!
A3: EMPRESES
A5: GE2 | C5: =Índex!A7 -> 3r trimestre 2023
A6: =Índex!B18 -> Variació interanual comptes de cotització. Baix Llobregat.
A29: Les dades de 2021 provenen d'Idescat, a partir dels fitxers d'afiliacions i comptes de cotització de la Tresoreria General de la Seguretat Social. Dades provisionals.
B31: Empreses | C31: Variació interanual
A32: 2016 | B32: 21475 | C32: =(B32-B40)/B40 -> 0.030865975
A33: 2017 | B33: 21866 | C33: =(B33-B32)/B32 -> 0.018207218
A34: 2018 | B34: 21945 | C34: =(B34-B33)/B33 -> 0.003612915
A35: 2019 | B35: 22044 | C35: =(B35-B34)/B34 -> 0.0045112782
A36: 2020 | B36: 20530 | C36: =(B36-B35)/B35 -> -0.06868082
A37: 2021 | B37: 20890 | C37: =(B37-B36)/B36 -> 0.017535314
A38: 2022 | B38: 20816 | C38: =(B38-B37)/B37 -> -0.0035423648
A39: 2023 | B39: 20846 | C39: =(B39-B38)/B38 -> 0.0014411991
A40: 2015 | B40: 20832

Sheet TE1
A1: TORNAR A L'ÍNDEX | B1: Fet!
A3: EMPRESES
A5: =Índex!A19 -> TE1 | C5: =Índex!A7 -> 3r trimestre 2023
A6: =Índex!B19 -> Activitats econòmiques més rellevants. Baix Llobregat.
D8: Variació
B9: 2023 | C9: %total | D9: 2022-2023 | E9: 2021-2023 | F9: 2020-2023 | G9: 2019-2023 | H9: 2008-2023
A10: Total | B10: 20846 | C10: 1 | D10: 0.0014411991 | E10: -0.0021062709 | F10: 0.015392109 | G10: -0.054345854 | H10: -0.10746703
A11: 47 Comerç al detall, excepte el comerç de vehicles de motor i motocicletes | B11: 2851 | C11: 0.13676485 | D11: -0.028289025 | E11: -0.060006594 | F11: -0.035520974 | G11: -0.08913738 | H11: -0.1289337
A12: 56 Serveis de menjar i begudes | B12: 2040 | C12: 0.097860501 | D12: -0.012584705 | E12: -0.0063321968 | F12: 0.016442451 | G12: -0.054242003 | H12: 0.071428571
A13: 46 Comerç a l'engròs i intermediaris del comerç, excepte vehicles de motor i motocicletes | B13: 1974 | C13: 0.094694426 | D13: 0.0025393601 | E13: -0.003030303 | F13: 0.0066292708 | G13: -0.11000902 | H13: -0.11161116
A14: 43 Activitats especialitzades de la construcció | B14: 1513 | C14: 0.072579871 | D14: 0.020229265 | E14: -0.010464356 | F14: 0.0059840426 | G14: -0.028883184 | H14: -0.31877533
A15: 49 Transport terrestre; transport per canonades | B15: 1079 | C15: 0.05176053 | D15: 0.028598665 | E15: 0.040501446 | F15: 0.067260138 | G15: -0.050176056 | H15: -0.26946513
A16: 96 Altres activitats de serveis personals | B16: 875 | C16: 0.04197448 | D16: 0.045400239 | E16: 0.049160671 | F16: 0.044152745 | G16: -0.0022805017 | H16: 0.037959668
A17: 41 Construcció d'immobles | B17: 870 | C17: 0.041734625 | D17: 0.018735363 | E17: 0.029585799 | F17: 0.082089552 | G17: 0.072749692 | H17: -0.3255814
A18: 68 Activitats immobiliàries | B18: 693 | C18: 0.033243788 | D18: 0.011678832 | E18: 0.048411498 | F18: 0.077760498 | G18: -0.012820513 | H18: 0.22222222
A19: 85 Educació | B19: 617 | C19: 0.029598004 | D19: 0.013136289 | E19: 0.023217247 | F19: 0.04222973 | G19: -0.032915361 | H19: 0.30720339
A20: 45 Venda i reparació de vehicles de motor i motocicletes | B20: 596 | C20: 0.028590617 | D20: 0.0067567568 | E20: -0.024549918 | F20: -0.044871795 | G20: -0.12992701 | H20: -0.16526611
A22: Les dades de 2021 provenen d'Idescat, a partir dels fitxers d'afiliacions i comptes de cotització de la Tresoreria General de la Seguretat Social. Dades provisionals.

Sheet TE2
A1: TORNAR A L'ÍNDEX | B1: Fet!
A3: ='TE1'!A3 -> EMPRESES
A5: =Índex!A20 -> TE2 | C5: =Índex!A7 -> 3r trimestre 2023
A6: =Índex!B20 -> Dinamisme empresarial.
A7: ACTIVITATS QUE MÉS HAN AUGMENTAT | B7: n | C7: Variació anual
C8: n | D8: %
A9: 96 Altres activitats de serveis personals | B9: 875 | C9: 38 | D9: 0.045400239
A10: 43 Activitats especialitzades de la construcció | B10: 1513 | C10: 30 | D10: 0.020229265
A11: 49 Transport terrestre; transport per canonades | B11: 1079 | C11: 30 | D11: 0.028598665
A12: 74 Altres activitats professionals, científiques i tècniques | B12: 142 | C12: 20 | D12: 0.16393443
A13: 41 Construcció d'immobles | B13: 870 | C13: 16 | D13: 0.018735363
A14: 71 Serveis tècnics d'arquitectura i enginyeria; assajos i anàlisis tècnics | B14: 339 | C14: 16 | D14: 0.049535604
A15: 86 Activitats sanitàries | B15: 565 | C15: 10 | D15: 0.018018018
A16: 64 Mediació financera, excepte assegurances i fons de pensions | B16: 61 | C16: 9 | D16: 0.17307692
A17: 68 Activitats immobiliàries | B17: 693 | C17: 8 | D17: 0.011678832
A18: 85 Educació | B18: 617 | C18: 8 | D18: 0.013136289
A19: ACTIVITATS QUE MÉS HAN DISMINUÏT | B19: n | C19: Variació anual
C20: n | D20: %
A21: 47 Comerç al detall, excepte el comerç de vehicles de motor i motocicletes | B21: 2851 | C21: -83 | D21: -0.028289025
A22: 25 Fabricació de productes metàl·lics, excepte maquinària i equips | B22: 486 | C22: -27 | D22: -0.052631579
A23: 56 Serveis de menjar i begudes | B23: 2040 | C23: -26 | D23: -0.012584705
A24: 69 Activitats jurídiques i de comptabilitat | B24: 454 | C24: -13 | D24: -0.027837259
A25: 18 Arts gràfiques i reproducció de suports enregistrats | B25: 177 | C25: -9 | D25: -0.048387097
A26: 42 Construcció d'obres d'enginyeria civil | B26: 59 | C26: -9 | D26: -0.13235294
A27: 70 Activitats de les seus centrals; activitats de consultoria de gestió empresarial | B27: 127 | C27: -8 | D27: -0.059259259
A28: 81 Serveis a edificis i activitats de jardineria | B28: 444 | C28: -7 | D28: -0.015521064
A29: 77 Activitats de lloguer | B29: 160 | C29: -6 | D29: -0.036144578
A30: 97 Activitats de les llars que donen ocupació a personal domèstic | B30: 93 | C30: -6 | D30: -0.060606061
A32: Les dades de 2021 provenen d'Idescat, a partir dels fitxers d'afiliacions i comptes de cotització de la Tresoreria General de la Seguretat Social. Dades provisionals.

Sheet DIN_Empreses
A1: Fet! | G1: 0.003 | M1: variació | Q1: quan ordenis, millor copiïs les cel·les calculades abans
B3: 2022 | C3: 20.22 | D3: 2021 | H3: 2022 | I3: 20.22 | J3: 2021 | N3: 2022 | O3: 20.22 | P3: 2021 | Q3: var absoluta | R3: var relativa
A4: 1- Agricultura, ramaderia, caça i activitats dels serveis que s'hi relacionen | B4: 25 | C4: 0.0011900228 | D4: 27 | G4: 10- Indústries de productes alimentaris | H4: 181 | I4: 0.0086157654 | J4: 181 | M4: 10- Indústries de productes alimentaris | N4: 2987 | O4: 0.14218393 | P4: 3055 | Q4: -68 | R4: -0.022258592
A5: 2- Silvicultura i explotació forestal | B5: 10 | C5: 0.00047600914 | D5: 8 | G5: 16- Indústria de la fusta i del suro, excepte mobles; cistelleria i esparteria | H5: 67 | I5: 0.0031892612 | J5: 69 | M5: 16- Indústria de la fusta i del suro, excepte mobles; cistelleria i esparteria | N5: 1534 | O5: 0.073019802 | P5: 1560 | Q5: -26 | R5: -0.016666667
A6: 3- Pesca i aqüicultura | B6: 0 | C6: 0 | D6: .. | G6: 18- Arts gràfiques i reproducció de suports enregistrats | H6: 184 | I6: 0.0087585682 | J6: 186 | M6: 18- Arts gràfiques i reproducció de suports enregistrats | N6: 598 | O6: 0.028465347 | P6: 614 | Q6: -16 | R6: -0.026058632
A7: 5- Extracció d'antracita, hulla i lignit | B7: 0 | C7: 0 | G7: 20- Indústries químiques | H7: 110 | I7: 0.0052361005 | J7: 116 | M7: 20- Indústries químiques | N7: 1969 | O7: 0.0937262 | P7: 1985 | Q7: -16 | R7: -0.0080604534
A8: 6- Extracció de petroli brut i de gas natural | B8: 0 | C8: 0 | G8: 22- Fabricació de productes de cautxú i matèries plàstiques | H8: 124 | I8: 0.0059025133 | J8: 125 | M8: 22- Fabricació de productes de cautxú i matèries plàstiques | N8: 860 | O8: 0.040936786 | P8: 869 | Q8: -9 | R8: -0.010356732
A9: 7- Extracció de minerals metàl·lics | B9: 0 | C9: 0 | D9: 0 | G9: 23- Fabricació d'altres productes minerals no metàl·lics | H9: 64 | I9: 0.0030464585 | J9: 64 | M9: 23- Fabricació d'altres productes minerals no metàl·lics | N9: 328 | O9: 0.0156131 | P9: 337 | Q9: -9 | R9: -0.026706231
A10: 8- Extracció de minerals no metàl·lics ni energètics | B10: 12 | C10: 0.00057121097 | D10: 12 | G10: 25- Fabricació de productes metàl·lics, excepte maquinària i equips | H10: 516 | I10: 0.024562072 | J10: 521 | M10: 25- Fabricació de productes metàl·lics, excepte maquinària i equips | N10: 98 | O10: 0.0046648896 | P10: 105 | Q10: -7 | R10: -0.066666667
A11: 9- Activitats de suport a les indústries extractives | B11: 0 | C11: 0 | D11: 0 | G11: 28- Fabricació de maquinària i equips ncaa | H11: 177 | I11: 0.0084253618 | J11: 180 | M11: 28- Fabricació de maquinària i equips ncaa | N11: 110 | O11: 0.0052361005 | P11: 116 | Q11: -6 | R11: -0.051724138
A12: 10- Indústries de productes alimentaris | B12: 181 | C12: 0.0086157654 | D12: 181 | G12: 31- Fabricació de mobles | H12: 88 | I12: 0.0041888804 | J12: 90 | M12: 31- Fabricació de mobles | N12: 169 | O12: 0.0080445545 | P12: 175 | Q12: -6 | R12: -0.034285714
A13: 11- Fabricació de begudes | B13: 18 | C13: 0.00085681645 | D13: 15 | G13: 32- Indústries manufactureres diverses | H13: 71 | I13: 0.0033796649 | J13: 72 | M13: 32- Indústries manufactureres diverses | N13: 516 | O13: 0.024562072 | P13: 521 | Q13: -5 | R13: -0.009596929
A14: 12- Indústries del tabac | B14: 0 | C14: 0 | G14: 33- Reparació i instal·lació de maquinària i equips | H14: 177 | I14: 0.0084253618 | J14: 174 | M14: 33- Reparació i instal·lació de maquinària i equips | N14: 160 | O14: 0.0076161462 | P14: 164 | Q14: -4 | R14: -0.024390244
A15: 13- Indústries tèxtils | B15: 51 | C15: 0.0024276466 | D15: 58 | G15: 41- Construcció d'immobles | H15: 860 | I15: 0.040936786 | J15: 869 | M15: 41- Construcció d'immobles | N15: 236 | O15: 0.011233816 | P15: 240 | Q15: -4 | R15: -0.016666667
A16: 14- Confecció de peces de vestir | B16: 52 | C16: 0.0024752475 | D16: 59 | G16: 42- Construcció d'obres d'enginyeria civil | H16: 72 | I16: 0.0034272658 | J16: 74 | M16: 42- Construcció d'obres d'enginyeria civil | N16: 177 | O16: 0.0084253618 | P16: 180 | Q16: -3 | R16: -0.016666667
A17: 15- Indústria del cuir i del calçat | B17: 4 | C17: 0.00019040366 | D17: 6 | G17: 43- Activitats especialitzades de la construcció | H17: 1534 | I17: 0.073019802 | J17: 1560 | M17: 43- Activitats especialitzades de la construcció | N17: 467 | O17: 0.022229627 | P17: 470 | Q17: -3 | R17: -0.0063829787
A18: 16- Indústria de la fusta i del suro, excepte mobles; cistelleria i esparteria | B18: 67 | C18: 0.0031892612 | D18: 69 | G18: 45- Venda i reparació de vehicles de motor i motocicletes | H18: 598 | I18: 0.028465347 | J18: 614 | M18: 45- Venda i reparació de vehicles de motor i motocicletes | N18: 100 | O18: 0.0047600914 | P18: 103 | Q18: -3 | R18: -0.029126214
A19: 17- Indústries del paper | B19: 46 | C19: 0.002189642 | D19: 46 | G19: 46- Comerç a l'engròs i intermediaris del comerç, excepte vehicles de motor i motocicletes | H19: 1969 | I19: 0.0937262 | J19: 1985 | M19: 46- Comerç a l'engròs i intermediaris del comerç, excepte vehicles de motor i motocicletes | N19: 67 | O19: 0.0031892612 | P19: 69 | Q19: -2 | R19: -0.028985507
A20: 18- Arts gràfiques i reproducció de suports enregistrats | B20: 184 | C20: 0.0087585682 | D20: 186 | G20: 47- Comerç al detall, excepte el comerç de vehicles de motor i motocicletes | H20: 2987 | I20: 0.14218393 | J20: 3055 | M20: 47- Comerç al detall, excepte el comerç de vehicles de motor i motocicletes | N20: 184 | O20: 0.0087585682 | P20: 186 | Q20: -2 | R20: -0.010752688
A21: 19- Coqueries i refinació del petroli | B21: 0 | C21: 0 | D21: 0 | G21: 49- Transport terrestre; transport per canonades | H21: 1037 | I21: 0.049362148 | J21: 1014 | M21: 49- Transport terrestre; transport per canonades | N21: 88 | O21: 0.0041888804 | P21: 90 | Q21: -2 | R21: -0.022222222
A22: 20- Indústries químiques | B22: 110 | C22: 0.0052361005 | D22: 116 | G22: 52- Emmagatzematge i activitats afins al transport | H22: 312 | I22: 0.014851485 | J22: 313 | M22: 52- Emmagatzematge i activitats afins al transport | N22: 72 | O22: 0.0034272658 | P22: 74 | Q22: -2 | R22: -0.027027027
A23: 21- Fabricació de productes farmacèutics | B23: 19 | C23: 0.00090441736 | D23: 19 | G23: 53- Activitats postals i de correus | H23: 71 | I23: 0.0033796649 | J23: 66 | M23: 53- Activitats postals i de correus | N23: 257 | O23: 0.012233435 | P23: 259 | Q23: -2 | R23: -0.0077220077
A24: 22- Fabricació de productes de cautxú i matèries plàstiques | B24: 124 | C24: 0.0059025133 | D24: 125 | G24: 55- Serveis d'allotjament | H24: 82 | I24: 0.0039032749 | J24: 81 | M24: 55- Serveis d'allotjament | N24: 75 | O24: 0.0035700685 | P24: 77 | Q24: -2 | R24: -0.025974026
A25: 23- Fabricació d'altres productes minerals no metàl·lics | B25: 64 | C25: 0.0030464585 | D25: 64 | G25: 56- Serveis de menjar i begudes | H25: 2098 | I25: 0.099866717 | J25: 2047 | M25: 56- Serveis de menjar i begudes | N25: 124 | O25: 0.0059025133 | P25: 125 | Q25: -1 | R25: -0.008
A26: 24- Metal·lúrgia; fabricació de productes bàsics de ferro, acer i ferroaliatges | B26: 38 | C26: 0.0018088347 | D26: 40 | G26: 62- Serveis de tecnologies de la informació | H26: 257 | I26: 0.012233435 | J26: 259 | M26: 62- Serveis de tecnologies de la informació | N26: 71 | O26: 0.0033796649 | P26: 72 | Q26: -1 | R26: -0.013888889
... A39: 38- Activitats de recollida, tractament i eliminació de residus; activitats de valorització | B39: 54 | C39: 0.0025704494 | D39: 51 | G39: 85- Educació | H39: 578 | I39: 0.027513328 | J39: 577 | M39: 85- Educació | N39: 396 | O39: 0.018849962 | P39: 389 | Q39: 7 | R39: 0.017994859
A40: 39- Activitats de descontaminació i altres serveis de gestió de residus | B40: 2 | C40: 9.5201828e-05 | D40: .. | G40: 86- Activitats sanitàries | H40: 557 | I40: 0.026513709 | J40: 539 | M40: 86- Activitats sanitàries | N40: 135 | O40: 0.0064261234 | P40: 123 | Q40: 12 | R40: 0.097560976
A41: 41- Construcció d'immobles | B41: 860 | C41: 0.040936786 | D41: 869 | G41: 87- Activitats de serveis socials amb allotjament | H41: 100 | I41: 0.0047600914 | J41: 103 | M41: 87- Activitats de serveis socials amb allotjament | N41: 201 | O41: 0.0095677837 | P41: 189 | Q41: 12 | R41: 0.063492063
A42: 42- Construcció d'obres d'enginyeria civil | B42: 72 | C42: 0.0034272658 | D42: 74 | G42: 88- Activitats de serveis socials sense allotjament | H42: 77 | I42: 0.0036652704 | J42: 74 | M42: 88- Activitats de serveis socials sense allotjament | N42: 318 | O42: 0.015137091 | P42: 300 | Q42: 18 | R42: 0.06
A43: 43- Activitats especialitzades de la construcció | B43: 1534 | C43: 0.073019802 | D43: 1560 | G43: 93- Activitats esportives, recreatives i d'entreteniment | H43: 396 | I43: 0.018849962 | J43: 389 | M43: 93- Activitats esportives, recreatives i d'entreteniment | N43: 557 | O43: 0.026513709 | P43: 539 | Q43: 18 | R43: 0.033395176
A44: 45- Venda i reparació de vehicles de motor i motocicletes | B44: 598 | C44: 0.028465347 | D44: 614 | G44: 94- Activitats associatives | H44: 201 | I44: 0.0095677837 | J44: 189 | M44: 94- Activitats associatives | N44: 1037 | O44: 0.049362148 | P44: 1014 | Q44: 23 | R44: 0.022682446
A45: 46- Comerç a l'engròs i intermediaris del comerç, excepte vehicles de motor i motocicletes | B45: 1969 | C45: 0.0937262 | D45: 1985 | G45: 95- Reparació d'ordinadors, d'efectes personals i efectes domèstics | H45: 88 | I45: 0.0041888804 | J45: 87 | M45: 95- Reparació d'ordinadors, d'efectes personals i efectes domèstics | N45: 867 | O45: 0.041269992 | P45: 839 | Q45: 28 | R45: 0.033373063
A46: 47- Comerç al detall, excepte el comerç de vehicles de motor i motocicletes | B46: 2987 | C46: 0.14218393 | D46: 3055 | G46: 96- Altres activitats de serveis personals | H46: 867 | I46: 0.041269992 | J46: 839 | M46: 96- Altres activitats de serveis personals | N46: 689 | O46: 0.03279703 | P46: 660 | Q46: 29 | R46: 0.043939394
A47: 49- Transport terrestre; transport per canonades | B47: 1037 | C47: 0.049362148 | D47: 1014 | G47: 97- Activitats de les llars que donen ocupació a personal domèstic | H47: 98 | I47: 0.0046648896 | J47: 105 | M47: 97- Activitats de les llars que donen ocupació a personal domèstic | N47: 2098 | O47: 0.099866717 | P47: 2047 | Q47: 51 | R47: 0.024914509
A48: 50- Transport marítim i per vies de navegació interiors | B48: 1 | C48: 4.7600914e-05 | D48: .. | G48: Total | H48: 21008 | I48: 1 | J48: 20952 | M48: Total | N48: 21008 | O48: 1 | P48: 20952 | Q48: 56 | R48: 0.0026727759
A49: 51- Transport aeri | B49: 27 | C49: 0.0012852247 | D49: 21
A50: 52- Emmagatzematge i activitats afins al transport | B50: 312 | C50: 0.014851485 | D50: 313
A51: 53- Activitats postals i de correus | B51: 71 | C51: 0.0033796649 | D51: 66
A52: 55- Serveis d'allotjament | B52: 82 | C52: 0.0039032749 | D52: 81
A53: 56- Serveis de menjar i begudes | B53: 2098 | C53: 0.099866717 | D53: 2047
A54: 58- Edició | B54: 35 | C54: 0.001666032 | D54: 39
A55: 59- Activitats de cinematografia, de vídeo i de programes de televisió; activitats d'enregistrament de so i edició musical | B55: 61 | C55: 0.0029036558 | D55: 42
A56: 60- Activitats d'emissió i programació de ràdio i televisió | B56: 7 | C56: 0.0003332064 | D56: 6
A57: 61- Telecomunicacions | B57: 40 | C57: 0.0019040366 | D57: 43
A58: 62- Serveis de tecnologies de la informació | B58: 257 | C58: 0.012233435 | D58: 259
A59: 63- Serveis d'informació | B59: 55 | C59: 0.0026180503 | D59: 52
A60: 64- Mediació financera, excepte assegurances i fons de pensions | B60: 54 | C60: 0.0025704494 | D60: 52
... A89: 97- Activitats de les llars que donen ocupació a personal domèstic | B89: 98 | C89: 0.0046648896 | D89: 105
A90: 98- Activitats de les llars que produeixen béns i serveis per a ús propi | B90: 0 | C90: 0
A91: 99- Organismes extraterritorials | B91: 1 | C91: 4.7600914e-05 | D91: ..
A92: Total | B92: 21008 | C92: 1 | D92: 20952

Sheet TE3
A1: TORNAR A L'ÍNDEX | B1: Fet!
A3: EMPRESES
A5: =[2]Índex!A18 -> TE3 | C5: =Índex!A7 -> 3r trimestre 2023
A6: =[2]Índex!B18 -> Dades municipals.
B8: Empreses | C8: % Baix Llobregat | D8: variació relativa (en %)
B9: Empreses | D9: 2022 | E9: 2021 | F9: 2020 | G9: 2019 | H9: 2008
A10: Abrera | B10: 383 | C10: 0.018372829 | D10: -0.037688442 | E10: -0.0051948052 | F10: -0.015424165 | G10: -0.098823529 | H10: -0.07038835
A11: Begues | B11: 141 | C11: 0.0067638876 | D11: 0.02173913 | E11: 0.02919708 | F11: 0.02919708 | G11: -0.020833333 | H11: -0.10759494
A12: Castelldefels | B12: 1757 | C12: 0.084284755 | D12: 0.010932106 | E12: 0.0068767908 | F12: 0.045833333 | G12: -0.014582165 | H12: -0.018435754
A13: Castellví de Rosanes | B13: 67 | C13: 0.0032140459 | D13: 0.046875 | E13: 0.11666667 | F13: 0.19642857 | G13: 0.030769231 | H13: -0.27173913
A14: Cervelló | B14: 243 | C14: 0.011656913 | D14: 0.0082987552 | E14: 0.025316456 | F14: 0.0041322314 | G14: -0.016194332 | H14: 0.065789474
A15: Collbató | B15: 82 | C15: 0.0039336084 | D15: 0.078947368 | E15: -0.012048193 | F15: 0.025 | G15: -0.12765957 | H15: -0.068181818
A16: Corbera de Llobregat | B16: 244 | C16: 0.011704883 | D16: 0.060869565 | E16: 0.084444444 | F16: 0.1040724 | G16: 0.1040724 | H16: -0.16723549
A17: Cornellà de Llobregat | B17: 2401 | C17: 0.11517797 | D17: 0.019532909 | E17: 0.017804154 | F17: 0.026946108 | G17: -0.037675351 | H17: -0.082537256
A18: El Papiol | B18: 567 | C18: 0.027199463 | D18: 0 | E18: 0.010695187 | F18: 0.036563071 | G18: -0.022413793 | H18: -0.1511976
A19: El Prat de Llobregat | B19: 1177 | C19: 0.056461671 | D19: -0.016708438 | E19: -0.024046434 | F19: 0.012908778 | G19: -0.057646117 | H19: -0.19548872
A20: Esparreguera | B20: 1240 | C20: 0.059483834 | D20: 0.0048622366 | E20: -0.011952191 | F20: 0.0016155089 | G20: -0.084870849 | H20: -0.15358362
A21: Esplugues de Llobregat | B21: 742 | C21: 0.035594359 | D21: 0.031988873 | E21: 0.040673212 | F21: 0.037762238 | G21: -0.071339174 | H21: -0.10386473
... A40: Baix Llobregat | B40: 20846 | C40: 1 | D40: 0.0014411991 | E40: -0.0021062709 | F40: 0.015392109 | G40: -0.054345854 | H40: -0.10746703
A42: Les dades de 2021 provenen d'Idescat, a partir dels fitxers d'afiliacions i comptes de cotització de la Tresoreria General de la Seguretat Social. Dades provisionals.
B44: empreses
B45: 2023 | C45: 2022 | D45: 2021 | E45: 2020 | F45: 2019 | G45: 2008
A46: Abrera | B46: 387 | C46: 395 | D46: 397 | E46: 400 | F46: 429 | G46: 418
A47: Begues | B47: 146 | C47: 144 | D47: 135 | E47: 134 | F47: 143 | G47: 160
A48: Castelldefels | B48: 1723 | C48: 1724 | D48: 1672 | E48: 1612 | F48: 1788 | G48: 1863
A49: Castellví de Rosanes | B49: 66 | C49: 62 | D49: 56 | E49: 62 | F49: 68 | G49: 96
A50: Cervelló | B50: 247 | C50: 241 | D50: 239 | E50: 240 | F50: 250 | G50: 232
A51: Collbató | B51: 80 | C51: 84 | D51: 84 | E51: 84 | F51: 93 | G51: 92
A52: Corbera de Llobregat | B52: 239 | C52: 233 | D52: 218 | E52: 212 | F52: 233 | G52: 291
A53: Cornellà de Llobregat | B53: 2372 | C53: 2383 | D53: 2365 | E53: 2285 | F53: 2520 | G53: 2675
A54: Esparreguera | B54: 565 | C54: 567 | D54: 550 | E54: 548 | F54: 584 | G54: 689
A55: Esplugues de Llobregat | B55: 1180 | C55: 1214 | D55: 1167 | E55: 1156 | F55: 1280 | G55: 1500
A56: Gavà | B56: 1242 | C56: 1257 | D56: 1250 | E56: 1213 | F56: 1372 | G56: 1500
A57: Martorell | B57: 735 | C57: 725 | D57: 713 | E57: 712 | F57: 798 | G57: 865
... A76: Baix Llobregat | B76: 20800 | C76: 21012 | D76: 20631 | E76: 20271 | F76: 22362 | G76: 24035
A78: Zona | B78: 2023 1T | C78: 2022 1T | D78: 2021 1T | E78: 2020 1T | F78: 20219 1T | G78: 2008 1T | H78: 2008-2023 | I78: 2019-2023 | J78: 2020-2023 | K78: 2021-2023 | L78: 2022-2023 | M78: Zona Centre: Cornellà de Llobregat, Esplugues de Llobregat, Sant Joan Despí, Sant Feliu de Llobregat i Sant Just Desvern.
A79: Centre | B79: =+B53+B57+B69+B70+B68 -> 5655 | C79: =+C53+C57+C69+C70+C68 -> 5697 | D79: =+D53+D57+D69+D70+D68 -> 5661 | E79: =+E53+E57+E69+E70+E68 -> 5520 | F79: =+F53+F57+F69+F70+F68 -> 6114 | G79: =+G53+G57+G69+G70+G68 -> 6440 | H79: =($B79-G79)/G79 -> -0.12189441 | I79: =($B79-F79)/F79 -> -0.075073602 | J79: =($B79-E79)/E79 -> 0.024456522 | K79: =($B79-D79)/D79 -> -0.0010598834 | L79: =($B79-C79)/C79 -> -0.0073723012 | M79: Zona Delta: Begues, Castelldefels, El Prat de Llobregat, Gavà, Sant Boi de Llobregat, Sant Climent de Llobregat i Viladecans.
A80: Delta | B80: =+B47+B48+B55+B58+B65+B66+B75 -> 7264 | C80: =+C47+C48+C55+C58+C65+C66+C75 -> 7364 | D80: =+D47+D48+D55+D58+D65+D66+D75 -> 7170 | E80: =+E47+E48+E55+E58+E65+E66+E75 -> 7069 | F80: =+F47+F48+F55+F58+F65+F66+F75 -> 7776 | G80: =+G47+G48+G55+G58+G65+G66+G75 -> 8466 | H80: =($B80-G80)/G80 -> -0.14197968 | I80: =($B80-F80)/F80 -> -0.065843621 | J80: =($B80-E80)/E80 -> 0.027585231 | K80: =($B80-D80)/D80 -> 0.013110181 | L80: =($B80-C80)/C80 -> -0.013579576 | M80: Zona Nord: Abrera, Castellví de Rosanes, Collbató, Esparreguera, Martorell, Olesa de Montserrat, Sant Andreu de la Barca i Sant Esteve Sesrovires.
A81: Nord | B81: =+B46+B49+B51+B56+B60+B62+B67+B64 -> 3316 | C81: =+C46+C49+C51+C56+C60+C62+C67+C64 -> 3366 | D81: =+D46+D49+D51+D56+D60+D62+D67+D64 -> 3335 | E81: =+E46+E49+E51+E56+E60+E62+E67+E64 -> 3282 | F81: =+F46+F49+F51+F56+F60+F62+F67+F64 -> 3643 | G81: =+G46+G49+G51+G56+G60+G62+G67+G64 -> 3805 | H81: =($B81-G81)/G81 -> -0.12851511 | I81: =($B81-F81)/F81 -> -0.089761186 | J81: =($B81-E81)/E81 -> 0.010359537 | K81: =($B81-D81)/D81 -> -0.0056971514 | L81: =($B81-C81)/C81 -> -0.014854427 | M81: Zona Vall Baixa: Cervelló, Corbera de Llobregat, El Papiol, La Palma de Cervelló, Molins de Rei, Pallejà, Sant Vicenç dels Horts, Santa Coloma de Cervelló, Torrelles de Llobregat i Vallirana.
A82: Vall Baixa | B82: =+B50+B52+B54+B59+B61+B63+B71+B72+B73+B74 -> 4565 | C82: =+C50+C52+C54+C59+C61+C63+C71+C72+C73+C74 -> 4585 | D82: =+D50+D52+D54+D59+D61+D63+D71+D72+D73+D74 -> 4465 | E82: =+E50+E52+E54+E59+E61+E63+E71+E72+E73+E74 -> 4400 | F82: =+F50+F52+F54+F59+F61+F63+F71+F72+F73+F74 -> 4829 | G82: =+G50+G52+G54+G59+G61+G63+G71+G72+G73+G74 -> 5324 | H82: =($B82-G82)/G82 -> -0.14256198 | I82: =($B82-F82)/F82 -> -0.054669704 | J82: =($B82-E82)/E82 -> 0.0375 | K82: =($B82-D82)/D82 -> 0.022396417 | L82: =($B82-C82)/C82 -> -0.0043620502
A83: Total | B83: =SUM(B79:B82) -> 20800 | C83: =SUM(C79:C82) -> 21012 | D83: =SUM(D79:D82) -> 20631 | E83: =SUM(E79:E82) -> 20271 | F83: =SUM(F79:F82) -> 22362 | G83: =SUM(G79:G82) -> 24035 | H83: =($B83-G83)/G83 -> -0.13459538 | I83: =($B83-F83)/F83 -> -0.069850639 | J83: =($B83-E83)/E83 -> 0.026096394 | K83: =($B83-D83)/D83 -> 0.0081915564 | L83: =($B83-C83)/C83 -> -0.010089473

Sheet GRGSS1
A1: TORNAR A L'ÍNDEX | B1: Fet!
A3: LLOCS DE TREBALL. RÈGIM GENERAL SEGURETAT SOCIAL
A5: GRGSS1 | C5: =Índex!A7 -> 3r trimestre 2023
A6: Llocs de treball del RGSS segons àmbit territorial.
A29: Les dades de 2021 provenen d'Idescat, a partir dels fitxers d'afiliacions i comptes de cotització de la Tresoreria General de la Seguretat Social. Dades provisionals.
B31: RGSS | C31: variació 2023-2022 | D31: variació 2023-2021 | E31: variació 2023-2020 | F31: variació 2023-2019 | G31: variació 2023-2008
A32: Baix Llobregat | B32: 303040 | C32: 0.040909559 | D32: 0.094303512 | E32: 0.11942256 | F32: 0.13008424 | G32: 0.23996497
A33: Àrea Metropolitana de Barcelona | B33: 1616900 | C33: 0.033103528 | D33: 0.083059816 | E33: 0.11641157 | F33: 0.084213823 | G33: 0.15289371
A34: Àmbit Territorial Metropolità | B34: 2111345 | C34: 0.03930347 | D34: 0.08564722 | E34: 0.12137081 | F34: 0.089492527 | G34: 0.10511652
A35: Catalunya | B35: 3053255 | C35: 0.04155111 | D35: 0.087091818 | E35: 0.12915567 | F35: 0.094360553 | G35: 0.14010551

Sheet GRGSS2
A1: TORNAR A L'ÍNDEX | B1: Fet!
A3: LLOCS DE TREBALL. RÈGIM GENERAL SEGURETAT SOCIAL.
A5: GRGSS2 | C5: =Índex!A7 -> 3r trimestre 2023
A6: =Índex!B28 -> Variació interanual llocs de treball assalariat. Baix Llobregat.
A29: Les dades de 2021 provenen d'Idescat, a partir dels fitxers d'afiliacions i comptes de cotització de la Tresoreria General de la Seguretat Social. Dades provisionals.
B31: Llocs de treball RGSS | C31: Variació interanual
A32: 2016 | B32: 233221 | C32: =(B32-B41)/B41 -> 0.057782757
A33: 2017 | B33: 249925 | C33: =(B33-B32)/B32 -> 0.071623053
A34: 2018 | B34: 260939 | C34: =(B34-B33)/B33 -> 0.044069221 | D34: =B34-B33 -> 11014
A35: 2019 | B35: 268157 | C35: =(B35-B34)/B34 -> 0.027661637
A36: 2020 | B36: 270711 | C36: =(B36-B35)/B35 -> 0.0095242712
A37: 2021 | B37: 276925 | C37: =(B37-B36)/B36 -> 0.022954368
A38: 2022 | B38: 291125 | C38: =(B38-B37)/B37 -> 0.051277422
A39: 2023 | B39: 303050 | C39: =(B39-B38)/B38 -> 0.040961786
A41: 2015 | B41: 220481

Sheet GRGSS3
A1: TORNAR A L'ÍNDEX | B1: Fet!
A3: LLOCS DE TREBALL. RÈGIM GENERAL SEGURETAT SOCIAL
A5: GRGSS3 | C5: =Índex!A7 -> 3r trimestre 2023
A6: Llocs de treball del RGSS per grandària del compte de cotització
A29: Les dades de 2021 provenen d'Idescat, a partir dels fitxers d'afiliacions i comptes de cotització de la Tresoreria General de la Seguretat Social. Dades provisionals.
B31: variació 2023-2022 | C31: variació 2023-2021 | D31: variació 2023-2020 | E31: variació 2023-2019 | F31: variació 2023-2008
A32: Fins a 50 treballadors | B32: 0.009712892 | C32: 0.019308021 | D32: 0.037019459 | E32: 0.0021829054 | F32: -0.061784351
A33: De 51 a 250 treballadors | B33: 0.0093615428 | C33: 0.096103016 | D33: 0.12264164 | E33: 0.15402729 | F33: 0.19085487
A34: 251 i més treballadors | B34: 0.10646206 | C34: 0.19217347 | D34: 0.22717957 | E34: 0.29666965 | F34: 1.0538548
A35: Total | B35: 0.040909559 | C35: 0.094303512 | D35: 0.11942256 | E35: 0.13008424 | F35: 0.23996497

Sheet TRGSS1
A1: TORNAR A L'ÍNDEX | C1: Fet!
A3: LLOCS DE TREBALL. RÈGIM GENERAL SEGURETAT SOCIAL.
A5: =Índex!A30 -> TRGSS1 | C5: =Índex!A7 -> 3r trimestre 2023
A6: =Índex!B30 -> Activitats econòmiques més rellevants. Baix Llobregat.
D8: Variació
B9: 2023 | C9: %total | D9: 2022-2023 | E9: 2021-2023 | F9: 2020-2023 | G9: 2019-2023 | H9: 2008-2023
A10: Total | B10: 303040 | C10: 1 | D10: 0.040909559 | E10: 0.094303512 | F10: 0.11942256 | G10: 0.13008424 | H10: 0.23996497
A11: 46 Comerç a l'engròs i intermediaris del comerç, excepte vehicles de motor i motocicletes | B11: 29650 | C11: 0.097841869 | D11: 0.025419333 | E11: 0.079162875 | F11: 0.10337898 | G11: 0.087674248 | H11: 0.15338235
A12: 47 Comerç al detall, excepte el comerç de vehicles de motor i motocicletes | B12: 25605 | C12: 0.084493796 | D12: -0.0031146584 | E12: -0.00039039625 | F12: 0.0021526419 | G12: 0.17908455 | H12: 0.33137479
A13: 85 Educació | B13: 19220 | C13: 0.06342397 | D13: 0.5437751 | E13: 0.92296148 | F13: 0.68967033 | G13: 0.69219933 | H13: 1.3167792
A14: 56 Serveis de menjar i begudes | B14: 18080 | C14: 0.059662091 | D14: 0.024943311 | E14: 0.093107618 | F14: 0.21767241 | G14: 0.10540474 | H14: 0.36483732
A15: 52 Emmagatzematge i activitats afins al transport | B15: 13895 | C15: 0.045852033 | D15: -0.028661307 | E15: 0.054648956 | F15: 0.13326809 | G15: 0.17974189 | H15: 0.60043769
A16: 43 Activitats especialitzades de la construcció | B16: 12965 | C16: 0.042783131 | D16: 0.00077190274 | E16: 0.023283346 | F16: 0.045901904 | G16: 0.049287795 | H16: -0.21571593
A17: 81 Serveis a edificis i activitats de jardineria | B17: 12830 | C17: 0.042337645 | D17: 0.15377698 | E17: 0.22716404 | F17: 0.21830785 | G17: 0.25907753 | H17: 0.83102612
A18: 86 Activitats sanitàries | B18: 10135 | C18: 0.03344443 | D18: 0.035769034 | E18: 0.082799145 | F18: 0.12711299 | G18: 0.1385082 | H18: 0.60490895
A19: 84 Administració pública, Defensa i Seguretat Social obligatòria | B19: 10005 | C19: 0.033015444 | D19: -0.37233375 | E19: -0.35803657 | F19: -0.31729785 | G19: -0.31449126 | H19: 0.083378452
A20: 51 Transport aeri | B20: 7345 | C20: 0.024237724 | D20: 0.063721941 | E20: 0.31043711 | F20: 0.12774451 | G20: -0.034188034 | H20: 1.9533575
A23: Les dades de 2022 i 2021 provenen d'Idescat, a partir dels fitxers d'afiliacions i comptes de cotització de la Tresoreria General de la Seguretat Social. Dades provisionals.

Sheet TRGSS2
A1: TORNAR A L'ÍNDEX | B1: Fet!
A3: =TRGSS1!A3 -> LLOCS DE TREBALL. RÈGIM GENERAL SEGURETAT SOCIAL.
A5: =Índex!A31 -> TRGSS2 | C5: =Índex!A7 -> 3r trimestre 2023
A6: =Índex!B31 -> Dinamisme llocs de treball.
A7: ACTIVITATS QUE MÉS HAN AUGMENTAT L'AFILIACIÓ | B7: n | C7: Variació anual
C8: n | D8: %
A9: 85- Educació | B9: 19220 | C9: 6770 | D9: 0.5437751
A10: 81- Serveis a edificis i activitats de jardineria | B10: 12830 | C10: 1710 | D10: 0.15377698
A11: 69- Activitats jurídiques i de comptabilitat | B11: 5510 | C11: 1125 | D11: 0.25655644
A12: 71- Serveis tècnics d'arquitectura i enginyeria; assajos i anàlisis tècnics | B12: 6845 | C12: 825 | D12: 0.13704319
A13: 70- Activitats de les seus centrals; activitats de consultoria de gestió empresarial | B13: 2045 | C13: 755 | D13: 0.58527132
A14: 46- Comerç a l'engròs i intermediaris del comerç, excepte vehicles de motor i motocicletes | B14: 29650 | C14: 735 | D14: 0.025419333
A15: 80- Activitats de seguretat i investigació | B15: 6495 | C15: 695 | D15: 0.11982759
A16: 62- Serveis de tecnologies de la informació | B16: 5720 | C16: 685 | D16: 0.13604767
A17: 87- Activitats de serveis socials amb allotjament | B17: 4655 | C17: 680 | D17: 0.17106918
A18: 82- Activitats administratives d'oficina i altres activitats auxiliars a les empreses | B18: 6615 | C18: 640 | D18: 0.10711297
A19: ACTIVITATS QUE MÉS HAN DISMINUÏT L'AFILIACIÓ | B19: n | C19: Variació anual
C20: n | D20: %
A21: 84- Administració pública, Defensa i Seguretat Social obligatòria | B21: 10005 | C21: -5935 | D21: -0.37233375
A22: 52- Emmagatzematge i activitats afins al transport | B22: 13895 | C22: -410 | D22: -0.028661307
A23: 18- Arts gràfiques i reproducció de suports enregistrats | B23: 3050 | C23: -350 | D23: -0.10294118
A24: 45- Venda i reparació de vehicles de motor i motocicletes | B24: 4620 | C24: -280 | D24: -0.057142857
A25: 27- Fabricació de materials i equips elèctrics | B25: 2425 | C25: -240 | D25: -0.090056285
A26: 20- Indústries químiques | B26: 4475 | C26: -215 | D26: -0.045842217
A27: 68- Activitats immobiliàries | B27: 2260 | C27: -115 | D27: -0.048421053
A28: 47- Comerç al detall, excepte el comerç de vehicles de motor i motocicletes | B28: 25605 | C28: -80 | D28: -0.0031146584
A29: 25- Fabricació de productes metàl·lics, excepte maquinària i equips | B29: 6995 | C29: -70 | D29: -0.0099079972
A30: 77- Activitats de lloguer | B30: 2495 | C30: -60 | D30: -0.023483366
A33: Les dades de 2022 i 2021 provenen d'Idescat, a partir dels fitxers d'afiliacions i comptes de cotització de la Tresoreria General de la Seguretat Social. Dades provisionals.

Sheet DIN_RGSS
G1: 0.003 | M1: variació | Q1: quan ordenis, millor copiïs les cel·les calculades abans
B3: 2022 | C3: 20.22 | D3: 2021 | H3: 2022 | I3: 20.22 | J3: 2021 | N3: 2022 | O3: 20.22 | P3: 2021 | Q3: var absoluta | R3: var relativa
A4: 1- Agricultura, ramaderia, caça i activitats dels serveis que s'hi relacionen | B4: 100 | C4: =B4/$B$92 -> 0.00035244154 | D4: 95 | G4: 10- Indústries de productes alimentaris | H4: 5795 | I4: 0.020423987 | J4: 5785 | M4: 88- Activitats de serveis socials sense allotjament | N4: 2675 | O4: 0.0094278112 | P4: 3115 | Q4: -440 | R4: -0.14125201
A5: 2- Silvicultura i explotació forestal | B5: 60 | C5: =B5/$B$92 -> 0.00021146492 | D5: 70 | G5: 11- Fabricació de begudes | H5: 1495 | I5: 0.005269001 | J5: 1405 | M5: 29- Fabricació de vehicles de motor, remolcs i semiremolcs | N5: 4435 | O5: 0.015630782 | P5: 4745 | Q5: -310 | R5: -0.065331928
A6: 3- Pesca i aqüicultura | B6: 0 | C6: =B6/$B$92 -> 0 | D6: 5 | G6: 17- Indústries del paper | H6: 1015 | I6: 0.0035772816 | J6: 930 | M6: 20- Indústries químiques | N6: 4660 | O6: 0.016423776 | P6: 4920 | Q6: -260 | R6: -0.052845528
A7: 5- Extracció d'antracita, hulla i lignit | B7: 0 | C7: =B7/$B$92 -> 0 | D7: 0 | G7: 18- Arts gràfiques i reproducció de suports enregistrats | H7: 3340 | I7: 0.011771547 | J7: 3180 | M7: 47- Comerç al detall, excepte el comerç de vehicles de motor i motocicletes | N7: 25895 | O7: 0.091264736 | P7: 26110 | Q7: -215 | R7: -0.008234393
A8: 6- Extracció de petroli brut i de gas natural | B8: 0 | C8: =B8/$B$92 -> 0 | D8: 0 | G8: 20- Indústries químiques | H8: 4660 | I8: 0.016423776 | J8: 4920 | M8: 53- Activitats postals i de correus | N8: 1185 | O8: 0.0041764322 | P8: 1360 | Q8: -175 | R8: -0.12867647
A9: 7- Extracció de minerals metàl·lics | B9: 0 | C9: =B9/$B$92 -> 0 | D9: 0 | G9: 21- Fabricació de productes farmacèutics | H9: 3240 | I9: 0.011419106 | J9: 3195 | M9: 68- Activitats immobiliàries | N9: 2395 | O9: 0.0084409749 | P9: 2470 | Q9: -75 | R9: -0.030364372
A10: 8- Extracció de minerals no metàl·lics ni energètics | B10: 140 | C10: =B10/$B$92 -> 0.00049341815 | D10: 130 | G10: 22- Fabricació de productes de cautxú i matèries plàstiques | H10: 2680 | I10: 0.0094454332 | J10: 2635 | M10: 45- Venda i reparació de vehicles de motor i motocicletes | N10: 4860 | O10: 0.017128659 | P10: 4900 | Q10: -40 | R10: -0.0081632653
A11: 9- Activitats de suport a les indústries extractives | B11: 0 | C11: =B11/$B$92 -> 0 | D11: 0 | G11: 23- Fabricació d'altres productes minerals no metàl·lics | H11: 1075 | I11: 0.0037887465 | J11: 995 | M11: 10- Indústries de productes alimentaris | N11: 5795 | O11: 0.020423987 | P11: 5785 | Q11: 10 | R11: 0.0017286085
A12: 10- Indústries de productes alimentaris | B12: 5795 | C12: =B12/$B$92 -> 0.020423987 | D12: 5785 | G12: 25- Fabricació de productes metàl·lics, excepte maquinària i equips | H12: 7145 | I12: 0.025181948 | J12: 7075 | M12: 21- Fabricació de productes farmacèutics | N12: 3240 | O12: 0.011419106 | P12: 3195 | Q12: 45 | R12: 0.014084507
A13: 11- Fabricació de begudes | B13: 1495 | C13: =B13/$B$92 -> 0.005269001 | D13: 1405 | G13: 26- Fabricació de productes informàtics, electrònics i òptics | H13: 950 | I13: 0.0033481946 | J13: 865 | M13: 22- Fabricació de productes de cautxú i matèries plàstiques | N13: 2680 | O13: 0.0094454332 | P13: 2635 | Q13: 45 | R13: 0.017077799
A14: 12- Indústries del tabac | B14: 0 | C14: =B14/$B$92 -> 0 | D14: 0 | G14: 27- Fabricació de materials i equips elèctrics | H14: 2630 | I14: 0.0092692125 | J14: 2260 | M14: 42- Construcció d'obres d'enginyeria civil | N14: 1425 | O14: 0.0050222919 | P14: 1380 | Q14: 45 | R14: 0.032608696
A15: 13- Indústries tèxtils | B15: 800 | C15: =B15/$B$92 -> 0.0028195323 | D15: 865 | G15: 28- Fabricació de maquinària i equips ncaa | H15: 3480 | I15: 0.012264966 | J15: 3360 | M15: 64- Mediació financera, excepte assegurances i fons de pensions | N15: 1550 | O15: 0.0054628439 | P15: 1495 | Q15: 55 | R15: 0.036789298
... A55: 59- Activitats de cinematografia, de vídeo i de programes de televisió; activitats d'enregistrament de so i edició musical | B55: 870 | C55: =B55/$B$92 -> 0.0030662414 | D55: 795 | G55: Total | H55: 283735 | I55: 1 | J55: 271720 | M55: Total | N55: 283735 | O55: 1 | P55: 271720 | Q55: 12015 | R55: 0.044218313
A56: 60- Activitats d'emissió i programació de ràdio i televisió | B56: 2340 | C56: =B56/$B$92 -> 0.008247132 | D56: 2250
A57: 61- Telecomunicacions | B57: 305 | C57: =B57/$B$92 -> 0.0010749467 | D57: 290
A58: 62- Serveis de tecnologies de la informació | B58: 5010 | C58: =B58/$B$92 -> 0.017657321 | D58: 4405
A59: 63- Serveis d'informació | B59: 425 | C59: =B59/$B$92 -> 0.0014978765 | D59: 690
A60: 64- Mediació financera, excepte assegurances i fons de pensions | B60: 1550 | C60: =B60/$B$92 -> 0.0054628439 | D60: 1495
A61: 65- Assegurances, reassegurances i fons de pensions, excepte la Seguretat Social obligatòria | B61: 475 | C61: =B61/$B$92 -> 0.0016740973 | D61: 505
A62: 66- Activitats auxiliars de la mediació financera i d'assegurances | B62: 525 | C62: =B62/$B$92 -> 0.0018503181 | D62: 540
A63: 68- Activitats immobiliàries | B63: 2395 | C63: =B63/$B$92 -> 0.0084409749 | D63: 2470
A64: 69- Activitats jurídiques i de comptabilitat | B64: 4410 | C64: =B64/$B$92 -> 0.015542672 | D64: 4245
A65: 70- Activitats de les seus centrals; activitats de consultoria de gestió empresarial | B65: 1265 | C65: =B65/$B$92 -> 0.0044583855 | D65: 1140
A66: 71- Serveis tècnics d'arquitectura i enginyeria; assajos i anàlisis tècnics | B66: 5875 | C66: =B66/$B$92 -> 0.02070594 | D66: 5590
A67: 72- Recerca i desenvolupament | B67: 1250 | C67: =B67/$B$92 -> 0.0044055192 | D67: 1110
... A92: Total | B92: 283735 | C92: =B92/$B$92 -> 1 | D92: 271720

Sheet TRGSS3
A1: TORNAR A L'ÍNDEX | B1: Fet!
A3: =TRGSS1!A3 -> LLOCS DE TREBALL. RÈGIM GENERAL SEGURETAT SOCIAL.
A5: =Índex!A32 -> TRGSS3 | C5: =Índex!A7 -> 3r trimestre 2023
A6: =Índex!B21 -> Dades municipals.
B8: Llocs de treball (RGSS) | C8: % Baix Llobregat | D8: variació relativa (en %)
B9: Empreses | D9: 2022 | E9: 2021 | F9: 2020 | G9: 2019 | H9: 2008
A10: Abrera | B10: 6235 | C10: 0.020437731 | D10: -0.039291217 | E10: -0.037808642 | F10: -0.079704797 | G10: -0.042830826 | H10: 0.0025727609
A11: Begues | B11: 630 | C11: 0.0020650795 | D11: 0.041322314 | E11: 0.05 | F11: 0.021069692 | G11: -0.0063091483 | H11: -0.030769231
A12: Castelldefels | B12: 12975 | C12: 0.042530804 | D12: 0.048061389 | E12: 0.10425532 | F12: 0.13646317 | G12: 0.10689302 | H12: 0.28059613
A13: Castellví de Rosanes | B13: 1140 | C13: 0.0037368105 | D13: 0.10144928 | E13: 0.23243243 | F13: 0.26106195 | G13: 0.16445352 | H13: 0.37349398
A14: Cervelló | B14: 2280 | C14: 0.0074736211 | D14: 0.022421525 | E14: 0.078014184 | F14: 0.072941176 | G14: 0.032608696 | H14: 0.28886376
A15: Collbató | B15: 525 | C15: 0.0017208996 | D15: 0.11702128 | E15: 0.17977528 | F15: 0.20967742 | G15: 0.16926503 | H15: 0.015473888
A16: Corbera de Llobregat | B16: 1345 | C16: 0.0044087808 | D16: 0.046692607 | E16: 0.01509434 | F16: 0.028287462 | G16: -0.042022792 | H16: 0.045066045
A17: Cornellà de Llobregat | B17: 42940 | C17: 0.1407532 | D17: 0.034200385 | E17: 0.073902714 | F17: 0.157506 | G17: 0.17692202 | H17: 0.42705218
A18: Esparreguera | B18: 5445 | C18: 0.017848187 | D18: 0.13912134 | E18: 0.18886463 | F18: 0.18601612 | G18: 0.20145631 | H18: 0.06932443
A19: Esplugues de Llobregat | B19: 19365 | C19: 0.063476611 | D19: 0.0041483018 | E19: 0.0067585131 | F19: 0.10600263 | G19: 0.15021383 | H19: 0.14912177
A20: Gavà | B20: 13415 | C20: 0.043973082 | D20: 0.041941748 | E20: 0.047228728 | F20: 0.077077479 | G20: 0.055800409 | H20: 0.092515677
A21: Martorell | B21: 10655 | C21: 0.034926067 | D21: 0.082825203 | E21: 0.11687631 | F21: 0.1481681 | G21: 0.099473739 | H21: -0.013973718
... A40: Baix Llobregat | B40: 303040 | C40: 1 | D40: 0.040682661 | E40: 0.09366329 | F40: 0.11858571 | G40: 0.12916395 | H40: 0.23811089
A42: Les dades de 2021 provenen d'Idescat, a partir dels fitxers d'afiliacions i comptes de cotització de la Tresoreria General de la Seguretat Social. Dades provisionals.
A46: Zona | B46: 2022 2T | C46: 2021 2T | D46: 2020 2T | E46: 20219 2T | F46: 2008 2T | G46: 2008-2022 | H46: 2019-2022 | I46: 2020-2022 | J46: 2021-2022 | K46: Zona Centre: Cornellà de Llobregat, Esplugues de Llobregat, Sant Joan Despí, Sant Feliu de Llobregat i Sant Just Desvern.
A47: Centre | B47: 100805 | C47: 97150 | D47: 90475 | E47: 91197 | F47: 81894 | G47: 0.23092046 | H47: 0.10535434 | I47: 0.11417519 | J47: 0.037622234 | K47: Zona Delta: Begues, Castelldefels, El Prat de Llobregat, Gavà, Sant Boi de Llobregat, Sant Climent de Llobregat i Viladecans.
A48: Delta | B48: 116130 | C48: 109995 | D48: 103623 | E48: 106196 | F48: 94310 | G48: 0.23136465 | H48: 0.093544013 | I48: 0.12069714 | J48: 0.055775263 | K48: Zona Nord: Abrera, Castellví de Rosanes, Collbató, Esparreguera, Martorell, Olesa de Montserrat, Sant Andreu de la Barca i Sant Esteve Sesrovires.
A49: Nord | B49: 40990 | C49: 39210 | D49: 38073 | E49: 39386 | F49: 42711 | G49: -0.040294069 | H49: 0.040725131 | I49: 0.076615975 | J49: 0.045396583 | K49: Zona Vall Baixa: Cervelló, Corbera de Llobregat, El Papiol, La Palma de Cervelló, Molins de Rei, Pallejà, Sant Vicenç dels Horts, Santa Coloma de Cervelló, Torrelles de Llobregat i Vallirana.
A50: Vall Baixa | B50: 25810 | C50: 25365 | D50: 24319 | E50: 25085 | F50: 28597 | G50: -0.097457775 | H50: 0.028901734 | I50: 0.061310087 | J50: 0.01754386
A51: Total | B51: 283735 | C51: 271720 | D51: 256490 | E51: 261864 | F51: 247512 | G51: 0.14634846 | H51: 0.083520453 | I51: 0.10622246 | J51: 0.044218313

Sheet TRGSS4
A1: TORNAR A L'ÍNDEX | B1: Fet!
A3: =TRGSS1!A3 -> LLOCS DE TREBALL. RÈGIM GENERAL SEGURETAT SOCIAL.
A5: =Índex!A33 -> TRGSS4 | C5: =Índex!A7 -> 3r trimestre 2023
A6: =Índex!B33 -> Dades municipals. Llocs de treball assalariat per grandària del compte de cotització.
B8: Fins a 50 treballadors | C8: De 51 a 250 treballadors | D8: 251 i més treballadors | E8: % Baix Llobregat | H8: variació anual relativa (en %)
C9: De 51 a 250 treballadors | E9: Fins a 50 treballadors | F9: De 51 a 250 treballadors | G9: 251 i més treballadors | H9: Fins a 50 treballadors | I9: De 51 a 250 treballadors | J9: 251 i més treballadors
A10: Abrera | B10: 3120 | C10: 2420 | D10: 695 | E10: 0.026442919 | F10: 0.029926421 | G10: 0.0066705058 | H10: 0.045226131 | I10: -0.15087719 | J10: 0.061068702
A11: Begues | B11: 635 | C11: 0 | D11: 0 | E11: 0.005381812 | F11: 0 | G11: 0 | H11: 0.049586777 | I11: - | J11: -
A12: Castelldefels | B12: 8815 | C12: 2625 | D12: 1530 | E12: 0.074709721 | F12: 0.03246151 | G12: 0.014684711 | H12: 0.032201405 | I12: -0.08056042 | J12: 0.54545455
A13: Castellví de Rosanes | B13: 600 | C13: 60 | D13: 480 | E13: 0.0050851767 | F13: 0.00074197737 | G13: 0.004606968 | H13: 0.090909091 | I13: -0.5 | J13: 0.31506849
A14: Cervelló | B14: 1375 | C14: 910 | D14: 0 | E14: 0.01165353 | F14: 0.011253323 | G14: 0 | H14: 0.003649635 | I14: 0.058139535 | J14: -
A15: Collbató | B15: 525 | C15: 0 | D15: 0 | E15: 0.0044495296 | F15: 0 | G15: 0 | H15: 0.11702128 | I15: - | J15: -
A16: Corbera de Llobregat | B16: 1015 | C16: 330 | D16: 0 | E16: 0.0086024239 | F16: 0.0040808755 | G16: 0 | H16: 0.020100503 | I16: 0.13793103 | J16: -
A17: Cornellà de Llobregat | B17: 14485 | C17: 11290 | D17: 17160 | E17: 0.12276464 | F17: 0.13961541 | G17: 0.16469911 | H17: 0.025849858 | I17: 0.18405873 | J17: -0.039462636
A18: Esparreguera | B18: 3130 | C18: 1380 | D18: 930 | E18: 0.026527672 | F18: 0.01706548 | G18: 0.0089260006 | H18: 0.048576214 | I18: -0.23119777 | J18: -
A19: Esplugues de Llobregat | B19: 5980 | C19: 5965 | D19: 7420 | E19: 0.050682261 | F19: 0.073764917 | G19: 0.071216048 | H19: 0.0075821398 | I19: -0.0091362126 | J19: 0.012969283
A20: Gavà | B20: 6485 | C20: 5200 | D20: 1730 | E20: 0.054962285 | F20: 0.064304705 | G20: 0.016604281 | H20: -0.034251675 | I20: -0.017013233 | J20: 0.98850575
A21: Martorell | B21: 4230 | C21: 2445 | D21: 3980 | E21: 0.035850496 | F21: 0.030235578 | G21: 0.038199443 | H21: 0 | I21: 0.065359477 | J21: 0.20241692
A22: Molins de Rei | B22: 5025 | C22: 1965 | D22: 0 | E22: 0.042588355 | F22: 0.024299759 | G22: 0 | H22: 0.020304569 | I22: -0.02238806 | J22: -
A23: Olesa de Montserrat | B23: 2330 | C23: 1570 | D23: 0 | E23: 0.019747436 | F23: 0.019415075 | G23: 0 | H23: 0.042505593 | I23: 0.097902098 | J23: -
A24: Pallejà | B24: 1615 | C24: 1105 | D24: 0 | E24: 0.013687601 | F24: 0.01366475 | G24: 0 | H24: -0.077142857 | I24: 0.37267081 | J24: -
A25: La Palma de Cervelló | B25: 510 | C25: 0 | D25: 0 | E25: 0.0043224002 | F25: 0 | G25: 0 | H25: 0 | I25: - | J25: -
A26: El Papiol | B26: 1135 | C26: 505 | D26: 340 | E26: 0.0096194593 | F26: 0.0062449762 | G26: 0.003263269 | H26: -0.017316017 | I26: -0.4127907 | J26: -
A27: El Prat de Llobregat | B27: 10520 | C27: 9830 | D27: 31120 | E27: 0.089160098 | F27: 0.12156063 | G27: 0.29868509 | H27: 0.00047551117 | I27: -0.057074341 | J27: -0.041133878
A28: Sant Andreu de la Barca | B28: 4685 | C28: 2295 | D28: 4220 | E28: 0.039706755 | F28: 0.028380634 | G28: 0.040502927 | H28: 0.049272116 | I28: 0 | J28: -0.015169195
A29: Sant Boi de Llobregat | B29: 10610 | C29: 8605 | D29: 5490 | E29: 0.089922875 | F29: 0.10641192 | G29: 0.052692197 | H29: 0.019702066 | I29: 0.10960671 | J29: 0.031954887
A30: Sant Climent de Llobregat | B30: 485 | C30: 65 | D30: 0 | E30: 0.0041105178 | F30: 0.00080380882 | G30: 0 | H30: 0.077777778 | I30: -0.13333333 | J30: -
A31: Sant Esteve Sesrovires | B31: 1985 | C31: 1955 | D31: 1390 | E31: 0.01682346 | F31: 0.024176096 | G31: 0.013341012 | H31: 0.023195876 | I31: -0.050970874 | J31: 0.081712062
A32: Sant Feliu de Llobregat | B32: 5440 | C32: 3770 | D32: 6870 | E32: 0.046105602 | F32: 0.046620911 | G32: 0.06593723 | H32: -0.0091074681 | I32: 0.027247956 | J32: 0.1865285
A33: Sant Joan Despí | B33: 4825 | C33: 3965 | D33: 6120 | E33: 0.040893296 | F33: 0.049032338 | G33: 0.058738842 | H33: -0.070327553 | I33: 0.11690141 | J33: 0.31754575
A34: Sant Just Desvern | B34: 5135 | C34: 4745 | D34: 4650 | E34: 0.043520637 | F34: 0.058678044 | G34: 0.044630003 | H34: 0.018849206 | I34: -0.023662551 | J34: 0.13001215
A35: Sant Vicenç dels Horts | B35: 2985 | C35: 3025 | D35: 585 | E35: 0.025298754 | F35: 0.037408026 | G35: 0.0056147423 | H35: 0.011864407 | I35: -0.032 | J35: 0.88709677
A36: Santa Coloma de Cervelló | B36: 845 | C36: 415 | D36: 615 | E36: 0.0071616239 | F36: 0.0051320101 | G36: 0.0059026778 | H36: -0.066298343 | I36: -0.43537415 | J36: 1.0847458
A37: Torrelles de Llobregat | B37: 570 | C37: 60 | D37: 0 | E37: 0.0048309179 | F37: 0.00074197737 | G37: 0 | H37: 0.15151515 | I37: 0 | J37: -
A38: Vallirana | B38: 1585 | C38: 145 | D38: 0 | E38: 0.013433342 | F38: 0.001793112 | G38: 0 | H38: -0.01552795 | I38: -0.033333333 | J38: -
A39: Viladecans | B39: 7325 | C39: 4225 | D39: 8860 | E39: 0.062081532 | F39: 0.052247573 | G39: 0.085036952 | H39: -0.00068212824 | I39: -0.024249423 | J39: 1.0652681
A40: BAIX LLOBREGAT | B40: 117990 | C40: 80865 | D40: 104190 | E40: 1 | F40: 1 | G40: 1 | H40: 0.009712892 | I40: 0.0093615428 | J40: 0.10646206
A42: Les dades de 2021 provenen d'Idescat, a partir dels fitxers d'afiliacions i comptes de cotització de la Tresoreria General de la Seguretat Social. Dades provisionals.

Sheet TRGS5
A1: TORNAR A L'ÍNDEX
A3: =TRGSS1!A3 -> LLOCS DE TREBALL. RÈGIM GENERAL SEGURETAT SOCIAL.
A5: =Índex!A34 -> TRGSS5 | C5: =Índex!A7 -> 3r trimestre 2023
A6: =Índex!B34 -> Dades municipals. Relació entre població ocupada i llocs de treball.
B9: P. Règim General resident al municipi | C9: P. Règim General treballant al municipi | D9: Diferència residents-treballant (abs) | E9: Diferència residents-treballant (%)
A11: Abrera | B11: 5910 | C11: 6235 | D11: -840 | E11: =+D11/B11 -> -0.14213198
A12: Begues | B12: 3535 | C12: 630 | D12: 2235 | E12: =+D12/B12 -> 0.63224894
A13: Castelldefels | B13: 30280 | C13: 12975 | D13: 12520 | E13: =+D13/B13 -> 0.41347424
A14: Castellví de Rosanes | B14: 960 | C14: 1140 | D14: -325 | E14: =+D14/B14 -> -0.33854167
A15: Cervelló | B15: 4460 | C15: 2280 | D15: 1425 | E15: =+D15/B15 -> 0.31950673
A16: Collbató | B16: 2320 | C16: 525 | D16: 1405 | E16: =+D16/B16 -> 0.60560345
A17: Corbera de Llobregat | B17: 7330 | C17: 1345 | D17: 4705 | E17: =+D17/B17 -> 0.64188267
A18: Cornellà de Llobregat | B18: 39130 | C18: 42940 | D18: -7330 | E18: =+D18/B18 -> -0.1873243
A19: Esparreguera | B19: 10115 | C19: 5445 | D19: 3660 | E19: =+D19/B19 -> 0.36183885
A20: Esplugues de Llobregat | B20: 19485 | C20: 19365 | D20: -2405 | E20: =+D20/B20 -> -0.12342828
A21: Gavà | B21: 20680 | C21: 13415 | D21: 4600 | E21: =+D21/B21 -> 0.22243714
A22: Martorell | B22: 12020 | C22: 10655 | D22: 535 | E22: =+D22/B22 -> 0.044509151
... A41: Baix Llobregat | B41: 375230 | C41: 303040 | D41: 28342 | E41: =+D41/B41 -> 0.07553234
A42: Font: OCBL a partir de dades d'IDESCAT, afiliats segons residència padronal i afiliacions segons compte de cotització. Les dades corresponen al tercer trimestre.

Sheet TRGSS6
A1: TORNAR A L'ÍNDEX | B1: Fet!
A3: =TRGSS1!A3 -> LLOCS DE TREBALL. RÈGIM GENERAL SEGURETAT SOCIAL.
A5: =Índex!A35 -> TRGSS6 | C5: =Índex!A7 -> 3r trimestre 2023
A6: =Índex!B35 -> Dades municipals. Llocs de treball assalariat ocupats per dones.
B8: Llocs de treball ocupats per dones | C8: % total llocs de treball
C9: De 51 a 250 treballadors
A10: Abrera | B10: 2239 | C10: 0.31464306
A11: Begues | B11: 758 | C11: 0.44249854
A12: Castelldefels | B12: 8855 | C12: 0.46473181
A13: Castellví de Rosanes | B13: 505 | C13: 0.33621838
A14: Cervelló | B14: 1523 | C14: 0.44597365
A15: Collbató | B15: 530 | C15: 0.44991511
A16: Corbera de Llobregat | B16: 1450 | C16: 0.47108512
A17: Cornellà de Llobregat | B17: 20266 | C17: 0.41864981
A18: Esparreguera | B18: 3154 | C18: 0.44909583
A19: Esplugues de Llobregat | B19: 12090 | C19: 0.52251707
A20: Gavà | B20: 7321 | C20: 0.43194289
A21: Martorell | B21: 4877 | C21: 0.39959033
... A40: Baix Llobregat | B40: 164657 | C40: 0.45039937
A42: Les dades de 2021 provenen d'Idescat, a partir dels fitxers d'afiliacions i comptes de cotització de la Tresoreria General de la Seguretat Social. Dades provisionals.
D48: 287516
D49: =D48-B40 -> 122859

Sheet GRETA1
A1: TORNAR A L'ÍNDEX | B1: Fet!
A3: LLOCS DE TREBALL. RÈGIM ESPECIAL TREBALLADORS AUTÒNOMS
A5: GRETA1 | C5: =Índex!A7 -> 3r trimestre 2023
A6: Llocs de treball del RETA segons àmbit territorial.
A29: Les dades de 2021 provenen d'Idescat, a partir dels fitxers d'afiliacions i comptes de cotització de la Tresoreria General de la Seguretat Social. Dades provisionals.
B31: RETA | C31: variació 2023-2022 | D31: variació 2023-2021 | E31: variació 2023-2020 | F31: variació 2023-2019 | G31: variació 2023-2008
A32: Baix Llobregat | B32: 48780 | C32: 0.0041169205 | D32: -0.0015351551 | E32: -0.023442974 | F32: -0.026561035 | G32: -0.10664249
A33: Àrea Metropolitana de Barcelona | B33: 236690 | C33: 0.010610363 | D33: 0.012122897 | E33: 0.067296159 | F33: 0.064904798 | G33: 0.043671126
A34: Àmbit Territorial Metropolità | B34: 347375 | C34: 0.0096936403 | D34: 0.00964962 | E34: 0.043290355 | F34: 0.040253584 | G34: -0.050226251
A35: Catalunya | B35: 560655 | C35: 0.0096979848 | D35: 0.0088985262 | E35: 0.027318569 | F35: 0.021860493 | G35: -0.044369561

Sheet GRETA2
A1: TORNAR A L'ÍNDEX | B1: Fet!
A3: LLOCS DE TREBALL. RÈGIM ESPECIAL TREBALLADORS AUTÒNOMS
A5: =Índex!A40 -> GRETA2 | C5: =Índex!A7 -> 3r trimestre 2023
A6: =Índex!B40 -> Variació interanual llocs de treball autònom. Baix Llobregat.
A29: Les dades de 2022 i 2021 provenen d'Idescat, a partir dels fitxers d'afiliacions i comptes de cotització de la Tresoreria General de la Seguretat Social. Dades provisionals.
B31: Llocs de treball RETA | C31: Variació interanual
A32: 2016 | B32: 50215 | C32: =(B32-B40)/B40 -> 0
A33: 2017 | B33: 50345 | C33: =(B33-B32)/B32 -> 0.0025888679
A34: 2018 | B34: 50262 | C34: =(B34-B33)/B33 -> -0.0016486245
A35: 2019 | B35: 50111 | C35: =(B35-B34)/B34 -> -0.0030042577
A36: 2020 | B36: 49951 | C36: =(B36-B35)/B35 -> -0.0031929117
A37: 2021 | B37: 48845 | C37: =(B37-B36)/B36 -> -0.022141699
A38: 2022 | B38: 48590 | C38: =(B38-B37)/B37 -> -0.0052205958
A39: 2023 | B39: 48780 | C39: =(B39-B38)/B38 -> 0.0039102696 | D39: =+B39-B38 -> 190
A40: 2015 | B40: 50215

Sheet TRETA1
A1: TORNAR A L'ÍNDEX | C1: Fet!
A3: =[1]GRETA1!A3 -> LLOCS DE TREBALL. RÈGIM ESPECIAL TREBALLADORS AUTÒNOMS
A5: =[1]Índex!A36 -> TRETA1 | C5: =Índex!A7 -> 3r trimestre 2023
A6: =Índex!B41 -> Activitats econòmiques més rellevants. Baix Llobregat.
D8: Variació
B9: 2023 | C9: %total | D9: 2022-2023 | E9: 2021-2023 | F9: 2020-2023 | G9: 2019-2023 | H9: 2008-2023
A10: Total | B10: 48780 | C10: 1 | D10: 0.0041169205 | E10: -0.0015351551 | F10: -0.023442974 | G10: -0.026561035 | H10: -0.10664249
A11: 47 Comerç al detall, excepte el comerç de vehicles de motor i motocicletes | B11: 6345 | C11: 0.1300738 | D11: -0.030557678 | E11: -0.048725637 | F11: -0.10406665 | G11: -0.11604904 | H11: -0.22932103
A12: 49 Transport terrestre; transport per canonades | B12: 5145 | C12: 0.10547355 | D12: -0.0077145612 | E12: -0.038317757 | F12: -0.043680297 | G12: -0.043680297 | H12: -0.21185662
A13: 43 Activitats especialitzades de la construcció | B13: 4820 | C13: 0.098810988 | D13: 0.0010384216 | E13: -0.023302938 | F13: -0.057857701 | G13: -0.046677215 | H13: -0.33654508
A14: 56 Serveis de menjar i begudes | B14: 4670 | C14: 0.095735957 | D14: 0.0010718114 | E14: 0.0010718114 | F14: 0.020988194 | G14: 0.017650904 | H14: -0.021989529
A15: 46 Comerç a l'engròs i intermediaris del comerç, excepte vehicles de motor i motocicletes | B15: 2945 | C15: 0.060373104 | D15: -0.0084175084 | E15: -0.029654036 | F15: -0.066856781 | G15: -0.069216182 | H15: -0.093846154
A16: 96 Altres activitats de serveis personals | B16: 2835 | C16: 0.058118081 | D16: 0.032786885 | E16: 0.046125461 | F16: 0.026801883 | G16: 0.043814433 | H16: 0.30045872
A17: 86 Activitats sanitàries | B17: 2045 | C17: 0.041922919 | D17: 0.019950125 | E17: 0.070680628 | F17: 0.12548156 | G17: 0.15081598 | H17: 0.97775629
A18: 41 Construcció d'immobles | B18: 1605 | C18: 0.032902829 | D18: 0.025559105 | E18: 0.059405941 | F18: 0.046966732 | G18: 0.099315068 | H18: -0.1840366
A19: 85 Educació | B19: 1410 | C19: 0.028905289 | D19: 0.010752688 | E19: 0.064150943 | F19: 0.079632466 | G19: 0.073876618 | H19: 0.63573086
A20: 45 Venda i reparació de vehicles de motor i motocicletes | B20: 1175 | C20: 0.024087741 | D20: 0 | E20: -0.02892562 | F20: -0.015088013 | G20: -0.056982343 | H20: -0.1754386
A23: Les dades de 2022 i 2021 provenen d'Idescat, a partir dels fitxers d'afiliacions i comptes de cotització de la Tresoreria General de la Seguretat Social. Dades provisionals.

Sheet TRETA2
A1: TORNAR A L'ÍNDEX | B1: Fet!
A3: =[2]TRETA1!A3 -> LLOCS DE TREBALL. RÈGIM ESPECIAL TREBALLADORS AUTÒNOMS
A5: =[2]Índex!A37 -> TRETA2 | C5: =Índex!A7 -> 3r trimestre 2023
A6: =[2]Índex!B28 -> Dinamisme llocs de treball.
A7: ACTIVITATS QUE MÉS HAN AUGMENTAT L'AFILIACIÓ | B7: n | C7: Variació anual
C8: n | D8: %
A9: 96 Altres activitats de serveis personals | B9: 2835 | C9: 90 | D9: 0.032786885
A10: 68 Activitats immobiliàries | B10: 820 | C10: 45 | D10: 0.058064516
A11: 41 Construcció d'immobles | B11: 1605 | C11: 40 | D11: 0.025559105
A12: 86 Activitats sanitàries | B12: 2045 | C12: 40 | D12: 0.019950125
A13: 62 Serveis de tecnologies de la informació | B13: 930 | C13: 35 | D13: 0.039106145
A14: 69 Activitats jurídiques i de comptabilitat | B14: 985 | C14: 35 | D14: 0.036842105
A15: 70 Activitats de les seus centrals; activitats de consultoria de gestió empresarial | B15: 450 | C15: 35 | D15: 0.084337349
A16: 79 Activitats de les agències de viatges, operadors turístics i altres serveis de reserves i activitats que s'hi relacionen | B16: 265 | C16: 35 | D16: 0.15217391
A17: 82 Activitats administratives d'oficina i altres activitats auxiliars a les empreses | B17: 760 | C17: 35 | D17: 0.048275862
A18: 93 Activitats esportives, recreatives i d'entreteniment | B18: 490 | C18: 35 | D18: 0.076923077
A19: ACTIVITATS QUE MÉS HAN DISMINUÏT L'AFILIACIÓ | B19: n | C19: Variació anual
C20: n | D20: %
A21: 47 Comerç al detall, excepte el comerç de vehicles de motor i motocicletes | B21: 6345 | C21: -200 | D21: -0.030557678
A22: 49 Transport terrestre; transport per canonades | B22: 5145 | C22: -40 | D22: -0.0077145612
A23: 95 Reparació d'ordinadors, d'efectes personals i efectes domèstics | B23: 540 | C23: -35 | D23: -0.060869565
A24: 01 Agricultura, ramaderia, caça i activitats dels serveis que s'hi relacionen | B24: 315 | C24: -25 | D24: -0.073529412
A25: 46 Comerç a l'engròs i intermediaris del comerç, excepte vehicles de motor i motocicletes | B25: 2945 | C25: -25 | D25: -0.0084175084
A26: 14 Confecció de peces de vestir | B26: 135 | C26: -20 | D26: -0.12903226
A27: 63 Serveis d'informació | B27: 155 | C27: -15 | D27: -0.088235294
A28: 66 Activitats auxiliars de la mediació financera i d'assegurances | B28: 650 | C28: -15 | D28: -0.022556391
A29: 58 Edició | B29: 135 | C29: -10 | D29: -0.068965517
A30: 77 Activitats de lloguer | B30: 265 | C30: -10 | D30: -0.036363636
A32: Les dades de 2022 i 2021 provenen d'Idescat, a partir dels fitxers d'afiliacions i comptes de cotització de la Tresoreria General de la Seguretat Social. Dades provisionals.

Sheet DIN_RETA
B1: Fet! | G1: 0.003 | M1: variació | Q1: quan ordenis, millor copiïs les cel·les calculades abans
B3: 2022 | C3: 20.22 | D3: 2021 | G3: 2022 | H3: 20.22 | I3: 2021 | J3: var absoluta | K3: var relativa | N3: 2022 | O3: 20.22 | P3: 2021 | Q3: var absoluta | R3: º
A4: 1- Agricultura, ramaderia, caça i activitats dels serveis que s'hi relacionen | B4: 328 | C4: 0.0067261355 | D4: 360 | F4: 1- Agricultura, ramaderia, caça i activitats dels serveis que s'hi relacionen | G4: 328 | H4: 0.0067261355 | I4: 360 | J4: =G4-I4 -> -32 | K4: =J4/I4 -> -0.088888889 | M4: 86- Activitats sanitàries | N4: 2022 | O4: 0.041464165 | P4: 1916 | Q4: 106 | R4: 0.055323591
A5: 2- Silvicultura i explotació forestal | B5: 0 | C5: 0 | D5: 20 | F5: 10- Indústries de productes alimentaris | G5: 162 | H5: 0.0033220548 | I5: 208 | J5: =G5-I5 -> -46 | K5: =J5/I5 -> -0.22115385 | M5: 85- Educació | N5: 1410 | O5: 0.02891418 | P5: 1354 | Q5: 56 | R5: 0.041358936
A6: 3- Pesca i aqüicultura | B6: 0 | C6: 0 | D6: .. | F6: 18- Arts gràfiques i reproducció de suports enregistrats | G6: 326 | H6: 0.0066851225 | I6: 353 | J6: =G6-I6 -> -27 | K6: =J6/I6 -> -0.076487252 | M6: 41- Construcció d'immobles | N6: 1645 | O6: 0.03373321 | P6: 1606 | Q6: 39 | R6: 0.024283935
A7: 5- Extracció d'antracita, hulla i lignit | B7: 0 | C7: 0 | D7: 0 | F7: 25- Fabricació de productes metàl·lics, excepte maquinària i equips | G7: 673 | H7: 0.013800882 | I7: 711 | J7: =G7-I7 -> -38 | K7: =J7/I7 -> -0.053445851 | M7: 62- Serveis de tecnologies de la informació | N7: 896 | O7: 0.018373834 | P7: 865 | Q7: 31 | R7: 0.03583815
A8: 6- Extracció de petroli brut i de gas natural | B8: 0 | C8: 0 | D8: 0 | F8: 28- Fabricació de maquinària i equips ncaa | G8: 158 | H8: 0.0032400287 | I8: 199 | J8: =G8-I8 -> -41 | K8: =J8/I8 -> -0.20603015 | M8: 74- Altres activitats professionals, científiques i tècniques | N8: 1135 | O8: 0.02327489 | P8: 1109 | Q8: 26 | R8: 0.023444545
A9: 7- Extracció de minerals metàl·lics | B9: 0 | C9: 0 | D9: 0 | F9: 31- Fabricació de mobles | G9: 150 | H9: 0.0030759766 | I9: 182 | J9: =G9-I9 -> -32 | K9: =J9/I9 -> -0.17582418 | M9: 93- Activitats esportives, recreatives i d'entreteniment | N9: 463 | O9: 0.0094945145 | P9: 450 | Q9: 13 | R9: 0.028888889
A10: 8- Extracció de minerals no metàl·lics ni energètics | B10: 0 | C10: 0 | D10: 8 | F10: 33- Reparació i instal·lació de maquinària i equips | G10: 460 | H10: 0.009432995 | I10: 472 | J10: =G10-I10 -> -12 | K10: =J10/I10 -> -0.025423729 | M10: 79- Activitats de les agències de viatges, operadors turístics i altres serveis de reserves i activitats que s'hi relacionen | N10: 254 | O10: 0.0052086537 | P10: 247 | Q10: 7 | R10: 0.028340081
A11: 9- Activitats de suport a les indústries extractives | B11: 0 | C11: 0 | D11: .. | F11: 41- Construcció d'immobles | G11: 1645 | H11: 0.03373321 | I11: 1606 | J11: =G11-I11 -> 39 | K11: =J11/I11 -> 0.024283935 | M11: 96- Altres activitats de serveis personals | N11: 2901 | O11: 0.059489388 | P11: 2896 | Q11: 5 | R11: 0.0017265193
A12: 10- Indústries de productes alimentaris | B12: 162 | C12: 0.0033220548 | D12: 208 | F12: 42- Construcció d'obres d'enginyeria civil | G12: 176 | H12: 0.0036091459 | I12: 212 | J12: =G12-I12 -> -36 | K12: =J12/I12 -> -0.16981132 | M12: 72- Recerca i desenvolupament | N12: 211 | O12: 0.0043268738 | P12: 207 | Q12: 4 | R12: 0.019323671
A13: 11- Fabricació de begudes | B13: 0 | C13: 0 | D13: 15 | F13: 43- Activitats especialitzades de la construcció | G13: 4996 | H13: 0.10245053 | I13: 5120 | J13: =G13-I13 -> -124 | K13: =J13/I13 -> -0.02421875 | M13: 90- Activitats de creació, artístiques i d'espectacles | N13: 526 | O13: 0.010786425 | P13: 522 | Q13: 4 | R13: 0.0076628352
A14: 12- Indústries del tabac | B14: 0 | C14: 0 | D14: 0 | F14: 45- Venda i reparació de vehicles de motor i motocicletes | G14: 1193 | H14: 0.024464267 | I14: 1230 | J14: =G14-I14 -> -37 | K14: =J14/I14 -> -0.030081301 | M14: 73- Publicitat i estudis de mercat | N14: 645 | O14: 0.013226699 | P14: 642 | Q14: 3 | R14: 0.0046728972
A15: 13- Indústries tèxtils | B15: 37 | C15: 0.0007587409 | D15: 72 | F15: 46- Comerç a l'engròs i intermediaris del comerç, excepte vehicles de motor i motocicletes | G15: 3121 | H15: 0.06400082 | I15: 3215 | J15: =G15-I15 -> -94 | K15: =J15/I15 -> -0.029237947 | M15: 81- Serveis a edificis i activitats de jardineria | N15: 771 | O15: 0.01581052 | P15: 769 | Q15: 2 | R15: 0.0026007802
A16: 14- Confecció de peces de vestir | B16: 144 | C16: 0.0029529376 | D16: 162 | F16: 47- Comerç al detall, excepte el comerç de vehicles de motor i motocicletes | G16: 6928 | H16: 0.14206911 | I16: 7138 | J16: =G16-I16 -> -210 | K16: =J16/I16 -> -0.029420006 | M16: 68- Activitats immobiliàries | N16: 846 | O16: 0.017348508 | P16: 845 | Q16: 1 | R16: 0.001183432
A17: 15- Indústria del cuir i del calçat | B17: 0 | C17: 0 | D17: 16 | F17: 49- Transport terrestre; transport per canonades | G17: 5188 | H17: 0.10638778 | I17: 5337 | J17: =G17-I17 -> -149 | K17: =J17/I17 -> -0.027918306 | M17: 69- Activitats jurídiques i de comptabilitat | N17: 1098 | O17: 0.022516149 | P17: 1100 | Q17: -2 | R17: -0.0018181818
A18: 16- Indústria de la fusta i del suro, excepte mobles; cistelleria i esparteria | B18: 98 | C18: 0.0020096381 | D18: 145 | F18: 52- Emmagatzematge i activitats afins al transport | G18: 158 | H18: 0.0032400287 | I18: 185 | J18: =G18-I18 -> -27 | K18: =J18/I18 -> -0.14594595 | M18: 82- Activitats administratives d'oficina i altres activitats auxiliars a les empreses | N18: 744 | O18: 0.015256844 | P18: 746 | Q18: -2 | R18: -0.0026809651
A19: 17- Indústries del paper | B19: 0 | C19: 0 | D19: 35 | F19: 53- Activitats postals i de correus | G19: 207 | H19: 0.0042448477 | I19: 231 | J19: =G19-I19 -> -24 | K19: =J19/I19 -> -0.1038961 | M19: 33- Reparació i instal·lació de maquinària i equips | N19: 460 | O19: 0.009432995 | P19: 472 | Q19: -12 | R19: -0.025423729
A20: 18- Arts gràfiques i reproducció de suports enregistrats | B20: 326 | C20: 0.0066851225 | D20: 353 | F20: 56- Serveis de menjar i begudes | G20: 4471 | H20: 0.09168461 | I20: 4488 | J20: =G20-I20 -> -17 | K20: =J20/I20 -> -0.0037878788 | M20: 56- Serveis de menjar i begudes | N20: 4471 | O20: 0.09168461 | P20: 4488 | Q20: -17 | R20: -0.0037878788
A21: 19- Coqueries i refinació del petroli | B21: 0 | C21: 0 | D21: 0 | F21: 59- Activitats de cinematografia, de vídeo i de programes de televisió; activitats d'enregistrament de so i edició musical | G21: 172 | H21: 0.0035271199 | I21: 200 | J21: =G21-I21 -> -28 | K21: =J21/I21 -> -0.14 | M21: 70- Activitats de les seus centrals; activitats de consultoria de gestió empresarial | N21: 412 | O21: 0.0084486825 | P21: 435 | Q21: -23 | R21: -0.052873563
A22: 20- Indústries químiques | B22: 34 | C22: 0.00069722137 | D22: 65 | F22: 62- Serveis de tecnologies de la informació | G22: 896 | H22: 0.018373834 | I22: 865 | J22: =G22-I22 -> 31 | K22: =J22/I22 -> 0.03583815 | M22: 53- Activitats postals i de correus | N22: 207 | O22: 0.0042448477 | P22: 231 | Q22: -24 | R22: -0.1038961
A23: 21- Fabricació de productes farmacèutics | B23: 0 | C23: 0 | D23: .. | F23: 66- Activitats auxiliars de la mediació financera i d'assegurances | G23: 715 | H23: 0.014662155 | I23: 746 | J23: =G23-I23 -> -31 | K23: =J23/I23 -> -0.04155496 | M23: 18- Arts gràfiques i reproducció de suports enregistrats | N23: 326 | O23: 0.0066851225 | P23: 353 | Q23: -27 | R23: -0.076487252
A24: 22- Fabricació de productes de cautxú i matèries plàstiques | B24: 71 | C24: 0.0014559623 | D24: 110 | F24: 68- Activitats immobiliàries | G24: 846 | H24: 0.017348508 | I24: 845 | J24: =G24-I24 -> 1 | K24: =J24/I24 -> 0.001183432 | M24: 52- Emmagatzematge i activitats afins al transport | N24: 158 | O24: 0.0032400287 | P24: 185 | Q24: -27 | R24: -0.14594595
A25: 23- Fabricació d'altres productes minerals no metàl·lics | B25: 33 | C25: 0.00067671486 | D25: 89 | F25: 69- Activitats jurídiques i de comptabilitat | G25: 1098 | H25: 0.022516149 | I25: 1100 | J25: =G25-I25 -> -2 | K25: =J25/I25 -> -0.0018181818 | M25: 59- Activitats de cinematografia, de vídeo i de programes de televisió; activitats d'enregistrament de so i edició musical | N25: 172 | O25: 0.0035271199 | P25: 200 | Q25: -28 | R25: -0.14
A26: 24- Metal·lúrgia; fabricació de productes bàsics de ferro, acer i ferroaliatges | B26: 66 | C26: 0.0013534297 | D26: 103 | F26: 70- Activitats de les seus centrals; activitats de consultoria de gestió empresarial | G26: 412 | H26: 0.0084486825 | I26: 435 | J26: =G26-I26 -> -23 | K26: =J26/I26 -> -0.052873563 | M26: 77- Activitats de lloguer | N26: 279 | O26: 0.0057213165 | P26: 308 | Q26: -29 | R26: -0.094155844
A27: 25- Fabricació de productes metàl·lics, excepte maquinària i equips | B27: 673 | C27: 0.013800882 | D27: 711 | F27: 71- Serveis tècnics d'arquitectura i enginyeria; assajos i anàlisis tècnics | G27: 934 | H27: 0.019153081 | I27: 973 | J27: =G27-I27 -> -39 | K27: =J27/I27 -> -0.04008222 | M27: 66- Activitats auxiliars de la mediació financera i d'assegurances | N27: 715 | O27: 0.014662155 | P27: 746 | Q27: -31 | R27: -0.04155496
A28: 26- Fabricació de productes informàtics, electrònics i òptics | B28: 25 | C28: 0.00051266277 | D28: 74 | F28: 72- Recerca i desenvolupament | G28: 211 | H28: 0.0043268738 | I28: 207 | J28: =G28-I28 -> 4 | K28: =J28/I28 -> 0.019323671 | M28: 1- Agricultura, ramaderia, caça i activitats dels serveis que s'hi relacionen | N28: 328 | O28: 0.0067261355 | P28: 360 | Q28: -32 | R28: -0.088888889
A29: 27- Fabricació de materials i equips elèctrics | B29: 0 | C29: 0 | D29: 36 | F29: 73- Publicitat i estudis de mercat | G29: 645 | H29: 0.013226699 | I29: 642 | J29: =G29-I29 -> 3 | K29: =J29/I29 -> 0.0046728972 | M29: 31- Fabricació de mobles | N29: 150 | O29: 0.0030759766 | P29: 182 | Q29: -32 | R29: -0.17582418
A30: 28- Fabricació de maquinària i equips ncaa | B30: 158 | C30: 0.0032400287 | D30: 199 | F30: 74- Altres activitats professionals, científiques i tècniques | G30: 1135 | H30: 0.02327489 | I30: 1109 | J30: =G30-I30 -> 26 | K30: =J30/I30 -> 0.023444545 | M30: 42- Construcció d'obres d'enginyeria civil | N30: 176 | O30: 0.0036091459 | P30: 212 | Q30: -36 | R30: -0.16981132
A31: 29- Fabricació de vehicles de motor, remolcs i semiremolcs | B31: 5 | C31: 0.00010253255 | D31: 31 | F31: 77- Activitats de lloguer | G31: 279 | H31: 0.0057213165 | I31: 308 | J31: =G31-I31 -> -29 | K31: =J31/I31 -> -0.094155844 | M31: 45- Venda i reparació de vehicles de motor i motocicletes | N31: 1193 | O31: 0.024464267 | P31: 1230 | Q31: -37 | R31: -0.030081301
A32: 30- Fabricació d'altres materials de transport | B32: 5 | C32: 0.00010253255 | D32: 21 | F32: 79- Activitats de les agències de viatges, operadors turístics i altres serveis de reserves i activitats que s'hi relacionen | G32: 254 | H32: 0.0052086537 | I32: 247 | J32: =G32-I32 -> 7 | K32: =J32/I32 -> 0.028340081 | M32: 25- Fabricació de productes metàl·lics, excepte maquinària i equips | N32: 673 | O32: 0.013800882 | P32: 711 | Q32: -38 | R32: -0.053445851
A33: 31- Fabricació de mobles | B33: 150 | C33: 0.0030759766 | D33: 182 | F33: 81- Serveis a edificis i activitats de jardineria | G33: 771 | H33: 0.01581052 | I33: 769 | J33: =G33-I33 -> 2 | K33: =J33/I33 -> 0.0026007802 | M33: 71- Serveis tècnics d'arquitectura i enginyeria; assajos i anàlisis tècnics | N33: 934 | O33: 0.019153081 | P33: 973 | Q33: -39 | R33: -0.04008222
A34: 32- Indústries manufactureres diverses | B34: 99 | C34: 0.0020301446 | D34: 148 | F34: 82- Activitats administratives d'oficina i altres activitats auxiliars a les empreses | G34: 744 | H34: 0.015256844 | I34: 746 | J34: =G34-I34 -> -2 | K34: =J34/I34 -> -0.0026809651 | M34: 28- Fabricació de maquinària i equips ncaa | N34: 158 | O34: 0.0032400287 | P34: 199 | Q34: -41 | R34: -0.20603015
A35: 33- Reparació i instal·lació de maquinària i equips | B35: 460 | C35: 0.009432995 | D35: 472 | F35: 85- Educació | G35: 1410 | H35: 0.02891418 | I35: 1354 | J35: =G35-I35 -> 56 | K35: =J35/I35 -> 0.041358936 | M35: 10- Indústries de productes alimentaris | N35: 162 | O35: 0.0033220548 | P35: 208 | Q35: -46 | R35: -0.22115385
A36: 35- Subministrament d'energia elèctrica, gas, vapor i aire condicionat | B36: 0 | C36: 0 | D36: 20 | F36: 86- Activitats sanitàries | G36: 2022 | H36: 0.041464165 | I36: 1916 | J36: =G36-I36 -> 106 | K36: =J36/I36 -> 0.055323591 | M36: 62- Serveis de tecnologies de la informació | N36: 888 | O36: 0.017457634 | P36: 837 | Q36: =P36-N36 -> -51 | R36: =+Q36/P36 -> -0.0609319
A37: 36- Captació, potabilització i distribució d'aigua | B37: 0 | C37: 0 | D37: .. | F37: 90- Activitats de creació, artístiques i d'espectacles | G37: 526 | H37: 0.010786425 | I37: 522 | J37: =G37-I37 -> 4 | K37: =J37/I37 -> 0.0076628352 | M37: 85- Educació | N37: 1408 | O37: 0.027680572 | P37: 1353 | Q37: =P37-N37 -> -55 | R37: =+Q37/P37 -> -0.040650407
A38: 37- Recollida i tractament d'aigües residuals | B38: 0 | C38: 0 | D38: 10 | F38: 93- Activitats esportives, recreatives i d'entreteniment | G38: 463 | H38: 0.0094945145 | I38: 450 | J38: =G38-I38 -> 13 | K38: =J38/I38 -> 0.028888889 | M38: 95- Reparació d'ordinadors, d'efectes personals i efectes domèstics | N38: 634 | O38: 0.013001128 | P38: 690 | Q38: -56 | R38: -0.08115942
A39: 38- Activitats de recollida, tractament i eliminació de residus; activitats de valorització | B39: 0 | C39: 0 | D39: 33 | F39: 95- Reparació d'ordinadors, d'efectes personals i efectes domèstics | G39: 634 | H39: 0.013001128 | I39: 690 | J39: =G39-I39 -> -56 | K39: =J39/I39 -> -0.08115942 | M39: 96- Altres activitats de serveis personals | N39: 2941 | O39: 0.057818582 | P39: 2850 | Q39: =P39-N39 -> -91 | R39: =+Q39/P39 -> -0.031929825
A40: 39- Activitats de descontaminació i altres serveis de gestió de residus | B40: 0 | C40: 0 | D40: .. | F40: 96- Altres activitats de serveis personals | G40: 2901 | H40: 0.059489388 | I40: 2896 | J40: =G40-I40 -> 5 | K40: =J40/I40 -> 0.0017265193 | M40: 46- Comerç a l'engròs i intermediaris del comerç, excepte vehicles de motor i motocicletes | N40: 3121 | O40: 0.06400082 | P40: 3215 | Q40: -94 | R40: -0.029237947
A41: 41- Construcció d'immobles | B41: 1645 | C41: 0.03373321 | D41: 1606 | F41: Total | G41: 48765 | H41: 1 | I41: 50721 | J41: =G41-I41 -> -1956 | K41: =J41/I41 -> -0.038563908 | M41: 86- Activitats sanitàries | N41: 1991 | O41: 0.03914206 | P41: 1892 | Q41: =P41-N41 -> -99 | R41: =+Q41/P41 -> -0.052325581
A42: 42- Construcció d'obres d'enginyeria civil | B42: 176 | C42: 0.0036091459 | D42: 212 | F42: 51- Transport aeri | G42: 3121 | H42: 0.06400082 | I42: 3215 | J42: =G42-I42 -> -94 | K42: =J42/I42 -> -0.029237947 | M42: 43- Activitats especialitzades de la construcció | N42: 4996 | O42: 0.10245053 | P42: 5120 | Q42: -124 | R42: -0.02421875
A43: 43- Activitats especialitzades de la construcció | B43: 4996 | C43: 0.10245053 | D43: 5120 | F43: 5- Extracció d'antracita, hulla i lignit | G43: 4996 | H43: 0.10245053 | I43: 5120 | J43: =G43-I43 -> -124 | K43: =J43/I43 -> -0.02421875 | M43: 49- Transport terrestre; transport per canonades | N43: 5188 | O43: 0.10638778 | P43: 5337 | Q43: -149 | R43: -0.027918306
A44: 45- Venda i reparació de vehicles de motor i motocicletes | B44: 1193 | C44: 0.024464267 | D44: 1230 | F44: 53- Activitats postals i de correus | G44: 5188 | H44: 0.10638778 | I44: 5337 | J44: =G44-I44 -> -149 | K44: =J44/I44 -> -0.027918306 | M44: 47- Comerç al detall, excepte el comerç de vehicles de motor i motocicletes | N44: 6928 | O44: 0.14206911 | P44: 7138 | Q44: -210 | R44: -0.029420006
A45: 46- Comerç a l'engròs i intermediaris del comerç, excepte vehicles de motor i motocicletes | B45: 3121 | C45: 0.06400082 | D45: 3215 | F45: 52- Emmagatzematge i activitats afins al transport | G45: 6928 | H45: 0.14206911 | I45: 7138 | J45: =G45-I45 -> -210 | K45: =J45/I45 -> -0.029420006 | M45: Total | N45: 48765 | O45: 1 | P45: 50721 | Q45: -1956 | R45: -0.038563908
A46: 47- Comerç al detall, excepte el comerç de vehicles de motor i motocicletes | B46: 6928 | C46: 0.14206911 | D46: 7138 | F46: Total | G46: 48765 | H46: 1 | I46: 50721 | J46: =G46-I46 -> -1956 | K46: =J46/I46 -> -0.038563908
A47: 49- Transport terrestre; transport per canonades | B47: 5188 | C47: 0.10638778 | D47: 5337 | M47: Total | N47: 50866 | O47: 1 | P47: 50368 | Q47: =P47-N47 -> -498 | R47: =+Q47/P47 -> -0.00988723
A48: 50- Transport marítim i per vies de navegació interiors | B48: 0 | C48: 0 | D48: 5
A49: 51- Transport aeri | B49: 0 | C49: 0 | D49: 13
A50: 52- Emmagatzematge i activitats afins al transport | B50: 158 | C50: 0.0032400287 | D50: 185
A51: 53- Activitats postals i de correus | B51: 207 | C51: 0.0042448477 | D51: 231
A52: 55- Serveis d'allotjament | B52: 68 | C52: 0.0013944427 | D52: 100
A53: 56- Serveis de menjar i begudes | B53: 4471 | C53: 0.09168461 | D53: 4488
A54: 58- Edició | B54: 124 | C54: 0.0025428073 | D54: 169
A55: 59- Activitats de cinematografia, de vídeo i de programes de televisió; activitats d'enregistrament de so i edició musical | B55: 172 | C55: 0.0035271199 | D55: 200
A56: 60- Activitats d'emissió i programació de ràdio i televisió | B56: 0 | C56: 0 | D56: 13
A57: 61- Telecomunicacions | B57: 61 | C57: 0.0012508972 | D57: 91
A58: 62- Serveis de tecnologies de la informació | B58: 896 | C58: 0.018373834 | D58: 865
A59: 63- Serveis d'informació | B59: 145 | C59: 0.0029734441 | D59: 174
... A88: 96- Altres activitats de serveis personals | B88: 2901 | C88: 0.059489388 | D88: 2896
A89: 97- Activitats de les llars que donen ocupació a personal domèstic | B89: 0 | C89: 0 | D89: ..
A90: 98- Activitats de les llars que produeixen béns i serveis per a ús propi | B90: 0 | C90: 0 | D90: 0
A91: 99- Organismes extraterritorials | B91: 0 | C91: 0 | D91: ..
A92: Total | B92: 48765 | C92: =B92/$B$92 -> 1 | D92: 50721

Sheet TRETA3
A1: TORNAR A L'ÍNDEX | B1: Fet!
A3: =GRETA1!A3 -> LLOCS DE TREBALL. RÈGIM ESPECIAL TREBALLADORS AUTÒNOMS
A5: =Índex!A43 -> TRETA3 | C5: =Índex!A7 -> 3r trimestre 2023
A6: =Índex!B21 -> Dades municipals.
B8: Llocs de treball (RETA) | C8: % Baix Llobregat | D8: variació relativa (en %)
B9: Empreses | D9: 2022 | E9: 2021 | F9: 2020 | G9: 2019 | H9: 2008
A10: Abrera | B10: 635 | C10: 0.01301763 | D10: 0.032520325 | E10: 0.0079365079 | F10: -0.0047021944 | G10: -0.013975155 | H10: -0.15558511
A11: Begues | B11: 545 | C11: 0.011172612 | D11: 0.048076923 | E11: 0.048076923 | F11: -0.22364672 | G11: -0.22142857 | H11: -0.096185738
A12: Castelldefels | B12: 4765 | C12: 0.097683477 | D12: 0.014909478 | E12: 0.026939655 | F12: -0.10499624 | G12: -0.09856224 | H12: -0.071873783
A13: Castellví de Rosanes | B13: 130 | C13: 0.0026650267 | D13: 0 | E13: 0 | F13: -0.21686747 | G13: -0.19753086 | H13: -0.14473684
A14: Cervelló | B14: 635 | C14: 0.01301763 | D14: -0.0078125 | E14: -0.037878788 | F14: -0.24584323 | G14: -0.24673784 | H14: -0.1910828
A15: Collbató | B15: 295 | C15: 0.0060475605 | D15: 0.017241379 | E15: 0.053571429 | F15: -0.29425837 | G15: -0.28571429 | H15: -0.15714286
A16: Corbera de Llobregat | B16: 985 | C16: 0.020192702 | D16: 0.01025641 | E16: -0.010050251 | F16: -0.27679883 | G16: -0.2698295 | H16: -0.24578867
A17: Cornellà de Llobregat | B17: 4800 | C17: 0.098400984 | D17: 0.0031347962 | E17: -0.0072388831 | F17: 0.14122682 | G17: 0.1404134 | H17: 0.035822184
A18: Esparreguera | B18: 1360 | C18: 0.027880279 | D18: 0.018726592 | E18: -0.010909091 | F18: 0.081081081 | G18: 0.065830721 | H18: -0.084175084
A19: Esplugues de Llobregat | B19: 2915 | C19: 0.059758098 | D19: -0.010186757 | E19: -0.013536379 | F19: -0.036682089 | G19: -0.052340702 | H19: -0.20049369
A20: Gavà | B20: 2925 | C20: 0.0599631 | D20: -0.0067911715 | E20: -0.0067911715 | F20: -0.011490368 | G20: -0.012158055 | H20: -0.11444142
A21: Martorell | B21: 1465 | C21: 0.0300328 | D21: 0.020905923 | E21: 0.039007092 | F21: 0.30222222 | G21: 0.28961268 | H21: 0.0020519836
... A40: Baix Llobregat | B40: 48780 | C40: 1 | D40: 0.0039102696 | E40: -0.0013307401 | F40: -0.023442974 | G40: -0.026561035 | H40: -0.10664249
A42: Les dades de 2022 i 2021 provenen d'Idescat, a partir dels fitxers d'afiliacions i comptes de cotització de la Tresoreria General de la Seguretat Social. Dades provisionals.

Sheet T7S1
A1: TORNAR A L'ÍNDEX | B1: Fet!
A3: =Índex!A45 -> ANÀLISI SEGONS 7 SECTORS PRODUCTIUS
A5: =Índex!A47 -> T7S1 | B5: =Índex!A7 -> 3r trimestre 2023
A6: =Índex!B47 -> Llocs de treball segons àmbit territorial
A7: SUMA LLOCS TREBALL (RETA+RGSS)
B8: Baix Llobregat | D8: ATM | F8: Catalunya
B9: n | C9: % | D9: n | E9: % | F9: n | G9: %
A10: AGRICULTURA | B10: 475 | C10: 0.0013502182 | D10: 3000 | E10: 0.0012201495 | F10: 31545 | G10: 0.008728773
A11: CONSTRUCCIÓ | B11: 25915 | C11: 0.073665061 | D11: 133585 | E11: 0.054331226 | F11: 224730 | G11: 0.062184725
A12: COMERÇ | B12: 70340 | C12: 0.19994599 | D12: 416565 | E12: 0.16942387 | F12: 617080 | G12: 0.17075135
A13: INDÚSTRIA | B13: 52195 | C13: 0.14836766 | D13: 265330 | E13: 0.10791409 | F13: 463210 | G13: 0.12817419
A14: SERVEIS A LA CIUTADANIA | B14: 53890 | C14: 0.1531858 | D14: 516315 | E14: 0.20999384 | F14: 755290 | G14: 0.20899524
A15: SERVEIS AL CONSUMIDOR | B15: 43120 | C15: 0.12257138 | D15: 330300 | E15: 0.13433847 | F15: 506580 | G15: 0.14017505
A16: SERVEIS RELACIONATS AMB L’EMPRESA | B16: 105860 | C16: 0.30091388 | D16: 793620 | E16: 0.32277836 | F16: 1015475 | G16: 0.28099067
A17: Total | B17: 351795 | C17: 1 | D17: 2458715 | E17: 1 | F17: 3613910 | G17: 1
A18: Font: OCBL, a partir de les dades d'Estadística de l'ocupació assalariada i autònoma segons afiliacions a la Seguretat Social d'IDESCAT.

Sheet G7S1
A1: TORNAR A L'ÍNDEX | B1: Fet!
A3: =Índex!A45 -> ANÀLISI SEGONS 7 SECTORS PRODUCTIUS
A5: =Índex!A48 -> G7S1 | C5: =Índex!A7 -> 3r trimestre 2023
A6: =Índex!B48 -> Variació intertrimestral llocs de treball. Baix Llobregat.
A25: Font: OCBL, a partir de les dades d'Estadística de l'ocupació assalariada i autònoma segons afiliacions a la Seguretat Social d'IDESCAT.
B27: 3T 2023 | C27: var trimestral (%) | E27: 2T 2023
A28: Agricultura | B28: 475 | C28: =+B28/E28-1 -> -0.030612245 | E28: 490
A29: Construcció | B29: 25915 | C29: =+B29/E29-1 -> -0.012573824 | E29: 26245
A30: Comerç | B30: 70340 | C30: =+B30/E30-1 -> -0.002764585 | E30: 70535
A31: Indústria | B31: 52195 | C31: =+B31/E31-1 -> -0.0077939359 | E31: 52605
A32: Serveis a la ciutadania | B32: 53890 | C32: =+B32/E32-1 -> 0.14343306 | E32: 47130
A33: Serveis al consumidor | B33: 43120 | C33: =+B33/E33-1 -> 0.02642228 | E33: 42010
A34: Serveis relacionats amb l'empresa | B34: 105860 | C34: =+B34/E34-1 -> 0.038861629 | E34: 101900
A35: Total llocs treball | B35: 351795 | C35: =+B35/E35-1 -> 0.031914113 | E35: 340915

Sheet T7S2
A1: TORNAR A L'ÍNDEX | B1: Fet!
A3: =Índex!A45 -> ANÀLISI SEGONS 7 SECTORS PRODUCTIUS
A5: =Índex!A49 -> T7S2 | C5: =Índex!A7 -> 3r trimestre 2023
A6: =Índex!B49 -> Llocs de treball segons municipi.
A8: Treballadors per activitats econòmiques | L8: Distribució dels llocs de treball segons sectors productius
A9: Municipi | B9: Agricultura | C9: Construcció | D9: Comerç | E9: Indústria | F9: Serveis a la ciutadania | G9: Serveis al consumidor | H9: Serveis relacionats amb l'empresa | I9: Total | L9: Municipi | M9: Agricultura | N9: Construcció | O9: Comerç | P9: Indústria | Q9: Serveis a la ciutadania | R9: Serveis al consumidor | S9: Serveis relacionats amb l'empresa
A10: Abrera | B10: 25 | C10: 456 | D10: 1086 | E10: 2612 | F10: 370 | G10: 445 | H10: 2122 | I10: 7116 | L10: Abrera | M10: =B10/$I10 -> 0.0035132097 | N10: =C10/$I10 -> 0.064080944 | O10: =D10/$I10 -> 0.15261383 | P10: =E10/$I10 -> 0.36706015 | Q10: =F10/$I10 -> 0.051995503 | R10: =G10/$I10 -> 0.062535132 | S10: =H10/$I10 -> 0.29820124
A11: Begues | B11: 34 | C11: 188 | D11: 259 | E11: 251 | F11: 266 | G11: 298 | H11: 417 | I11: 1713 | L11: Begues | M11: =B11/$I11 -> 0.019848219 | N11: =C11/$I11 -> 0.10974898 | O11: =D11/$I11 -> 0.15119673 | P11: =E11/$I11 -> 0.14652656 | Q11: =F11/$I11 -> 0.15528313 | R11: =G11/$I11 -> 0.17396381 | S11: =H11/$I11 -> 0.24343257
A12: Castelldefels | B12: 30 | C12: 1352 | D12: 3271 | E12: 1033 | F12: 2753 | G12: 5345 | H12: 5270 | I12: 19054 | L12: Castelldefels | M12: =B12/$I12 -> 0.0015744726 | N12: =C12/$I12 -> 0.07095623 | O12: =D12/$I12 -> 0.17166999 | P12: =E12/$I12 -> 0.054214338 | Q12: =F12/$I12 -> 0.1444841 | R12: =G12/$I12 -> 0.28051853 | S12: =H12/$I12 -> 0.27658234
A13: Castellví de Rosanes | B13: 5 | C13: 70 | D13: 167 | E13: 330 | F13: 164 | G13: 66 | H13: 700 | I13: 1502 | L13: Castellví de Rosanes | M13: =B13/$I13 -> 0.0033288948 | N13: =C13/$I13 -> 0.046604527 | O13: =D13/$I13 -> 0.11118509 | P13: =E13/$I13 -> 0.21970706 | Q13: =F13/$I13 -> 0.10918775 | R13: =G13/$I13 -> 0.043941411 | S13: =H13/$I13 -> 0.46604527
A14: Cervelló | B14: 10 | C14: 284 | D14: 663 | E14: 862 | F14: 370 | G14: 517 | H14: 709 | I14: 3415 | L14: Cervelló | M14: =B14/$I14 -> 0.0029282577 | N14: =C14/$I14 -> 0.083162518 | O14: =D14/$I14 -> 0.19414348 | P14: =E14/$I14 -> 0.25241581 | Q14: =F14/$I14 -> 0.10834553 | R14: =G14/$I14 -> 0.15139092 | S14: =H14/$I14 -> 0.20761347
A15: Collbató | B15: 20 | C15: 141 | D15: 196 | E15: 172 | F15: 178 | G15: 208 | H15: 263 | I15: 1178 | L15: Collbató | M15: =B15/$I15 -> 0.016977929 | N15: =C15/$I15 -> 0.1196944 | O15: =D15/$I15 -> 0.1663837 | P15: =E15/$I15 -> 0.14601019 | Q15: =F15/$I15 -> 0.15110357 | R15: =G15/$I15 -> 0.17657046 | S15: =H15/$I15 -> 0.22325976
A16: Corbera de Llobregat | B16: 20 | C16: 337 | D16: 438 | E16: 408 | F16: 555 | G16: 536 | H16: 784 | I16: 3078 | L16: Corbera de Llobregat | M16: =B16/$I16 -> 0.0064977258 | N16: =C16/$I16 -> 0.10948668 | O16: =D16/$I16 -> 0.14230019 | P16: =E16/$I16 -> 0.13255361 | Q16: =F16/$I16 -> 0.18031189 | R16: =G16/$I16 -> 0.17413905 | S16: =H16/$I16 -> 0.25471085
A17: Cornellà de Llobregat | B17: 45 | C17: 5360 | D17: 9578 | E17: 5829 | F17: 3394 | G17: 6418 | H17: 17784 | I17: 48408 | L17: Cornellà de Llobregat | M17: =B17/$I17 -> 0.00092959841 | N17: =C17/$I17 -> 0.1107255 | O17: =D17/$I17 -> 0.19785986 | P17: =E17/$I17 -> 0.12041398 | Q17: =F17/$I17 -> 0.070112378 | R17: =G17/$I17 -> 0.13258139 | S17: =H17/$I17 -> 0.36737729
A18: El Papiol | B18: 45 | C18: 192 | D18: 681 | E18: 746 | F18: 118 | G18: 236 | H18: 575 | I18: 2593 | L18: El Papiol | M18: =B18/$I18 -> 0.017354416 | N18: =C18/$I18 -> 0.074045507 | O18: =D18/$I18 -> 0.26263016 | P18: =E18/$I18 -> 0.28769765 | Q18: =F18/$I18 -> 0.045507135 | R18: =G18/$I18 -> 0.091014269 | S18: =H18/$I18 -> 0.22175087
A19: El Prat de Llobregat | B19: 72 | C19: 1654 | D19: 13893 | E19: 3786 | F19: 6196 | G19: 3693 | H19: 25753 | I19: 55047 | L19: El Prat de Llobregat | M19: =B19/$I19 -> 0.0013079732 | N19: =C19/$I19 -> 0.030047051 | O19: =D19/$I19 -> 0.25238433 | P19: =E19/$I19 -> 0.06877759 | Q19: =F19/$I19 -> 0.11255836 | R19: =G19/$I19 -> 0.067088125 | S19: =H19/$I19 -> 0.46783658
A20: Esparreguera | B20: 20 | C20: 437 | D20: 1388 | E20: 1538 | F20: 1260 | G20: 639 | H20: 1741 | I20: 7023 | L20: Esparreguera | M20: =B20/$I20 -> 0.0028477858 | N20: =C20/$I20 -> 0.062224121 | O20: =D20/$I20 -> 0.19763634 | P20: =E20/$I20 -> 0.21899473 | Q20: =F20/$I20 -> 0.17941051 | R20: =G20/$I20 -> 0.090986758 | S20: =H20/$I20 -> 0.24789976
A21: Esplugues de Llobregat | B21: 25 | C21: 876 | D21: 4292 | E21: 3535 | F21: 3714 | G21: 4626 | H21: 6070 | I21: 23138 | L21: Esplugues de Llobregat | M21: =B21/$I21 -> 0.0010804737 | N21: =C21/$I21 -> 0.037859798 | O21: =D21/$I21 -> 0.18549572 | P21: =E21/$I21 -> 0.15277898 | Q21: =F21/$I21 -> 0.16051517 | R21: =G21/$I21 -> 0.19993085 | S21: =H21/$I21 -> 0.26233901
... A40: Baix Llobregat | B40: 1118 | C40: 26278 | D40: 70904 | E40: 54554 | F40: 54381 | G40: 49101 | H40: 109244 | I40: 365580 | L40: BAIX LLOBREGAT | M40: =B40/$I40 -> 0.0030581542 | N40: =C40/$I40 -> 0.0718803 | O40: =D40/$I40 -> 0.19394934 | P40: =E40/$I40 -> 0.14922589 | Q40: =F40/$I40 -> 0.14875267 | R40: =G40/$I40 -> 0.13430986 | S40: =H40/$I40 -> 0.29882379
A41: Font: OCBL, a partir dels registres mensuals de treballadors en alta darrer dia del mes de l'INSS | L41: Font: OCBL, a partir dels registres mensuals de treballadors en alta darrer dia del mes de l'INSS
A45: Zona | B45: Agricultura | C45: Construcció | D45: Comerç | E45: Indústria | F45: Serveis a la ciutadania | G45: Serveis al consumidor | H45: Serveis relacionats amb l'empresa | I45: Total | L45: Zona | M45: Agricultura | N45: Construcció | O45: Comerç | P45: Indústria | Q45: Serveis a la ciutadania | R45: Serveis al consumidor | S45: Serveis relacionats amb l'empresa
A46: Centre | B46: =+B17+B21+B32+B33+B34 -> 148 | C46: =+C17+C21+C32+C33+C34 -> 8953 | D46: =+D17+D21+D32+D33+D34 -> 23583 | E46: =+E17+E21+E32+E33+E34 -> 15755 | F46: =+F17+F21+F32+F33+F34 -> 18877 | G46: =+G17+G21+G32+G33+G34 -> 21036 | H46: =+H17+H21+H32+H33+H34 -> 36663 | I46: =+I17+I21+I32+I33+I34 -> 125015 | L46: Centre | M46: =+B46/$I46 -> 0.0011838579 | N46: =+C46/$I46 -> 0.071615406 | O46: =+D46/$I46 -> 0.18864136 | P46: =+E46/$I46 -> 0.12602488 | Q46: =+F46/$I46 -> 0.15099788 | R46: =+G46/$I46 -> 0.16826781 | S46: =+H46/$I46 -> 0.29326881
A47: Delta | B47: =+B11+B12+B22+B19+B30+B39+B29 -> 580 | C47: =+C11+C12+C22+C19+C30+C39+C29 -> 9943 | D47: =+D11+D12+D22+D19+D30+D39+D29 -> 31798 | E47: =+E11+E12+E22+E19+E30+E39+E29 -> 14802 | F47: =+F11+F12+F22+F19+F30+F39+F29 -> 21104 | G47: =+G11+G12+G22+G19+G30+G39+G29 -> 18604 | H47: =+H11+H12+H22+H19+H30+H39+H29 -> 51212 | I47: =+I11+I12+I22+I19+I30+I39+I29 -> 148043 | L47: Delta | M47: =+B47/$I47 -> 0.0039177806 | N47: =+C47/$I47 -> 0.067162919 | O47: =+D47/$I47 -> 0.21478895 | P47: =+E47/$I47 -> 0.099984464 | Q47: =+F47/$I47 -> 0.14255318 | R47: =+G47/$I47 -> 0.12566619 | S47: =+H47/$I47 -> 0.34592652
A48: Nord | B48: =+B10+B13+B15+B20+B24+B26+B28+B31 -> 155 | C48: =+C10+C13+C15+C20+C24+C26+C28+C31 -> 3679 | D48: =+D10+D13+D15+D20+D24+D26+D28+D31 -> 7504 | E48: =+E10+E13+E15+E20+E24+E26+E28+E31 -> 15855 | F48: =+F10+F13+F15+F20+F24+F26+F28+F31 -> 9489 | G48: =+G10+G13+G15+G20+G24+G26+G28+G31 -> 4332 | H48: =+H10+H13+H15+H20+H24+H26+H28+H31 -> 12502 | I48: =+I10+I13+I15+I20+I24+I26+I28+I31 -> 53516 | L48: Nord | M48: =+B48/$I48 -> 0.0028963301 | N48: =+C48/$I48 -> 0.068745796 | O48: =+D48/$I48 -> 0.14021975 | P48: =+E48/$I48 -> 0.29626654 | Q48: =+F48/$I48 -> 0.17731146 | R48: =+G48/$I48 -> 0.080947754 | S48: =+H48/$I48 -> 0.23361238
A49: Vall Baixa | B49: =+B14+B16+B25+B27+B23+B18+B35+B36+B37+B38 -> 235 | C49: =+C14+C16+C25+C27+C23+C18+C35+C36+C37+C38 -> 3703 | D49: =+D14+D16+D25+D27+D23+D18+D35+D36+D37+D38 -> 8019 | E49: =+E14+E16+E25+E27+E23+E18+E35+E36+E37+E38 -> 8142 | F49: =+F14+F16+F25+F27+F23+F18+F35+F36+F37+F38 -> 4911 | G49: =+G14+G16+G25+G27+G23+G18+G35+G36+G37+G38 -> 5129 | H49: =+H14+H16+H25+H27+H23+H18+H35+H36+H37+H38 -> 8867 | I49: =+I14+I16+I25+I27+I23+I18+I35+I36+I37+I38 -> 39006 | L49: Vall Baixa | M49: =+B49/$I49 -> 0.0060247141 | N49: =+C49/$I49 -> 0.094934113 | O49: =+D49/$I49 -> 0.20558376 | P49: =+E49/$I49 -> 0.20873712 | Q49: =+F49/$I49 -> 0.12590371 | R49: =+G49/$I49 -> 0.13149259 | S49: =+H49/$I49 -> 0.227324
A50: Total | B50: =+SUM(B46:B49) -> 1118 | C50: =+SUM(C46:C49) -> 26278 | D50: =+SUM(D46:D49) -> 70904 | E50: =+SUM(E46:E49) -> 54554 | F50: =+SUM(F46:F49) -> 54381 | G50: =+SUM(G46:G49) -> 49101 | H50: =+SUM(H46:H49) -> 109244 | I50: =+SUM(I46:I49) -> 365580 | L50: Total | M50: =+B50/$I50 -> 0.0030581542 | N50: =+C50/$I50 -> 0.0718803 | O50: =+D50/$I50 -> 0.19394934 | P50: =+E50/$I50 -> 0.14922589 | Q50: =+F50/$I50 -> 0.14875267 | R50: =+G50/$I50 -> 0.13430986 | S50: =+H50/$I50 -> 0.29882379
A51: Font: OCBL, a partir dels registres mensuals de treballadors en alta darrer dia del mes de l'INSS | L51: Font: OCBL, a partir dels registres mensuals de treballadors en alta darrer dia del mes de l'INSS
G54: Distribució dels llocs de treball segons sectors productius. Baix Llobregat.
G82: Font: OCBL, a partir dels registres mensuals de treballadors en alta darrer dia del mes de l'INSS

Sheet G7S2
A1: TORNAR A L'ÍNDEX | C1: Fet! | I1: BAIX LLOBREGAT
J2: Dones | K2: Homes | L2: Diferencial (D-H/D)%
A3: =Índex!A45 -> ANÀLISI SEGONS 7 SECTORS PRODUCTIUS | I3: AGRICULTURA | J3: 0.23166369 | K3: 0.76833631 | L3: -0.69848661
I4: CONSTRUCCIÓ | J4: 0.12679808 | K4: 0.87320192 | L4: -0.85478951
A5: =Índex!A50 -> G7S2 | C5: =Índex!A7 -> 3r trimestre 2023 | I5: COMERÇ | J5: 0.46383843 | K5: 0.53616157 | L5: -0.13489057
A6: =Índex!B50 -> Llocs de treball segons sexe. | I6: INDÚSTRIA | J6: 0.32870184 | K6: 0.67129816 | L6: -0.51034897
I7: SERVEIS A LA CIUTADANIA | J7: 0.70610947 | K7: 0.29389053 | L7: 1.4026275
A8: % dones segons sectors productius i àmbits territorials. | I8: SERVEIS AL CONSUMIDOR | J8: 0.55630232 | K8: 0.44369768 | L8: 0.25378684
B9: Baix Llobregat | C9: AMB | D9: Catalunya | I9: SERVEIS RELACIONATS AMB L’EMPRESA | J9: 0.40757387 | K9: 0.59242613 | L9: -0.31202583
A10: Agricultura | B10: 0.23166369 | C10: 0.22283865 | D10: 0.22281086 | I10: Total | J10: 0.45038705 | K10: 0.54961295 | L10: -0.18053779
A11: Construcció | B11: 0.12679808 | C11: 0.14615472 | D11: 0.13954291 | I11: AMB
A12: Comerç | B12: 0.46383843 | C12: 0.49328819 | D12: 0.49095678 | J12: Dones | K12: Homes | L12: Diferencial (D-H/D)%
A13: Indústria | B13: 0.32870184 | C13: 0.33447883 | D13: 0.32575745 | I13: AGRICULTURA | J13: 0.22283865 | K13: 0.77716135 | L13: -0.71326591
A14: Serveis a la ciutadania | B14: 0.70610947 | C14: 0.67146956 | D14: 0.50817588 | I14: CONSTRUCCIÓ | J14: 0.14615472 | K14: 0.85384528 | L14: -0.82882763
A15: Serveis al consumidor | B15: 0.55630232 | C15: 0.53930281 | D15: 0.54923606 | I15: COMERÇ | J15: 0.49328819 | K15: 0.50671181 | L15: -0.026491611
A16: Serveis relacionats a l'empresa | B16: 0.40757387 | C16: 0.44279127 | D16: 0.43689851 | I16: INDÚSTRIA | J16: 0.33447883 | K16: 0.66552117 | L16: -0.49741819
A17: Total | B17: 0.45038705 | C17: 0.49172842 | D17: 0.47477564 | I17: SERVEIS A LA CIUTADANIA | J17: 0.67146956 | K17: 0.32853044 | L17: 1.043858
A18: Font: OCBL, a partir dels registres mensuals de treballadors en alta darrer dia del mes de l'INSS. | I18: SERVEIS AL CONSUMIDOR | J18: 0.53930281 | K18: 0.46069719 | L18: 0.17062318
A19: *Als registres amb secret estadístic (menys de 5 individus) se'ls hi ha assignat un 5. | I19: SERVEIS RELACIONATS AMB L’EMPRESA | J19: 0.44279127 | K19: 0.55720873 | L19: -0.2053404
I20: Total | J20: 0.49172842 | K20: 0.50827158 | L20: -0.032547886
A21: Llocs de treball segons sexe i sectors productius.
I22: CATALUNYA
J23: Dones | K23: Homes | L23: Diferencial (D-H/D)%
I24: AGRICULTURA | J24: 0.22281086 | K24: 0.77718914 | L24: -0.71331192
I25: CONSTRUCCIÓ | J25: 0.13954291 | K25: 0.86045709 | L25: -0.837827
I26: COMERÇ | J26: 0.49095678 | K26: 0.50904322 | L26: -0.035530245
I27: INDÚSTRIA | J27: 0.32575745 | K27: 0.67424255 | L27: -0.5168542
I28: SERVEIS A LA CIUTADANIA | J28: 0.50817588 | K28: 0.49182412 | L28: 0.033247151
I29: SERVEIS AL CONSUMIDOR | J29: 0.54923606 | K29: 0.45076394 | L29: 0.21845605
I30: SERVEIS RELACIONATS AMB L’EMPRESA | J30: 0.43689851 | K30: 0.56310149 | L30: -0.22412121
I31: Total | J31: 0.47477564 | K31: 0.52522436 | L31: -0.096051763
A44: Font: OCBL, a partir dels registres mensuals de treballadors en alta darrer dia del mes de l'INSS.

Sheet T7S3
A1: TORNAR A L'ÍNDEX | B1: Fet!
A3: =Índex!A45 -> ANÀLISI SEGONS 7 SECTORS PRODUCTIUS
A5: =Índex!A51 -> T7S3 | C5: =Índex!A7 -> 3r trimestre 2023
A6: =Índex!B51 -> Diferencial segons sexe de les activitats econòmiques.
B8: % | C8: Absolut
A9: Agricultura | B9: -0.69848661 | C9: -600
A10: Construcció | B10: -0.85478951 | C10: -19614
A11: Comerç | B11: -0.13489057 | C11: -5128
A12: Indústria | B12: -0.51034897 | C12: -18690
A13: Serveis a la ciutadania | B13: 1.4026275 | C13: 22421
A14: Serveis al consumidor | B14: 0.25378684 | C14: 5529
A15: Serveis relacionats a l'empresa | B15: -0.31202583 | C15: -20194
A16: Font: OCBL, a partir dels registres mensuals de treballadors en alta darrer dia del mes de l'INSS.

Sheet TTC1
A1: TORNAR A L'ÍNDEX
A3: =Índex!A53 -> ÚS DE TECNOLOGIA i CONEIXEMENT
A5: =Índex!A55 -> TTC1 | C5: =Índex!A7 -> 3r trimestre 2023
A6: =Índex!B55 -> Llocs de treball segons ús de tecnologia i coneixement. Baix Llobregat i àmbits territorials.
B9: INDÚSTRIA | C9: SERVEIS
B10: Activitats de tecnologia alta i mitjana-alta | C10: Activitats basades en el coneixement
A11: Baix Llobregat | B11: 0.38081423 | C11: 0.41770378
A12: Àmbit Territorial Metropolità | B12: 0.40326286 | C12: 0.50527879
A13: Catalunya | B13: 0.32399448 | C13: 0.48517588
A14: Font: OCBL, a partir de les dades d'Estadística de l'ocupació assalariada i autònoma segons afiliacions a la Seguretat Social d'IDESCAT.
A19: % llocs de treball d'activitats d'indústria de tecnologia alta i mitjana alta i de serveis basades en el coneixement.
A34: Font: OCBL, a partir de les dades d'Estadística de l'ocupació assalariada i autònoma segons afiliacions a la Seguretat Social d'IDESCAT.

Sheet TTC2
A1: TORNAR A L'ÍNDEX | B1: Fet!
A3: =Índex!A53 -> ÚS DE TECNOLOGIA i CONEIXEMENT
A5: =Índex!A56 -> TTC2 | C5: =Índex!A7 -> 3r trimestre 2023
A6: =Índex!B56 -> Llocs de treball segons ús de tecnologia i coneixement. Dades municipals.
B8: INDÚSTRIA | C8: SERVEIS
B9: Activitats de tecnologia alta i mitjana-alta | C9: Activitats basades en el coneixement
A10: Abrera | B10: 0.55168453 | C10: 0.28521303
A11: Begues | B11: 0.13944223 | C11: 0.46568627
A12: Castelldefels | B12: 0.36858476 | C12: 0.38566449
A13: Castellví de Rosanes | B13: 0.21791045 | C13: 0.66300366
A14: Cervelló | B14: 0.60210035 | C14: 0.40455968
A15: Collbató | B15: 0.20744681 | C15: 0.45235223
A16: Corbera de Llobregat | B16: 0.5831202 | C16: 0.44714038
A17: Cornellà de Llobregat | B17: 0.40400754 | C17: 0.39554108
A18: El Papiol | B18: 0.2985258 | C18: 0.18708827
A19: El Prat de Llobregat | B19: 0.26834862 | C19: 0.36311953
A20: Esparreguera | B20: 0.34030769 | C20: 0.4004553
A21: Esplugues de Llobregat | B21: 0.24774011 | C21: 0.45542066
... A39: Viladecans | B39: 0.24646542 | C39: 0.41766658
A40: Font: OCBL, a partir dels registres mensuals de treballadors en alta darrer dia del mes de l'INSS.

Sheet Instamaps dones
A1: Codi_INE | B1: Municipi | C1: Agricultura | D1: Construcció | E1: Comerç | F1: Indústria | G1: Serveis a la ciutadania | H1: Serveis al consumidor | I1: Serveis relacionats amb empresa | J1: Total_Dones | L1: Fet!
A2: =[3]Empreses!A4 -> 08001 | B2: =[3]Empreses!B4 -> Abrera | C2: 0.3125 | D2: 0.15698925 | E2: 0.35707845 | F2: 0.2276511 | G2: 0.69553806 | H2: 0.58009709 | I2: 0.25573034 | J2: 0.27695111
A3: =[3]Empreses!A5 -> 08020 | B3: =[3]Empreses!B5 -> Begues | C3: 0.3125 | D3: 0.13812155 | E3: 0.4738806 | F3: 0.37339056 | G3: 0.62204724 | H3: 0.53571429 | I3: 0.41404358 | J3: 0.47560976
A4: =[3]Empreses!A6 -> 08056 | B4: =[3]Empreses!B6 -> Castelldefels | C4: 0.4 | D4: 0.14675516 | E4: 0.47570657 | F4: 0.23535354 | G4: 0.70886551 | H4: 0.51967494 | I4: 0.41138716 | J4: 0.4782711
A5: =[3]Empreses!A7 -> 08066 | B5: =[3]Empreses!B7 -> Castellví de Rosanes | C5: 0 | D5: 0.26153846 | E5: 0.40782123 | F5: 0.38244514 | G5: 0.69736842 | H5: 0.43076923 | I5: 0.2472119 | J5: 0.3585086
A6: =[3]Empreses!A8 -> 08068 | B6: =[3]Empreses!B8 -> Cervelló | C6: 0.5 | D6: 0.11522634 | E6: 0.31756757 | F6: 0.432703 | G6: 0.71052632 | H6: 0.65753425 | I6: 0.3379694 | J6: 0.43682796
A7: =[3]Empreses!A9 -> 08069 | B7: =[3]Empreses!B9 -> Collbató | C7: 0.25 | D7: 0.14285714 | E7: 0.49180328 | F7: 0.34078212 | G7: 0.64670659 | H7: 0.57627119 | I7: 0.41481481 | J7: 0.45985401
A8: =[3]Empreses!A10 -> 08072 | B8: =[3]Empreses!B10 -> Corbera de Llobregat | C8: 0.25 | D8: 0.10826211 | E8: 0.45111111 | F8: 0.470726 | G8: 0.72924188 | H8: 0.62523901 | I8: 0.35538262 | J8: 0.53254024
A9: =[3]Empreses!A11 -> 08073 | B9: =[3]Empreses!B11 -> Cornellà de Llobregat | C9: 0.23255814 | D9: 0.12028725 | E9: 0.4398193 | F9: 0.26254826 | G9: 0.71256765 | H9: 0.60129112 | I9: 0.4106914 | J9: 0.39583178
A10: =[3]Empreses!A12 -> 08158 | B10: =[3]Empreses!B12 -> El Papiol | C10: 0.4 | D10: 0.083526682 | E10: 0.47352722 | F10: 0.31301069 | G10: 0.67664671 | H10: 0.58190328 | I10: 0.34677905 | J10: 0.34526112
A11: =[3]Empreses!A13 -> 08169 | B11: =[3]Empreses!B13 -> El Prat de Llobregat | C11: 0.2 | D11: 0.12820513 | E11: 0.5095776 | F11: 0.45107604 | G11: 0.70612583 | H11: 0.56971938 | I11: 0.51358025 | J11: 0.45089712
A12: =[3]Empreses!A14 -> 08076 | B12: =[3]Empreses!B14 -> Esparreguera | C12: 0.17391304 | D12: 0.10618182 | E12: 0.45801527 | F12: 0.33517292 | G12: 0.69274909 | H12: 0.52687225 | I12: 0.39990433 | J12: 0.40012034 | M12: PES MUNICIPAL DELS LLOCS DE TREBALL OCUPATS PER DONES EL 2T 2022 (JUNY)
A13: =[3]Empreses!A15 -> 08077 | B13: =[3]Empreses!B15 -> Esplugues de Llobregat | C13: 0.3125 | D13: 0.10784314 | E13: 0.43414211 | F13: 0.26266996 | G13: 0.70727432 | H13: 0.54580521 | I13: 0.33378333 | J13: 0.54211071
A14: =[3]Empreses!A16 -> 08089 | B14: =[3]Empreses!B16 -> Gavà | C14: 0.32258065 | D14: 0.13018598 | E14: 0.3877822 | F14: 0.32123412 | G14: 0.74363636 | H14: 0.53863636 | I14: 0.34288538 | J14: 0.41533217
A15: =[3]Empreses!A17 -> 08905 | B15: =[3]Empreses!B17 -> La Palma de Cervelló | C15: 0.41666667 | D15: 0.10920771 | E15: 0.53043478 | F15: 0.32075472 | G15: 0.69795038 | H15: 0.59883721 | I15: 0.3920742 | J15: 0.4304419
A16: =[3]Empreses!A18 -> 08114 | B16: =[3]Empreses!B18 -> Martorell | C16: 0 | D16: 0.087912088 | E16: 0.37238095 | F16: 0.28543689 | G16: 0.73630137 | H16: 0.62041885 | I16: 0.35993976 | J16: 0.40648056
A17: =[3]Empreses!A19 -> 08123 | B17: =[3]Empreses!B19 -> Molins de Rei | C17: 0.5 | D17: 0.17575758 | E17: 0.43835616 | F17: 0.36594203 | G17: 0.58823529 | H17: 0.61764706 | I17: 0.42276423 | J17: 0.40494324
A18: =[3]Empreses!A20 -> 08147 | B18: =[3]Empreses!B20 -> Olesa de Montserrat | C18: 0.3125 | D18: 0.12886598 | E18: 0.28346457 | F18: 0.39823009 | G18: 0.57758621 | H18: 0.48305085 | I18: 0.3592233 | J18: 0.47406035
A19: =[3]Empreses!A21 -> 08157 | B19: =[3]Empreses!B21 -> Pallejà | C19: 0.13888889 | D19: 0.13235294 | E19: 0.57162038 | F19: 0.28657653 | G19: 0.75698372 | H19: 0.52449298 | I19: 0.37863337 | J19: 0.38751868
A20: =[3]Empreses!A22 -> 08196 | B20: =[3]Empreses!B22 -> Sant Andreu de la Barca | C20: 0.3125 | D20: 0.094869313 | E20: 0.39263804 | F20: 0.29772727 | G20: 0.81218457 | H20: 0.65576748 | I20: 0.40219092 | J20: 0.37602645
A21: =[3]Empreses!A23 -> 08200 | B21: =[3]Empreses!B23 -> Sant Boi de Llobregat | C21: 0.1497006 | D21: 0.083725988 | E21: 0.39216316 | F21: 0.3302653 | G21: 0.71933567 | H21: 0.56287806 | I21: 0.38893443 | J21: 0.45242955
A22: =[3]Empreses!A24 -> 08204 | B22: =[3]Empreses!B24 -> Sant Climent de Llobregat | C22: 0.25 | D22: 0.16806723 | E22: 0.48888889 | F22: 0.33103448 | G22: 0.60674157 | H22: 0.69026549 | I22: 0.3516129 | J22: 0.36859504
A23: =[3]Empreses!A25 -> 08208 | B23: =[3]Empreses!B25 -> Sant Esteve Sesrovires | C23: 0.29411765 | D23: 0.19607843 | E23: 0.33415842 | F23: 0.35259133 | G23: 0.23740458 | H23: 0.60691824 | I23: 0.29841897 | J23: 0.31707769
A24: =[3]Empreses!A26 -> 08211 | B24: =[3]Empreses!B26 -> Sant Feliu de Llobregat | C24: 0.30952381 | D24: 0.12885662 | E24: 0.48423851 | F24: 0.27713499 | G24: 0.68125439 | H24: 0.59513961 | I24: 0.41832964 | J24: 0.55222357
... A31: =[3]Empreses!A33 -> 08301 | B31: =[3]Empreses!B33 -> Viladecans | C31: 0.16049383 | D31: 0.11985527 | E31: 0.46617284 | F31: 0.36765271 | G31: 0.72199454 | H31: 0.6347359 | I31: 0.40609952 | J31: 0.47741487
