Workbook

Sheet Índex
A6: INFORME TRIMESTRAL ESTRUCTURA PRODUCTIVA
A7: 3r trimestre 2023
A9: CONTINGUT
A10: Fer click als vincles per anar als documents, taules i gràfics corresponents
A12: GG | B12: Variació interanual del conjunt de components de l'estructura productiva. Evolució recent de l'estructura productiva del Baix Llobregat.
A13: TG | B13: =[1]TG!A7 -> Posicionament comarcal en el context de l'àmbit territorial metropolità i Catalunya. Estructura productiva.
A15: EMPRESES
A17: GE1 | B17: Comptes de cotització segons àmbit territorial.
A18: GE2 | B18: Variació interanual comptes de cotització. Baix Llobregat.
A19: TE1 | B19: Activitats econòmiques més rellevants. Baix Llobregat.
A20: TE2 | B20: Dinamisme empresarial.
A21: TE3 | B21: Dades municipals.
A23: LLOCS DE TREBALL
A25: Règim General Seguretat Social (RGSS)
A27: GRGSS1 | B27: Llocs de treball assalariat segons àmbit territorial.
A28: GRGSS2 | B28: Variació interanual llocs de treball assalariat. Baix Llobregat.
A29: GRGSS3 | B29: Variació interanual llocs de treball assalariat per grandària del compte de cotització. Baix Llobregat.
A30: TRGSS1 | B30: Activitats econòmiques més rellevants. Baix Llobregat.
A31: TRGSS2 | B31: Dinamisme llocs de treball.
A32: TRGSS3 | B32: Dades municipals.
A33: TRGSS4 | B33: Dades municipals. Llocs de treball assalariat per grandària del compte de cotització.
A34: TRGSS5 | B34: Dades municipals. Relació entre població ocupada i llocs de treball.
A35: TRGSS6 | B35: Dades municipals. Llocs de treball assalariat ocupats per dones.
A37: Règim Especial Treballadors Autònoms (RETA)
A39: GRETA1 | B39: Llocs de treball autònom segons àmbit territorial.
A40: GRETA2 | B40: Variació interanual llocs de treball autònom. Baix Llobregat.
A41: TRETA1 | B41: Activitats econòmiques més rellevants. Baix Llobregat.
A42: TRETA2 | B42: Dinamisme llocs de treball.
A43: TRETA3 | B43: Dades municipals.
A45: ANÀLISI SEGONS 7 SECTORS PRODUCTIUS
A47: T7S1 | B47: Llocs de treball segons àmbit territorial
A48: G7S1 | B48: Variació intertrimestral llocs de treball. Baix Llobregat.
A49: T7S2 | B49: Llocs de treball segons municipi.
A50: G7S2 | B50: Llocs de treball segons sexe.
A51: T7S3 | B51: Diferencial segons sexe de les activitats econòmiques.
A53: ÚS DE TECNOLOGIA i CONEIXEMENT
A55: TTC1 | B55: Llocs de treball segons ús de tecnologia i coneixement. Baix Llobregat i àmbits territorials.
A56: TTC2 | B56: Llocs de treball segons ús de tecnologia i coneixement. Dades municipals.

Sheet GG
A1: TORNAR A L'ÍNDEX
A3: EMPRESES, LLOCS DE TREBALL, RGSS I RETA
A5: GG | C5: =Índex!A7 -> 3r trimestre 2023
A7: Variació interanual de l'estructura productiva. Baix Llobregat i àmbits territorials de referència
A30: Les dades de 2021 provenen d'Idescat, a partir dels fitxers d'afiliacions i comptes de cotització de la Tresoreria General de la Seguretat Social. Dades provisionals.
B32: Empreses | C32: Total llocs de treball | D32: RGSS | E32: RETA
A33: Baix Llobregat | B33: ='GE1'!C32 -> 0.0014411991 | C33: 0.035648053 | D33: =GRGSS1!C32 -> 0.040909559 | E33: =GRETA1!C32 -> 0.0041169205
A34: Àrea Metropolitana de Barcelona | B34: ='GE1'!C33 -> 0.0082109139 | C34: 0.030175708 | D34: =GRGSS1!C33 -> 0.033103528 | E34: =GRETA1!C33 -> 0.010610363
A35: Àmbit Territorial Metropolità | B35: ='GE1'!C34 -> 0.0067214144 | C35: 0.035015197 | D35: =GRGSS1!C34 -> 0.03930347 | E35: =GRETA1!C34 -> 0.0096936403
A36: Catalunya | B36: ='GE1'!C35 -> 0.0081113297 | C36: 0.03647841 | D36: =GRGSS1!C35 -> 0.04155111 | E36: =GRETA1!C35 -> 0.0096979848
A62: Les dades de 2021 provenen d'Idescat, a partir dels fitxers d'afiliacions i comptes de cotització de la Tresoreria General de la Seguretat Social. Dades provisionals.
B64: Empreses | C64: Total llocs de treball | D64: RGSS | E64: RETA
A65: Variació anual | B65: ='GE1'!C32 -> 0.0014411991 | C65: 0.024677257 | D65: =GRGSS1!C32 -> 0.040909559 | E65: =GRETA1!C32 -> 0.0041169205
A66: Variació 2019 | B66: ='GE1'!F32 -> -0.054345854 | C66: 0.091329039 | D66: =GRGSS1!F32 -> 0.13008424 | E66: =GRETA1!F32 -> -0.026561035

Sheet TG
A1: TORNAR A L'ÍNDEX | B1: Fet!
D2: =B20+B30 -> 351820
A3: EMPRESES, LLOCS DE TREBALL, RGSS I RETA | D3: =B25+B35 -> 1853590
A5: TG | B5: =Índex!A7 -> 3r trimestre 2023
A7: Posicionament comarcal en el context de l'àmbit territorial metropolità i Catalunya. Estructura productiva. | H7: Ocultar
B8: n | C8: % / Total ATM | D8: % / Total Catalunya | E8: Variació trimestral | H8: Trimestre anterior
A9: CENTRES DE COTITZACIÓ | E9: n | F9: % | H9: 2t 2023
A10: BAIX LLOBREGAT | B10: 20846 | C10: =B10/$B$16 -> 0.13538825 | D10: =B10/$B$17 -> 0.084412823 | E10: =B10-H10 -> -37 | F10: =E10/H10 -> -0.0017717761 | H10: 20883
A11: Barcelonès | B11: 83837 | C11: =B11/$B$16 -> 0.5444951 | D11: =B11/$B$17 -> 0.33948565 | E11: =B11-H11 -> 8 | F11: =E11/H11 -> 9.5432368e-05 | H11: 83829
A12: Maresme | B12: 12115 | C12: =B12/$B$16 -> 0.078683137 | D12: =B12/$B$17 -> 0.049057918 | E12: =B12-H12 -> -103 | F12: =E12/H12 -> -0.008430185 | H12: 12218
A13: Vallès Occidental | B13: 25313 | C13: =B13/$B$16 -> 0.16440002 | D13: =B13/$B$17 -> 0.10250129 | E13: =B13-H13 -> -46 | F13: =E13/H13 -> -0.0018139517 | H13: 25359
A14: Vallès Oriental | B14: 11738 | C14: =B14/$B$16 -> 0.07623464 | D14: =B14/$B$17 -> 0.047531312 | E14: =B14-H14 -> -59 | F14: =E14/H14 -> -0.0050012715 | H14: 11797
A15: Àrea Metropolitana de Barcelona (AMB) | B15: 110633 | C15: - | D15: =B15/B16 -> 0.71852675 | E15: =B15-H15 -> -75 | F15: =E15/H15 -> -0.00067745782 | H15: 110708
A16: Àmbit Territorial Metropolità (ATM) | B16: 153972 | C16: - | D16: =B16/B17 -> 0.62348706 | E16: =B16-H16 -> -240 | F16: =E16/H16 -> -0.0015562991 | H16: 154212
A17: Catalunya | B17: 246953 | C17: - | D17: - | E17: =B17-H17 -> -902 | F17: =E17/H17 -> -0.0036392245 | H17: 247855
B18: n | C18: % / Total ATM | D18: % / Total Catalunya | E18: Variació trimestral | H18: n
A19: POBLACIÓ ASSALARIADA | E19: n | F19: %
A20: BAIX LLOBREGAT | B20: 303040 | C20: =B20/$B$26 -> 0.14352936 | D20: =B20/$B$27 -> 0.099251455 | E20: =B20-H20 -> 10835 | F20: =E20/H20 -> 0.037080132 | H20: 292205
A21: Barcelonès | B21: 1207020 | C21: =B21/$B$26 -> 0.57168298 | D21: =B21/$B$27 -> 0.39532237 | E21: =B21-H21 -> 10000 | F21: =E21/H21 -> 0.0083540793 | H21: 1197020
A22: Maresme | B22: 111435 | C22: =B22/$B$26 -> 0.052779153 | D22: =B22/$B$27 -> 0.036497115 | E22: =B22-H22 -> -215 | F22: =E22/H22 -> -0.0019256605 | H22: 111650
A23: Vallès Occidental | B23: 363010 | C23: =B23/$B$26 -> 0.17193306 | D23: =B23/$B$27 -> 0.11889279 | E23: =B23-H23 -> 4390 | F23: =E23/H23 -> 0.01224137 | H23: 358620
A24: Vallès Oriental | B24: 126060 | C24: =B24/$B$26 -> 0.059706017 | D24: =B24/$B$27 -> 0.041287085 | E24: =B24-H24 -> 45 | F24: =E24/H24 -> 0.00035710035 | H24: 126015
A25: Àrea Metropolitana de Barcelona (AMB) | B25: 1616900 | C25: - | D25: =B25/$B$27 -> 0.52956599 | E25: =B25-H25 -> 23680 | F25: =E25/H25 -> 0.014862982 | H25: 1593220
A26: Àmbit Territorial Metropolità (ATM) | B26: 2111345 | C26: - | D26: =B26/$B$27 -> 0.69150628 | E26: =B26-H26 -> 25055 | F26: =E26/H26 -> 0.012009356 | H26: 2086290
A27: Catalunya | B27: 3053255 | C27: - | D27: - | E27: =B27-H27 -> 14065 | F27: =E27/H27 -> 0.0046278778 | H27: 3039190
B28: n | C28: % / Total ATM | D28: % / Total Catalunya | E28: Variació trimestral | H28: n
A29: POBLACIÓ DEL RÈGIM AUTÒNOM | E29: n | F29: %
A30: BAIX LLOBREGAT | B30: 48780 | C30: =B30/$B$36 -> 0.14042461 | D30: =B30/$B$37 -> 0.087005378 | E30: =B30-H30 -> 80 | F30: =E30/H30 -> 0.0016427105 | H30: 48700
A31: Barcelonès | B31: 173840 | C31: =B31/$B$36 -> 0.50043901 | D31: =B31/$B$37 -> 0.31006591 | E31: =B31-H31 -> 710 | F31: =E31/H31 -> 0.0041009646 | H31: 173130
A32: Maresme | B32: 33820 | C32: =B32/$B$36 -> 0.097358762 | D32: =B32/$B$37 -> 0.060322302 | E32: =B32-H32 -> -5 | F32: =E32/H32 -> -0.00014781966 | H32: 33825
A33: Vallès Occidental | B33: 61150 | C33: =B33/$B$36 -> 0.17603454 | D33: =B33/$B$37 -> 0.10906886 | E33: =B33-H33 -> 145 | F33: =E33/H33 -> 0.0023768544 | H33: 61005
A34: Vallès Oriental | B34: 29405 | C34: =B34/$B$36 -> 0.084649154 | D34: =B34/$B$37 -> 0.052447584 | E34: =B34-H34 -> 95 | F34: =E34/H34 -> 0.0032412146 | H34: 29310
A35: Àrea Metropolitana de Barcelona (AMB) | B35: 236690 | C35: - | D35: =B35/$B$37 -> 0.42216693 | E35: =B35-H35 -> 735 | F35: =E35/H35 -> 0.0031150007 | H35: 235955
A36: Àmbit Territorial Metropolità (ATM) | B36: 347375 | C36: - | D36: =B36/$B$37 -> 0.6195878 | E36: =B36-H36 -> 1030 | F36: =E36/H36 -> 0.0029739133 | H36: 346345
A37: Catalunya | B37: 560655 | C37: - | D37: - | E37: =B37-H37 -> 1360 | F37: =E37/H37 -> 0.0024316327 | H37: 559295
A38: Font: OCBL, a partir de les dades d'Estadística de l'ocupació assalariada i autònoma segons afiliacions a la Seguretat Social d'IDESCAT.
B41: =B30+B20 -> 351820

Sheet GE1
A1: TORNAR A L'ÍNDEX
A3: EMPRESES
A5: GE1 | C5: =Índex!A7 -> 3r trimestre 2023
A6: Comptes de cotització segons àmbit territorial.
A29: Les dades de 2021 provenen d'Idescat, a partir dels fitxers d'afiliacions i comptes de cotització de la Tresoreria General de la Seguretat Social. Dades provisionals.
B31: Empreses | C31: variació 2023-2022 | D31: variació 2023-2021 | E31: variació 2023-2020 | F31: variació 2023-2019 | G31: variació 2023-2008
A32: Baix Llobregat | B32: 20846 | C32: 0.0014411991 | D32: -0.0021062709 | E32: 0.015392109 | F32: -0.054345854 | G32: -0.10746703
A33: Àrea Metropolitana de Barcelona | B33: 110633 | C33: 0.0082109139 | D33: 0.016464384 | E33: 0.028723127 | F33: -0.054467292 | G33: -0.087623085
A34: Àmbit Territorial Metropolità | B34: 153972 | C34: 0.0067214144 | D34: 0.01343373 | E34: 0.027678959 | F34: -0.052270041 | G34: -0.1436485
A35: Catalunya | B35: 246953 | C35: 0.0081113297 | D35: 0.017159074 | E35: 0.03178244 | F35: -0.043607409 | G35: -0.10944707

Sheet GE2
A1: TORNAR A L'ÍNDEX | B1: Fet!
A3: EMPRESES
A5: GE2 | C5: =Índex!A7 -> 3r trimestre 2023
A6: =Índex!B18 -> Variació interanual comptes de cotització. Baix Llobregat.
A29: Les dades de 2021 provenen d'Idescat, a partir dels fitxers d'afiliacions i comptes de cotització de la Tresoreria General de la Seguretat Social. Dades provisionals.
B31: Empreses | C31: Variació interanual
A32: 2016 | B32: 21475 | C32: =(B32-B40)/B40 -> 0.030865975
A33: 2017 | B33: 21866 | C33: =(B33-B32)/B32 -> 0.018207218
A34: 2018 | B34: 21945 | C34: =(B34-B33)/B33 -> 0.003612915
A35: 2019 | B35: 22044 | C35: =(B35-B34)/B34 -> 0.0045112782
A36: 2020 | B36: 20530 | C36: =(B36-B35)/B35 -> -0.06868082
A37: 2021 | B37: 20890 | C37: =(B37-B36)/B36 -> 0.017535314
A38: 2022 | B38: 20816 | C38: =(B38-B37)/B37 -> -0.0035423648
A39: 2023 | B39: 20846 | C39: =(B39-B38)/B38 -> 0.0014411991
A40: 2015 | B40: 20832

Sheet TE1
A1: TORNAR A L'ÍNDEX | B1: Fet!
A3: EMPRESES
A5: =Índex!A19 -> TE1 | C5: =Índex!A7 -> 3r trimestre 2023
A6: =Índex!B19 -> Activitats econòmiques més rellevants. Baix Llobregat.
D8: Variació
B9: 2023 | C9: %total | D9: 2022-2023 | E9: 2021-2023 | F9: 2020-2023 | G9: 2019-2023 | H9: 2008-2023
A10: Total | B10: 20846 | C10: 1 | D10: 0.0014411991 | E10: -0.0021062709 | F10: 0.015392109 | G10: -0.054345854 | H10: -0.10746703
A11: 47 Comerç al detall, excepte el comerç de vehicles de motor i motocicletes | B11: 2851 | C11: 0.13676485 | D11: -0.028289025 | E11: -0.060006594 | F11: -0.035520974 | G11: -0.08913738 | H11: -0.1289337
A12: 56 Serveis de menjar i begudes | B12: 2040 | C12: 0.097860501 | D12: -0.012584705 | E12: -0.0063321968 | F12: 0.016442451 | G12: -0.054242003 | H12: 0.071428571
A13: 46 Comerç a l'engròs i intermediaris del comerç, excepte vehicles de motor i motocicletes | B13: 1974 | C13: 0.094694426 | D13: 0.0025393601 | E13: -0.003030303 | F13: 0.0066292708 | G13: -0.11000902 | H13: -0.11161116
A14: 43 Activitats especialitzades de la construcció | B14: 1513 | C14: 0.072579871 | D14: 0.020229265 | E14: -0.010464356 | F14: 0.0059840426 | G14: -0.028883184 | H14: -0.31877533
A15: 49 Transport terrestre; transport per canonades | B15: 1079 | C15: 0.05176053 | D15: 0.028598665 | E15: 0.040501446 | F15: 0.067260138 | G15: -0.050176056 | H15: -0.26946513
A16: 96 Altres activitats de serveis personals | B16: 875 | C16: 0.04197448 | D16: 0.045400239 | E16: 0.049160671 | F16: 0.044152745 | G16: -0.0022805017 | H16: 0.037959668
A17: 41 Construcció d'immobles | B17: 870 | C17: 0.041734625 | D17: 0.018735363 | E17: 0.029585799 | F17: 0.082089552 | G17: 0.072749692 | H17: -0.3255814
A18: 68 Activitats immobiliàries | B18: 693 | C18: 0.033243788 | D18: 0.011678832 | E18: 0.048411498 | F18: 0.077760498 | G18: -0.012820513 | H18: 0.22222222
A19: 85 Educació | B19: 617 | C19: 0.029598004 | D19: 0.013136289 | E19: 0.023217247 | F19: 0.04222973 | G19: -0.032915361 | H19: 0.30720339
A20: 45 Venda i reparació de vehicles de motor i motocicletes | B20: 596 | C20: 0.028590617 | D20: 0.0067567568 | E20: -0.024549918 | F20: -0.044871795 | G20: -0.12992701 | H20: -0.16526611
A22: Les dades de 2021 provenen d'Idescat, a partir dels fitxers d'afiliacions i comptes de cotització de la Tresoreria General de la Seguretat Social. Dades provisionals.

Sheet TE2
A1: TORNAR A L'ÍNDEX | B1: Fet!
A3: ='TE1'!A3 -> EMPRESES
A5: =Índex!A20 -> TE2 | C5: =Índex!A7 -> 3r trimestre 2023
A6: =Índex!B20 -> Dinamisme empresarial.
A7: ACTIVITATS QUE MÉS HAN AUGMENTAT | B7: n | C7: Variació anual
C8: n | D8: %
A9: 96 Altres activitats de serveis personals | B9: 875 | C9: 38 | D9: 0.045400239
A10: 43 Activitats especialitzades de la construcció | B10: 1513 | C10: 30 | D10: 0.020229265
A11: 49 Transport terrestre; transport per canonades | B11: 1079 | C11: 30 | D11: 0.028598665
A12: 74 Altres activitats professionals, científiques i tècniques | B12: 142 | C12: 20 | D12: 0.16393443
A13: 41 Construcció d'immobles | B13: 870 | C13: 16 | D13: 0.018735363
A14: 71 Serveis tècnics d'arquitectura i enginyeria; assajos i anàlisis tècnics | B14: 339 | C14: 16 | D14: 0.049535604
A15: 86 Activitats sanitàries | B15: 565 | C15: 10 | D15: 0.018018018
A16: 64 Mediació financera, excepte assegurances i fons de pensions | B16: 61 | C16: 9 | D16: 0.17307692
A17: 68 Activitats immobiliàries | B17: 693 | C17: 8 | D17: 0.011678832
A18: 85 Educació | B18: 617 | C18: 8 | D18: 0.013136289
A19: ACTIVITATS QUE MÉS HAN DISMINUÏT | B19: n | C19: Variació anual
C20: n | D20: %
A21: 47 Comerç al detall, excepte el comerç de vehicles de motor i motocicletes | B21: 2851 | C21: -83 | D21: -0.028289025
A22: 25 Fabricació de productes metàl·lics, excepte maquinària i equips | B22: 486 | C22: -27 | D22: -0.052631579
A23: 56 Serveis de menjar i begudes | B23: 2040 | C23: -26 | D23: -0.012584705
A24: 69 Activitats jurídiques i de comptabilitat | B24: 454 | C24: -13 | D24: -0.027837259
A25: 18 Arts gràfiques i reproducció de suports enregistrats | B25: 177 | C25: -9 | D25: -0.048387097
A26: 42 Construcció d'obres d'enginyeria civil | B26: 59 | C26: -9 | D26: -0.13235294
A27: 70 Activitats de les seus centrals; activitats de consultoria de gestió empresarial | B27: 127 | C27: -8 | D27: -0.059259259
A28: 81 Serveis a edificis i activitats de jardineria | B28: 444 | C28: -7 | D28: -0.015521064
A29: 77 Activitats de lloguer | B29: 160 | C29: -6 | D29: -0.036144578
A30: 97 Activitats de les llars que donen ocupació a personal domèstic | B30: 93 | C30: -6 | D30: -0.060606061
A32: Les dades de 2021 provenen d'Idescat, a partir dels fitxers d'afiliacions i comptes de cotització de la Tresoreria General de la Seguretat Social. Dades provisionals.

Sheet DIN_Empreses
A1: Fet! | G1: 0.003 | M1: variació | Q1: quan ordenis, millor copiïs les cel·les calculades abans
B3: 2022 | C3: 20.22 | D3: 2021 | H3: 2022 | I3: 20.22 | J3: 2021 | N3: 2022 | O3: 20.22 | P3: 2021 | Q3: var absoluta | R3: var relativa
A4: 1- Agricultura, ramaderia, caça i activitats dels serveis que s'hi relacionen | B4: 25 | C4: 0.0011900228 | D4: 27 | G4: 10- Indústries de productes alimentaris | H4: 181 | I4: 0.0086157654 | J4: 181 | M4: 10- Indústries de productes alimentaris | N4: 2987 | O4: 0.14218393 | P4: 3055 | Q4: -68 | R4: -0.022258592
A5: 2- Silvicultura i explotació forestal | B5: 10 | C5: 0.00047600914 | D5: 8 | G5: 16- Indústria de la fusta i del suro, excepte mobles; cistelleria i esparteria | H5: 67 | I5: 0.0031892612 | J5: 69 | M5: 16- Indústria de la fusta i del suro, excepte mobles; cistelleria i esparteria | N5: 1534 | O5: 0.073019802 | P5: 1560 | Q5: -26 | R5: -0.016666667
A6: 3- Pesca i aqüicultura | B6: 0 | C6: 0 | D6: .. | G6: 18- Arts gràfiques i reproducció de suports enregistrats | H6: 184 | I6: 0.0087585682 | J6: 186 | M6: 18- Arts gràfiques i reproducció de suports enregistrats | N6: 598 | O6: 0.028465347 | P6: 614 | Q6: -16 | R6: -0.026058632
A7: 5- Extracció d'antracita, hulla i lignit | B7: 0 | C7: 0 | G7: 20- Indústries químiques | H7: 110 | I7: 0.0052361005 | J7: 116 | M7: 20- Indústries químiques | N7: 1969 | O7: 0.0937262 | P7: 1985 | Q7: -16 | R7: -0.0080604534
A8: 6- Extracció de petroli brut i de gas natural | B8: 0 | C8: 0 | G8: 22- Fabricació de productes de cautxú i matèries plàstiques | H8: 124 | I8: 0.0059025133 | J8: 125 | M8: 22- Fabricació de productes de cautxú i matèries plàstiques | N8: 860 | O8: 0.040936786 | P8: 869 | Q8: -9 | R8: -0.010356732
A9: 7- Extracció de minerals metàl·lics | B9: 0 | C9: 0 | D9: 0 | G9: 23- Fabricació d'altres productes minerals no metàl·lics | H9: 64 | I9: 0.0030464585 | J9: 64 | M9: 23- Fabricació d'altres productes minerals no metàl·lics | N9: 328 | O9: 0.0156131 | P9: 337 | Q9: -9 | R9: -0.026706231
A10: 8- Extracció de minerals no metàl·lics ni energètics | B10: 12 | C10: 0.00057121097 | D10: 12 | G10: 25- Fabricació de productes metàl·lics, excepte maquinària i equips | H10: 516 | I10: 0.024562072 | J10: 521 | M10: 25- Fabricació de productes metàl·lics, excepte maquinària i equips | N10: 98 | O10: 0.0046648896 | P10: 105 | Q10: -7 | R10: -0.066666667
A11: 9- Activitats de suport a les indústries extractives | B11: 0 | C11: 0 | D11: 0 | G11: 28- Fabricació de maquinària i equips ncaa | H11: 177 | I11: 0.0084253618 | J11: 180 | M11: 28- Fabricació de maquinària i equips ncaa | N11: 110 | O11: 0.0052361005 | P11: 116 | Q11: -6 | R11: -0.051724138
A12: 10- Indústries de productes alimentaris | B12: 181 | C12: 0.0086157654 | D12: 181 | G12: 31- Fabricació de mobles | H12: 88 | I12: 0.0041888804 | J12: 90 | M12: 31- Fabricació de mobles | N12: 169 | O12: 0.0080445545 | P12: 175 | Q12: -6 | R12: -0.034285714
A13: 11- Fabricació de begudes | B13: 18 | C13: 0.00085681645 | D13: 15 | G13: 32- Indústries manufactureres diverses | H13: 71 | I13: 0.0033796649 | J13: 72 | M13: 32- Indústries manufactureres diverses | N13: 516 | O13: 0.024562072 | P13: 521 | Q13: -5 | R13: -0.009596929
A14: 12- Indústries del tabac | B14: 0 | C14: 0 | G14: 33- Reparació i instal·lació de maquinària i equips | H14: 177 | I14: 0.0084253618 | J14: 174 | M14: 33- Reparació i instal·lació de maquinària i equips | N14: 160 | O14: 0.0076161462 | P14: 164 | Q14: -4 | R14: -0.024390244
A15: 13- Indústries tèxtils | B15: 51 | C15: 0.0024276466 | D15: 58 | G15: 41- Construcció d'immobles | H15: 860 | I15: 0.040936786 | J15: 869 | M15: 41- Construcció d'immobles | N15: 236 | O15: 0.011233816 | P15: 240 | Q15: -4 | R15: -0.016666667
A16: 14- Confecció de peces de vestir | B16: 52 | C16: 0.0024752475 | D16: 59 | G16: 42- Construcció d'obres d'enginyeria civil | H16: 72 | I16: 0.0034272658 | J16: 74 | M16: 42- Construcció d'obres d'enginyeria civil | N16: 177 | O16: 0.0084253618 | P16: 180 | Q16: -3 | R16: -0.016666667
A17: 15- Indústria del cuir i del calçat | B17: 4 | C17: 0.00019040366 | D17: 6 | G17: 43- Activitats especialitzades de la construcció | H17: 1534 | I17: 0.073019802 | J17: 1560 | M17: 43- Activitats especialitzades de la construcció | N17: 467 | O17: 0.022229627 | P17: 470 | Q17: -3 | R17: -0.0063829787
A18: 16- Indústria de la fusta i del suro, excepte mobles; cistelleria i esparteria | B18: 67 | C18: 0.0031892612 | D18: 69 | G18: 45- Venda i reparació de vehicles de motor i motocicletes | H18: 598 | I18: 0.028465347 | J18: 614 | M18: 45- Venda i reparació de vehicles de motor i motocicletes | N18: 100 | O18: 0.0047600914 | P18: 103 | Q18: -3 | R18: -0.029126214
A19: 17- Indústries del paper | B19: 46 | C19: 0.002189642 | D19: 46 | G19: 46- Comerç a l'engròs i intermediaris del comerç, excepte vehicles de motor i motocicletes | H19: 1969 | I19: 0.0937262 | J19: 1985 | M19: 46- Comerç a l'engròs i intermediaris del comerç, excepte vehicles de motor i motocicletes | N19: 67 | O19: 0.0031892612 | P19: 69 | Q19: -2 | R19: -0.028985507
A20: 18- Arts gràfiques i reproducció de suports enregistrats | B20: 184 | C20: 0.0087585682 | D20: 186 | G20: 47- Comerç al detall, excepte el comerç de vehicles de motor i motocicletes | H20: 2987 | I20: 0.14218393 | J20: 3055 | M20: 47- Comerç al detall, excepte el comerç de vehicles de motor i motocicletes | N20: 184 | O20: 0.0087585682 | P20: 186 | Q20: -2 | R20: -0.010752688
A21: 19- Coqueries i refinació del petroli | B21: 0 | C21: 0 | D21: 0 | G21: 49- Transport terrestre; transport per canonades | H21: 1037 | I21: 0.049362148 | J21: 1014 | M21: 49- Transport terrestre; transport per canonades | N21: 88 | O21: 0.0041888804 | P21: 90 | Q21: -2 | R21: -0.022222222
A22: 20- Indústries químiques | B22: 110 | C22: 0.0052361005 | D22: 116 | G22: 52- Emmagatzematge i activitats afins al transport | H22: 312 | I22: 0.014851485 | J22: 313 | M22: 52- Emmagatzematge i activitats afins al transport | N22: 72 | O22: 0.0034272658 | P22: 74 | Q22: -2 | R22: -0.027027027
A23: 21- Fabricació de productes farmacèutics | B23: 19 | C23: 0.00090441736 | D23: 19 | G23: 53- Activitats postals i de correus | H23: 71 | I23: 0.0033796649 | J23: 66 | M23: 53- Activitats postals i de correus | N23: 257 | O23: 0.012233435 | P23: 259 | Q23: -2 | R23: -0.0077220077
A24: 22- Fabricació de productes de cautxú i matèries plàstiques | B24: 124 | C24: 0.0059025133 | D24: 125 | G24: 55- Serveis d'allotjament | H24: 82 | I24: 0.0039032749 | J24: 81 | M24: 55- Serveis d'allotjament | N24: 75 | O24: 0.0035700685 | P24: 77 | Q24: -2 | R24: -0.025974026
A25: 23- Fabricació d'altres productes minerals no metàl·lics | B25: 64 | C25: 0.0030464585 | D25: 64 | G25: 56- Serveis de menjar i begudes | H25: 2098 | I25: 0.099866717 | J25: 2047 | M25: 56- Serveis de menjar i begudes | N25: 124 | O25: 0.0059025133 | P25: 125 | Q25: -1 | R25: -0.008
A26: 24- Metal·lúrgia; fabricació de productes bàsics de ferro, acer i ferroaliatges | B26: 38 | C26: 0.0018088347 | D26: 40 | G26: 62- Serveis de tecnologies de la informació | H26: 257 | I26: 0.012233435 | J26: 259 | M26: 62- Serveis de tecnologies de la informació | N26: 71 | O26: 0.0033796649 | P26: 72 | Q26: -1 | R26: -0.013888889
... A39: 38- Activitats de recollida, tractament i eliminació de residus; activitats de valorització | B39: 54 | C39: 0.0025704494 | D39: 51 | G39: 85- Educació | H39: 578 | I39: 0.027513328 | J39: 577 | M39: 85- Educació | N39: 396 | O39: 0.018849962 | P39: 389 | Q39: 7 | R39: 0.017994859
A40: 39- Activitats de descontaminació i altres serveis de gestió de residus | B40: 2 | C40: 9.5201828e-05 | D40: .. | G40: 86- Activitats sanitàries | H40: 557 | I40: 0.026513709 | J40: 539 | M40: 86- Activitats sanitàries | N40: 135 | O40: 0.0064261234 | P40: 123 | Q40: 12 | R40: 0.097560976
A41: 41- Construcció d'immobles | B41: 860 | C41: 0.040936786 | D41: 869 | G41: 87- Activitats de serveis socials amb allotjament | H41: 100 | I41: 0.0047600914 | J41: 103 | M41: 87- Activitats de serveis socials amb allotjament | N41: 201 | O41: 0.0095677837 | P41: 189 | Q41: 12 | R41: 0.063492063
A42: 42- Construcció d'obres d'enginyeria civil | B42: 72 | C42: 0.0034272658 | D42: 74 | G42: 88- Activitats de serveis socials sense allotjament | H42: 77 | I42: 0.0036652704 | J42: 74 | M42: 88- Activitats de serveis socials sense allotjament | N42: 318 | O42: 0.015137091 | P42: 300 | Q42: 18 | R42: 0.06
A43: 43- Activitats especialitzades de la construcció | B43: 1534 | C43: 0.073019802 | D43: 1560 | G43: 93- Activitats esportives, recreatives i d'entreteniment | H43: 396 | I43: 0.018849962 | J43: 389 | M43: 93- Activitats esportives, recreatives i d'entreteniment | N43: 557 | O43: 0.026513709 | P43: 539 | Q43: 18 | R43: 0.033395176
A44: 45- Venda i reparació de vehicles de motor i motocicletes | B44: 598 | C44: 0.028465347 | D44: 614 | G44: 94- Activitats associatives | H44: 201 | I44: 0.0095677837 | J44: 189 | M44: 94- Activitats associatives | N44: 1037 | O44: 0.049362148 | P44: 1014 | Q44: 23 | R44: 0.022682446
A45: 46- Comerç a l'engròs i intermediaris del comerç, excepte vehicles de motor i motocicletes | B45: 1969 | C45: 0.0937262 | D45: 1985 | G45: 95- Reparació d'ordinadors, d'efectes personals i efectes domèstics | H45: 88 | I45: 0.0041888804 | J45: 87 | M45: 95- Reparació d'ordinadors, d'efectes personals i efectes domèstics | N45: 867 | O45: 0.041269992 | P45: 839 | Q45: 28 | R45: 0.033373063
A46: 47- Comerç al detall, excepte el comerç de vehicles de motor i motocicletes | B46: 2987 | C46: 0.14218393 | D46: 3055 | G46: 96- Altres activitats de serveis personals | H46: 867 | I46: 0.041269992 | J46: 839 | M46: 96- Altres activitats de serveis personals | N46: 689 | O46: 0.03279703 | P46: 660 | Q46: 29 | R46: 0.043939394
A47: 49- Transport terrestre; transport per canonades | B47: 1037 | C47: 0.049362148 | D47: 1014 | G47: 97- Activitats de les llars que donen ocupació a personal domèstic | H47: 98 | I47: 0.0046648896 | J47: 105 | M47: 97- Activitats de les llars que donen ocupació a personal domèstic | N47: 2098 | O47: 0.099866717 | P47: 2047 | Q47: 51 | R47: 0.024914509
A48: 50- Transport marítim i per vies de navegació interiors | B48: 1 | C48: 4.7600914e-05 | D48: .. | G48: Total | H48: 21008 | I48: 1 | J48: 20952 | M48: Total | N48: 21008 | O48: 1 | P48: 20952 | Q48: 56 | R48: 0.0026727759
A49: 51- Transport aeri | B49: 27 | C49: 0.0012852247 | D49: 21
A50: 52- Emmagatzematge i activitats afins al transport | B50: 312 | C50: 0.014851485 | D50: 313
A51: 53- Activitats postals i de correus | B51: 71 | C51: 0.0033796649 | D51: 66
A52: 55- Serveis d'allotjament | B52: 82 | C52: 0.0039032749 | D52: 81
A53: 56- Serveis de menjar i begudes | B53: 2098 | C53: 0.099866717 | D53: 2047
...

Sheet TE3
A1: TORNAR A L'ÍNDEX | B1: Fet!
A3: EMPRESES
A5: =[2]Índex!A18 -> TE3 | C5: =Índex!A7 -> 3r trimestre 2023
A6: =[2]Índex!B18 -> Dades municipals.
B8: Empreses | C8: % Baix Llobregat | D8: variació relativa (en %)
B9: Empreses | D9: 2022 | E9: 2021 | F9: 2020 | G9: 2019 | H9: 2008
A10: Abrera | B10: 383 | C10: 0.018372829 | D10: -0.037688442 | E10: -0.0051948052 | F10: -0.015424165 | G10: -0.098823529 | H10: -0.07038835
A11: Begues | B11: 141 | C11: 0.0067638876 | D11: 0.02173913 | E11: 0.02919708 | F11: 0.02919708 | G11: -0.020833333 | H11: -0.10759494
A12: Castelldefels | B12: 1757 | C12: 0.084284755 | D12: 0.010932106 | E12: 0.0068767908 | F12: 0.045833333 | G12: -0.014582165 | H12: -0.018435754
A13: Castellví de Rosanes | B13: 67 | C13: 0.0032140459 | D13: 0.046875 | E13: 0.11666667 | F13: 0.19642857 | G13: 0.030769231 | H13: -0.27173913
A14: Cervelló | B14: 243 | C14: 0.011656913 | D14: 0.0082987552 | E14: 0.025316456 | F14: 0.0041322314 | G14: -0.016194332 | H14: 0.065789474
A15: Collbató | B15: 82 | C15: 0.0039336084 | D15: 0.078947368 | E15: -0.012048193 | F15: 0.025 | G15: -0.12765957 | H15: -0.068181818
A16: Corbera de Llobregat | B16: 244 | C16: 0.011704883 | D16: 0.060869565 | E16: 0.084444444 | F16: 0.1040724 | G16: 0.1040724 | H16: -0.16723549
A17: Cornellà de Llobregat | B17: 2401 | C17: 0.11517797 | D17: 0.019532909 | E17: 0.017804154 | F17: 0.026946108 | G17: -0.037675351 | H17: -0.082537256
A18: El Papiol | B18: 567 | C18: 0.027199463 | D18: 0 | E18: 0.010695187 | F18: 0.036563071 | G18: -0.022413793 | H18: -0.1511976
A19: El Prat de Llobregat | B19: 1177 | C19: 0.056461671 | D19: -0.016708438 | E19: -0.024046434 | F19: 0.012908778 | G19: -0.057646117 | H19: -0.19548872
A20: Esparreguera | B20: 1240 | C20: 0.059483834 | D20: 0.0048622366 | E20: -0.011952191 | F20: 0.0016155089 | G20: -0.084870849 | H20: -0.15358362
A21: Esplugues de Llobregat | B21: 742 | C21: 0.035594359 | D21: 0.031988873 | E21: 0.040673212 | F21: 0.037762238 | G21: -0.071339174 | H21: -0.10386473
... A40: Baix Llobregat | B40: 20846 | C40: 1 | D40: 0.0014411991 | E40: -0.0021062709 | F40: 0.015392109 | G40: -0.054345854 | H40: -0.10746703
A42: Les dades de 2021 provenen d'Idescat, a partir dels fitxers d'afiliacions i comptes de cotització de la Tresoreria General de la Seguretat Social. Dades provisionals.
B44: empreses
B45: 2023 | C45: 2022 | D45: 2021 | E45: 2020 | F45: 2019 | G45: 2008
A46: Abrera | B46: 387 | C46: 395 | D46: 397 | E46: 400 | F46: 429 | G46: 418
A47: Begues | B47: 146 | C47: 144 | D47: 135 | E47: 134 | F47: 143 | G47: 160
A48: Castelldefels | B48: 1723 | C48: 1724 | D48: 1672 | E48: 1612 | F48: 1788 | G48: 1863
A49: Castellví de Rosanes | B49: 66 | C49: 62 | D49: 56 | E49: 62 | F49: 68 | G49: 96
A50: Cervelló | B50: 247 | C50: 241 | D50: 239 | E50: 240 | F50: 250 | G50: 232
A51: Collbató | B51: 80 | C51: 84 | D51: 84 | E51: 84 | F51: 93 | G51: 92
A52: Corbera de Llobregat | B52: 239 | C52: 233 | D52: 218 | E52: 212 | F52: 233 | G52: 291
A53: Cornellà de Llobregat | B53: 2372 | C53: 2383 | D53: 2365 | E53: 2285 | F53: 2520 | G53: 2675
A54: Esparreguera | B54: 565 | C54: 567 | D54: 550 | E54: 548 | F54: 584 | G54: 689
A55: Esplugues de Llobregat | B55: 1180 | C55: 1214 | D55: 1167 | E55: 1156 | F55: 1280 | G55: 1500
A56: Gavà | B56: 1242 | C56: 1257 | D56: 1250 | E56: 1213 | F56: 1372 | G56: 1500
A57: Martorell | B57: 735 | C57: 725 | D57: 713 | E57: 712 | F57: 798 | G57: 865
... A76: Baix Llobregat | B76: 20800 | C76: 21012 | D76: 20631 | E76: 20271 | F76: 22362 | G76: 24035
A78: Zona | B78: 2023 1T | C78: 2022 1T | D78: 2021 1T | E78: 2020 1T | F78: 20219 1T | G78: 2008 1T | H78: 2008-2023 | I78: 2019-2023 | J78: 2020-2023 | K78: 2021-2023 | L78: 2022-2023 | M78: Zona Centre: Cornellà de Llobregat, Esplugues de Llobregat, Sant Joan Despí, Sant Feliu de Llobregat i Sant Just Desvern.
A79: Centre | B79: =+B53+B57+B69+B70+B68 -> 5655 | C79: =+C53+C57+C69+C70+C68 -> 5697 | D79: =+D53+D57+D69+D70+D68 -> 5661 | E79: =+E53+E57+E69+E70+E68 -> 5520 | F79: =+F53+F57+F69+F70+F68 -> 6114 | G79: =+G53+G57+G69+G70+G68 -> 6440 | H79: =($B79-G79)/G79 -> -0.12189441 | I79: =($B79-F79)/F79 -> -0.075073602 | J79: =($B79-E79)/E79 -> 0.024456522 | K79: =($B79-D79)/D79 -> -0.0010598834 | L79: =($B79-C79)/C79 -> -0.0073723012 | M79: Zona Delta: Begues, Castelldefels, El Prat de Llobregat, Gavà, Sant Boi de Llobregat, Sant Climent de Llobregat i Viladecans.
A80: Delta | B80: =+B47+B48+B55+B58+B65+B66+B75 -> 7264 | C80: =+C47+C48+C55+C58+C65+C66+C75 -> 7364 | D80: =+D47+D48+D55+D58+D65+D66+D75 -> 7170 | E80: =+E47+E48+E55+E58+E65+E66+E75 -> 7069 | F80: =+F47+F48+F55+F58+F65+F66+F75 -> 7776 | G80: =+G47+G48+G55+G58+G65+G66+G75 -> 8466 | H80: =($B80-G80)/G80 -> -0.14197968 | I80: =($B80-F80)/F80 -> -0.065843621 | J80: =($B80-E80)/E80 -> 0.027585231 | K80: =($B80-D80)/D80 -> 0.013110181 | L80: =($B80-C80)/C80 -> -0.013579576 | M80: Zona Nord: Abrera, Castellví de Rosanes, Collbató, Esparreguera, Martorell, Olesa de Montserrat, Sant Andreu de la Barca i Sant Esteve Sesrovires.
A81: Nord | B81: =+B46+B49+B51+B56+B60+B62+B67+B64 -> 3316 | C81: =+C46+C49+C51+C56+C60+C62+C67+C64 -> 3366 | D81: =+D46+D49+D51+D56+D60+D62+D67+D64 -> 3335 | E81: =+E46+E49+E51+E56+E60+E62+E67+E64 -> 3282 | F81: =+F46+F49+F51+F56+F60+F62+F67+F64 -> 3643 | G81: =+G46+G49+G51+G56+G60+G62+G67+G64 -> 3805 | H81: =($B81-G81)/G81 -> -0.12851511 | I81: =($B81-F81)/F81 -> -0.089761186 | J81: =($B81-E81)/E81 -> 0.010359537 | K81: =($B81-D81)/D81 -> -0.0056971514 | L81: =($B81-C81)/C81 -> -0.014854427 | M81: Zona Vall Baixa: Cervelló, Corbera de Llobregat, El Papiol, La Palma de Cervelló, Molins de Rei, Pallejà, Sant Vicenç dels Horts, Santa Coloma de Cervelló, Torrelles de Llobregat i Vallirana.
A82: Vall Baixa | B82: =+B50+B52+B54+B59+B61+B63+B71+B72+B73+B74 -> 4565 | C82: =+C50+C52+C54+C59+C61+C63+C71+C72+C73+C74 -> 4585 | D82: =+D50+D52+D54+D59+D61+D63+D71+D72+D73+D74 -> 4465 | E82: =+E50+E52+E54+E59+E61+E63+E71+E72+E73+E74 -> 4400 | F82: =+F50+F52+F54+F59+F61+F63+F71+F72+F73+F74 -> 4829 | G82: =+G50+G52+G54+G59+G61+G63+G71+G72+G73+G74 -> 5324 | H82: =($B82-G82)/G82 -> -0.14256198 | I82: =($B82-F82)/F82 -> -0.054669704 | J82: =($B82-E82)/E82 -> 0.0375 | K82: =($B82-D82)/D82 -> 0.022396417 | L82: =($B82-C82)/C82 -> -0.0043620502
...

Sheet GRGSS1
A1: TORNAR A L'ÍNDEX | B1: Fet!
A3: LLOCS DE TREBALL. RÈGIM GENERAL SEGURETAT SOCIAL
A5: GRGSS1 | C5: =Índex!A7 -> 3r trimestre 2023
A6: Llocs de treball del RGSS segons àmbit territorial.
A29: Les dades de 2021 provenen d'Idescat, a partir dels fitxers d'afiliacions i comptes de cotització de la Tresoreria General de la Seguretat Social. Dades provisionals.
B31: RGSS | C31: variació 2023-2022 | D31: variació 2023-2021 | E31: variació 2023-2020 | F31: variació 2023-2019 | G31: variació 2023-2008
A32: Baix Llobregat | B32: 303040 | C32: 0.040909559 | D32: 0.094303512 | E32: 0.11942256 | F32: 0.13008424 | G32: 0.23996497
A33: Àrea Metropolitana de Barcelona | B33: 1616900 | C33: 0.033103528 | D33: 0.083059816 | E33: 0.11641157 | F33: 0.084213823 | G33: 0.15289371
A34: Àmbit Territorial Metropolità | B34: 2111345 | C34: 0.03930347 | D34: 0.08564722 | E34: 0.12137081 | F34: 0.089492527 | G34: 0.10511652
A35: Catalunya | B35: 3053255 | C35: 0.04155111 | D35: 0.087091818 | E35: 0.12915567 | F35: 0.094360553 | G35: 0.14010551

Sheet GRGSS2
A1: TORNAR A L'ÍNDEX | B1: Fet!
A3: LLOCS DE TREBALL. RÈGIM GENERAL SEGURETAT SOCIAL.
A5: GRGSS2 | C5: =Índex!A7 -> 3r trimestre 2023
A6: =Índex!B28 -> Variació interanual llocs de treball assalariat. Baix Llobregat.
A29: Les dades de 2021 provenen d'Idescat, a partir dels fitxers d'afiliacions i comptes de cotització de la Tresoreria General de la Seguretat Social. Dades provisionals.
B31: Llocs de treball RGSS | C31: Variació interanual
A32: 2016 | B32: 233221 | C32: =(B32-B41)/B41 -> 0.057782757
A33: 2017 | B33: 249925 | C33: =(B33-B32)/B32 -> 0.071623053
A34: 2018 | B34: 260939 | C34: =(B34-B33)/B33 -> 0.044069221 | D34: =B34-B33 -> 11014
A35: 2019 | B35: 268157 | C35: =(B35-B34)/B34 -> 0.027661637
A36: 2020 | B36: 270711 | C36: =(B36-B35)/B35 -> 0.0095242712
A37: 2021 | B37: 276925 | C37: =(B37-B36)/B36 -> 0.022954368
A38: 2022 | B38: 291125 | C38: =(B38-B37)/B37 -> 0.051277422
A39: 2023 | B39: 303050 | C39: =(B39-B38)/B38 -> 0.040961786
A41: 2015 | B41: 220481

Sheet GRGSS3
A1: TORNAR A L'ÍNDEX | B1: Fet!
A3: LLOCS DE TREBALL. RÈGIM GENERAL SEGURETAT SOCIAL
A5: GRGSS3 | C5: =Índex!A7 -> 3r trimestre 2023
A6: Llocs de treball del RGSS per grandària del compte de cotització
A29: Les dades de 2021 provenen d'Idescat, a partir dels fitxers d'afiliacions i comptes de cotització de la Tresoreria General de la Seguretat Social. Dades provisionals.
B31: variació 2023-2022 | C31: variació 2023-2021 | D31: variació 2023-2020 | E31: variació 2023-2019 | F31: variació 2023-2008
A32: Fins a 50 treballadors | B32: 0.009712892 | C32: 0.019308021 | D32: 0.037019459 | E32: 0.0021829054 | F32: -0.061784351
A33: De 51 a 250 treballadors | B33: 0.0093615428 | C33: 0.096103016 | D33: 0.12264164 | E33: 0.15402729 | F33: 0.19085487
A34: 251 i més treballadors | B34: 0.10646206 | C34: 0.19217347 | D34: 0.22717957 | E34: 0.29666965 | F34: 1.0538548
A35: Total | B35: 0.040909559 | C35: 0.094303512 | D35: 0.11942256 | E35: 0.13008424 | F35: 0.23996497

Sheet TRGSS1
A1: TORNAR A L'ÍNDEX | C1: Fet!
A3: LLOCS DE TREBALL. RÈGIM GENERAL SEGURETAT SOCIAL.
A5: =Índex!A30 -> TRGSS1 | C5: =Índex!A7 -> 3r trimestre 2023
A6: =Índex!B30 -> Activitats econòmiques més rellevants. Baix Llobregat.
D8: Variació
B9: 2023 | C9: %total | D9: 2022-2023 | E9: 2021-2023 | F9: 2020-2023 | G9: 2019-2023 | H9: 2008-2023
A10: Total | B10: 303040 | C10: 1 | D10: 0.040909559 | E10: 0.094303512 | F10: 0.11942256 | G10: 0.13008424 | H10: 0.23996497
A11: 46 Comerç a l'engròs i intermediaris del comerç, excepte vehicles de motor i motocicletes | B11: 29650 | C11: 0.097841869 | D11: 0.025419333 | E11: 0.079162875 | F11: 0.10337898 | G11: 0.087674248 | H11: 0.15338235
A12: 47 Comerç al detall, excepte el comerç de vehicles de motor i motocicletes | B12: 25605 | C12: 0.084493796 | D12: -0.0031146584 | E12: -0.00039039625 | F12: 0.0021526419 | G12: 0.17908455 | H12: 0.33137479
A13: 85 Educació | B13: 19220 | C13: 0.06342397 | D13: 0.5437751 | E13: 0.92296148 | F13: 0.68967033 | G13: 0.69219933 | H13: 1.3167792
A14: 56 Serveis de menjar i begudes | B14: 18080 | C14: 0.059662091 | D14: 0.024943311 | E14: 0.093107618 | F14: 0.21767241 | G14: 0.10540474 | H14: 0.36483732
A15: 52 Emmagatzematge i activitats afins al transport | B15: 13895 | C15: 0.045852033 | D15: -0.028661307 | E15: 0.054648956 | F15: 0.13326809 | G15: 0.17974189 | H15: 0.60043769
A16: 43 Activitats especialitzades de la construcció | B16: 12965 | C16: 0.042783131 | D16: 0.00077190274 | E16: 0.023283346 | F16: 0.045901904 | G16: 0.049287795 | H16: -0.21571593
A17: 81 Serveis a edificis i activitats de jardineria | B17: 12830 | C17: 0.042337645 | D17: 0.15377698 | E17: 0.22716404 | F17: 0.21830785 | G17: 0.25907753 | H17: 0.83102612
A18: 86 Activitats sanitàries | B18: 10135 | C18: 0.03344443 | D18: 0.035769034 | E18: 0.082799145 | F18: 0.12711299 | G18: 0.1385082 | H18: 0.60490895
A19: 84 Administració pública, Defensa i Seguretat Social obligatòria | B19: 10005 | C19: 0.033015444 | D19: -0.37233375 | E19: -0.35803657 | F19: -0.31729785 | G19: -0.31449126 | H19: 0.083378452
A20: 51 Transport aeri | B20: 7345 | C20: 0.024237724 | D20: 0.063721941 | E20: 0.31043711 | F20: 0.12774451 | G20: -0.034188034 | H20: 1.9533575
A23: Les dades de 2022 i 2021 provenen d'Idescat, a partir dels fitxers d'afiliacions i comptes de cotització de la Tresoreria General de la Seguretat Social. Dades provisionals.

Sheet TRGSS2
A1: TORNAR A L'ÍNDEX | B1: Fet!
A3: =TRGSS1!A3 -> LLOCS DE TREBALL. RÈGIM GENERAL SEGURETAT SOCIAL.
A5: =Índex!A31 -> TRGSS2 | C5: =Índex!A7 -> 3r trimestre 2023
A6: =Índex!B31 -> Dinamisme llocs de treball.
A7: ACTIVITATS QUE MÉS HAN AUGMENTAT L'AFILIACIÓ | B7: n | C7: Variació anual
C8: n | D8: %
A9: 85- Educació | B9: 19220 | C9: 6770 | D9: 0.5437751
A10: 81- Serveis a edificis i activitats de jardineria | B10: 12830 | C10: 1710 | D10: 0.15377698
A11: 69- Activitats jurídiques i de comptabilitat | B11: 5510 | C11: 1125 | D11: 0.25655644
A12: 71- Serveis tècnics d'arquitectura i enginyeria; assajos i anàlisis tècnics | B12: 6845 | C12: 825 | D12: 0.13704319
A13: 70- Activitats de les seus centrals; activitats de consultoria de gestió empresarial | B13: 2045 | C13: 755 | D13: 0.58527132
A14: 46- Comerç a l'engròs i intermediaris del comerç, excepte vehicles de motor i motocicletes | B14: 29650 | C14: 735 | D14: 0.025419333
A15: 80- Activitats de seguretat i investigació | B15: 6495 | C15: 695 | D15: 0.11982759
A16: 62- Serveis de tecnologies de la informació | B16: 5720 | C16: 685 | D16: 0.13604767
A17: 87- Activitats de serveis socials amb allotjament | B17: 4655 | C17: 680 | D17: 0.17106918
A18: 82- Activitats administratives d'oficina i altres activitats auxiliars a les empreses | B18: 6615 | C18: 640 | D18: 0.10711297
A19: ACTIVITATS QUE MÉS HAN DISMINUÏT L'AFILIACIÓ | B19: n | C19: Variació anual
C20: n | D20: %
A21: 84- Administració pública, Defensa i Seguretat Social obligatòria | B21: 10005 | C21: -5935 | D21: -0.37233375
A22: 52- Emmagatzematge i activitats afins al transport | B22: 13895 | C22: -410 | D22: -0.028661307
A23: 18- Arts gràfiques i reproducció de suports enregistrats | B23: 3050 | C23: -350 | D23: -0.10294118
A24: 45- Venda i reparació de vehicles de motor i motocicletes | B24: 4620 | C24: -280 | D24: -0.057142857
A25: 27- Fabricació de materials i equips elèctrics | B25: 2425 | C25: -240 | D25: -0.090056285
A26: 20- Indústries químiques | B26: 4475 | C26: -215 | D26: -0.045842217
A27: 68- Activitats immobiliàries | B27: 2260 | C27: -115 | D27: -0.048421053
A28: 47- Comerç al detall, excepte el comerç de vehicles de motor i motocicletes | B28: 25605 | C28: -80 | D28: -0.0031146584
A29: 25- Fabricació de productes metàl·lics, excepte maquinària i equips | B29: 6995 | C29: -70 | D29: -0.0099079972
A30: 77- Activitats de lloguer | B30: 2495 | C30: -60 | D30: -0.023483366
A33: Les dades de 2022 i 2021 provenen d'Idescat, a partir dels fitxers d'afiliacions i comptes de cotització de la Tresoreria General de la Seguretat Social. Dades provisionals.

Sheet DIN_RGSS
G1: 0.003 | M1: variació | Q1: quan ordenis, millor copiïs les cel·les calculades abans
B3: 2022 | C3: 20.22 | D3: 2021 | H3: 2022 | I3: 20.22 | J3: 2021 | N3: 2022 | O3: 20.22 | P3: 2021 | Q3: var absoluta | R3: var relativa
A4: 1- Agricultura, ramaderia, caça i activitats dels serveis que s'hi relacionen | B4: 100 | C4: =B4/$B$92 -> 0.00035244154 | D4: 95 | G4: 10- Indústries de productes alimentaris | H4: 5795 | I4: 0.020423987 | J4: 5785 | M4: 88- Activitats de serveis socials sense allotjament | N4: 2675 | O4: 0.0094278112 | P4: 3115 | Q4: -440 | R4: -0.14125201
A5: 2- Silvicultura i explotació forestal | B5: 60 | C5: =B5/$B$92 -> 0.00021146492 | D5: 70 | G5: 11- Fabricació de begudes | H5: 1495 | I5: 0.005269001 | J5: 1405 | M5: 29- Fabricació de vehicles de motor, remolcs i semiremolcs | N5: 4435 | O5: 0.015630782 | P5: 4745 | Q5: -310 | R5: -0.065331928
A6: 3- Pesca i aqüicultura | B6: 0 | C6: =B6/$B$92 -> 0 | D6: 5 | G6: 17- Indústries del paper | H6: 1015 | I6: 0.0035772816 | J6: 930 | M6: 20- Indústries químiques | N6: 4660 | O6: 0.016423776 | P6: 4920 | Q6: -260 | R6: -0.052845528
A7: 5- Extracció d'antracita, hulla i lignit | B7: 0 | C7: =B7/$B$92 -> 0 | D7: 0 | G7: 18- Arts gràfiques i reproducció de suports enregistrats | H7: 3340 | I7: 0.011771547 | J7: 3180 | M7: 47- Comerç al detall, excepte el comerç de vehicles de motor i motocicletes | N7: 25895 | O7: 0.091264736 | P7: 26110 | Q7: -215 | R7: -0.008234393
A8: 6- Extracció de petroli brut i de gas natural | B8: 0 | C8: =B8/$B$92 -> 0 | D8: 0 | G8: 20- Indústries químiques | H8: 4660 | I8: 0.016423776 | J8: 4920 | M8: 53- Activitats postals i de correus | N8: 1185 | O8: 0.0041764322 | P8: 1360 | Q8: -175 | R8: -0.12867647
A9: 7- Extracció de minerals metàl·lics | B9: 0 | C9: =B9/$B$92 -> 0 | D9: 0 | G9: 21- Fabricació de productes farmacèutics | H9: 3240 | I9: 0.011419106 | J9: 3195 | M9: 68- Activitats immobiliàries | N9: 2395 | O9: 0.0084409749 | P9: 2470 | Q9: -75 | R9: -0.030364372
A10: 8- Extracció de minerals no metàl·lics ni energètics | B10: 140 | C10: =B10/$B$92 -> 0.00049341815 | D10: 130 | G10: 22- Fabricació de productes de cautxú i matèries plàstiques | H10: 2680 | I10: 0.0094454332 | J10: 2635 | M10: 45- Venda i reparació de vehicles de motor i motocicletes | N10: 4860 | O10: 0.017128659 | P10: 4900 | Q10: -40 | R10: -0.0081632653
A11: 9- Activitats de suport a les indústries extractives | B11: 0 | C11: =B11/$B$92 -> 0 | D11: 0 | G11: 23- Fabricació d'altres productes minerals no metàl·lics | H11: 1075 | I11: 0.0037887465 | J11: 995 | M11: 10- Indústries de productes alimentaris | N11: 5795 | O11: 0.020423987 | P11: 5785 | Q11: 10 | R11: 0.0017286085
A12: 10- Indústries de productes alimentaris | B12: 5795 | C12: =B12/$B$92 -> 0.020423987 | D12: 5785 | G12: 25- Fabricació de productes metàl·lics, excepte maquinària i equips | H12: 7145 | I12: 0.025181948 | J12: 7075 | M12: 21- Fabricació de productes farmacèutics | N12: 3240 | O12: 0.011419106 | P12: 3195 | Q12: 45 | R12: 0.014084507
A13: 11- Fabricació de begudes | B13: 1495 | C13: =B13/$B$92 -> 0.005269001 | D13: 1405 | G13: 26- Fabricació de productes informàtics, electrònics i òptics | H13: 950 | I13: 0.0033481946 | J13: 865 | M13: 22- Fabricació de productes de cautxú i matèries plàstiques | N13: 2680 | O13: 0.0094454332 | P13: 2635 | Q13: 45 | R13: 0.017077799
A14: 12- Indústries del tabac | B14: 0 | C14: =B14/$B$92 -> 0 | D14: 0 | G14: 27- Fabricació de materials i equips elèctrics | H14: 2630 | I14: 0.0092692125 | J14: 2260 | M14: 42- Construcció d'obres d'enginyeria civil | N14: 1425 | O14: 0.0050222919 | P14: 1380 | Q14: 45 | R14: 0.032608696
A15: 13- Indústries tèxtils | B15: 800 | C15: =B15/$B$92 -> 0.0028195323 | D15: 865 | G15: 28- Fabricació de maquinària i equips ncaa | H15: 3480 | I15: 0.012264966 | J15: 3360 | M15: 64- Mediació financera, excepte assegurances i fons de pensions | N15: 1550 | O15: 0.0054628439 | P15: 1495 | Q15: 55 | R15: 0.036789298
... A55: 59- Activitats de cinematografia, de vídeo i de programes de televisió; activitats d'enregistrament de so i edició musical | B55: 870 | C55: =B55/$B$92 -> 0.0030662414 | D55: 795 | G55: Total | H55: 283735 | I55: 1 | J55: 271720 | M55: Total | N55: 283735 | O55: 1 | P55: 271720 | Q55: 12015 | R55: 0.044218313
A56: 60- Activitats d'emissió i programació de ràdio i televisió | B56: 2340 | C56: =B56/$B$92 -> 0.008247132 | D56: 2250
A57: 61- Telecomunicacions | B57: 305 | C57: =B57/$B$92 -> 0.0010749467 | D57: 290
A58: 62- Serveis de tecnologies de la informació | B58: 5010 | C58: =B58/$B$92 -> 0.017657321 | D58: 4405
A59: 63- Serveis d'informació | B59: 425 | C59: =B59/$B$92 -> 0.0014978765 | D59: 690
A60: 64- Mediació financera, excepte assegurances i fons de pensions | B60: 1550 | C60: =B60/$B$92 -> 0.0054628439 | D60: 1495
A61: 65- Assegurances, reassegurances i fons de pensions, excepte la Seguretat Social obligatòria | B61: 475 | C61: =B61/$B$92 -> 0.0016740973 | D61: 505
A62: 66- Activitats auxiliars de la mediació financera i d'assegurances | B62: 525 | C62: =B62/$B$92 -> 0.0018503181 | D62: 540
A63: 68- Activitats immobiliàries | B63: 2395 | C63: =B63/$B$92 -> 0.0084409749 | D63: 2470
A64: 69- Activitats jurídiques i de comptabilitat | B64: 4410 | C64: =B64/$B$92 -> 0.015542672 | D64: 4245
A65: 70- Activitats de les seus centrals; activitats de consultoria de gestió empresarial | B65: 1265 | C65: =B65/$B$92 -> 0.0044583855 | D65: 1140
A66: 71- Serveis tècnics d'arquitectura i enginyeria; assajos i anàlisis tècnics | B66: 5875 | C66: =B66/$B$92 -> 0.02070594 | D66: 5590
A67: 72- Recerca i desenvolupament | B67: 1250 | C67: =B67/$B$92 -> 0.0044055192 | D67: 1110
... A92: Total | B92: 283735 | C92: =B92/$B$92 -> 1 | D92: 271720

Sheet TRGSS3
A1: TORNAR A L'ÍNDEX | B1: Fet!
A3: =TRGSS1!A3 -> LLOCS DE TREBALL. RÈGIM GENERAL SEGURETAT SOCIAL.
A5: =Índex!A32 -> TRGSS3 | C5: =Índex!A7 -> 3r trimestre 2023
A6: =Índex!B21 -> Dades municipals.
B8: Llocs de treball (RGSS) | C8: % Baix Llobregat | D8: variació relativa (en %)
B9: Empreses | D9: 2022 | E9: 2021 | F9: 2020 | G9: 2019 | H9: 2008
A10: Abrera | B10: 6235 | C10: 0.020437731 | D10: -0.039291217 | E10: -0.037808642 | F10: -0.079704797 | G10: -0.042830826 | H10: 0.0025727609
A11: Begues | B11: 630 | C11: 0.0020650795 | D11: 0.041322314 | E11: 0.05 | F11: 0.021069692 | G11: -0.0063091483 | H11: -0.030769231
A12: Castelldefels | B12: 12975 | C12: 0.042530804 | D12: 0.048061389 | E12: 0.10425532 | F12: 0.13646317 | G12: 0.10689302 | H12: 0.28059613
A13: Castellví de Rosanes | B13: 1140 | C13: 0.0037368105 | D13: 0.10144928 | E13: 0.23243243 | F13: 0.26106195 | G13: 0.16445352 | H13: 0.37349398
A14: Cervelló | B14: 2280 | C14: 0.0074736211 | D14: 0.022421525 | E14: 0.078014184 | F14: 0.072941176 | G14: 0.032608696 | H14: 0.28886376
A15: Collbató | B15: 525 | C15: 0.0017208996 | D15: 0.11702128 | E15: 0.17977528 | F15: 0.20967742 | G15: 0.16926503 | H15: 0.015473888
A16: Corbera de Llobregat | B16: 1345 | C16: 0.0044087808 | D16: 0.046692607 | E16: 0.01509434 | F16: 0.028287462 | G16: -0.042022792 | H16: 0.045066045
A17: Cornellà de Llobregat | B17: 42940 | C17: 0.1407532 | D17: 0.034200385 | E17: 0.073902714 | F17: 0.157506 | G17: 0.17692202 | H17: 0.42705218
A18: Esparreguera | B18: 5445 | C18: 0.017848187 | D18: 0.13912134 | E18: 0.18886463 | F18: 0.18601612 | G18: 0.20145631 | H18: 0.06932443
A19: Esplugues de Llobregat | B19: 19365 | C19: 0.063476611 | D19: 0.0041483018 | E19: 0.0067585131 | F19: 0.10600263 | G19: 0.15021383 | H19: 0.14912177
A20: Gavà | B20: 13415 | C20: 0.043973082 | D20: 0.041941748 | E20: 0.047228728 | F20: 0.077077479 | G20: 0.055800409 | H20: 0.092515677
A21: Martorell | B21: 10655 | C21: 0.034926067 | D21: 0.082825203 | E21: 0.11687631 | F21: 0.1481681 | G21: 0.099473739 | H21: -0.013973718
... A40: Baix Llobregat | B40: 303040 | C40: 1 | D40: 0.040682661 | E40: 0.09366329 | F40: 0.11858571 | G40: 0.12916395 | H40: 0.23811089
A42: Les dades de 2021 provenen d'Idescat, a partir dels fitxers d'afiliacions i comptes de cotització de la Tresoreria General de la Seguretat Social. Dades provisionals.
A46: Zona | B46: 2022 2T | C46: 2021 2T | D46: 2020 2T | E46: 20219 2T | F46: 2008 2T | G46: 2008-2022 | H46: 2019-2022 | I46: 2020-2022 | J46: 2021-2022 | K46: Zona Centre: Cornellà de Llobregat, Esplugues de Llobregat, Sant Joan Despí, Sant Feliu de Llobregat i Sant Just Desvern.
A47: Centre | B47: 100805 | C47: 97150 | D47: 90475 | E47: 91197 | F47: 81894 | G47: 0.23092046 | H47: 0.10535434 | I47: 0.11417519 | J47: 0.037622234 | K47: Zona Delta: Begues, Castelldefels, El Prat de Llobregat, Gavà, Sant Boi de Llobregat, Sant Climent de Llobregat i Viladecans.
A48: Delta | B48: 116130 | C48: 109995 | D48: 103623 | E48: 106196 | F48: 94310 | G48: 0.23136465 | H48: 0.093544013 | I48: 0.12069714 | J48: 0.055775263 | K48: Zona Nord: Abrera, Castellví de Rosanes, Collbató, Esparreguera, Martorell, Olesa de Montserrat, Sant Andreu de la Barca i Sant Esteve Sesrovires.
A49: Nord | B49: 40990 | C49: 39210 | D49: 38073 | E49: 39386 | F49: 42711 | G49: -0.040294069 | H49: 0.040725131 | I49: 0.076615975 | J49: 0.045396583 | K49: Zona Vall Baixa: Cervelló, Corbera de Llobregat, El Papiol, La Palma de Cervelló, Molins de Rei, Pallejà, Sant Vicenç dels Horts, Santa Coloma de Cervelló, Torrelles de Llobregat i Vallirana.
A50: Vall Baixa | B50: 25810 | C50: 25365 | D50: 24319 | E50: 25085 | F50: 28597 | G50: -0.097457775 | H50: 0.028901734 | I50: 0.061310087 | J50: 0.01754386
A51: Total | B51: 283735 | C51: 271720 | D51: 256490 | E51: 261864 | F51: 247512 | G51: 0.14634846 | H51: 0.083520453 | I51: 0.10622246 | J51: 0.044218313

Sheet TRGSS4
A1: TORNAR A L'ÍNDEX | B1: Fet!
A3: =TRGSS1!A3 -> LLOCS DE TREBALL. RÈGIM GENERAL SEGURETAT SOCIAL.
A5: =Índex!A33 -> TRGSS4 | C5: =Índex!A7 -> 3r trimestre 2023
A6: =Índex!B33 -> Dades municipals. Llocs de treball assalariat per grandària del compte de cotització.
B8: Fins a 50 treballadors | C8: De 51 a 250 treballadors | D8: 251 i més treballadors | E8: % Baix Llobregat | H8: variació anual relativa (en %)
C9: De 51 a 250 treballadors | E9: Fins a 50 treballadors | F9: De 51 a 250 treballadors | G9: 251 i més treballadors | H9: Fins a 50 treballadors | I9: De 51 a 250 treballadors | J9: 251 i més treballadors
A10: Abrera | B10: 3120 | C10: 2420 | D10: 695 | E10: 0.026442919 | F10: 0.029926421 | G10: 0.0066705058 | H10: 0.045226131 | I10: -0.15087719 | J10: 0.061068702
A11: Begues | B11: 635 | C11: 0 | D11: 0 | E11: 0.005381812 | F11: 0 | G11: 0 | H11: 0.049586777 | I11: - | J11: -
A12: Castelldefels | B12: 8815 | C12: 2625 | D12: 1530 | E12: 0.074709721 | F12: 0.03246151 | G12: 0.014684711 | H12: 0.032201405 | I12: -0.08056042 | J12: 0.54545455
A13: Castellví de Rosanes | B13: 600 | C13: 60 | D13: 480 | E13: 0.0050851767 | F13: 0.00074197737 | G13: 0.004606968 | H13: 0.090909091 | I13: -0.5 | J13: 0.31506849
A14: Cervelló | B14: 1375 | C14: 910 | D14: 0 | E14: 0.01165353 | F14: 0.011253323 | G14: 0 | H14: 0.003649635 | I14: 0.058139535 | J14: -
A15: Collbató | B15: 525 | C15: 0 | D15: 0 | E15: 0.0044495296 | F15: 0 | G15: 0 | H15: 0.11702128 | I15: - | J15: -
A16: Corbera de Llobregat | B16: 1015 | C16: 330 | D16: 0 | E16: 0.0086024239 | F16: 0.0040808755 | G16: 0 | H16: 0.020100503 | I16: 0.13793103 | J16: -
A17: Cornellà de Llobregat | B17: 14485 | C17: 11290 | D17: 17160 | E17: 0.12276464 | F17: 0.13961541 | G17: 0.16469911 | H17: 0.025849858 | I17: 0.18405873 | J17: -0.039462636
A18: Esparreguera | B18: 3130 | C18: 1380 | D18: 930 | E18: 0.026527672 | F18: 0.01706548 | G18: 0.0089260006 | H18: 0.048576214 | I18: -0.23119777 | J18: -
A19: Esplugues de Llobregat | B19: 5980 | C19: 5965 | D19: 7420 | E19: 0.050682261 | F19: 0.073764917 | G19: 0.071216048 | H19: 0.0075821398 | I19: -0.0091362126 | J19: 0.012969283
A20: Gavà | B20: 6485 | C20: 5200 | D20: 1730 | E20: 0.054962285 | F20: 0.064304705 | G20: 0.016604281 | H20: -0.034251675 | I20: -0.017013233 | J20: 0.98850575
A21: Martorell | B21: 4230 | C21: 2445 | D21: 3980 | E21: 0.035850496 | F21: 0.030235578 | G21: 0.038199443 | H21: 0 | I21: 0.065359477 | J21: 0.20241692
A22: Molins de Rei | B22: 5025 | C22: 1965 | D22: 0 | E22: 0.042588355 | F22: 0.024299759 | G22: 0 | H22: 0.020304569 | I22: -0.02238806 | J22: -
A23: Olesa de Montserrat | B23: 2330 | C23: 1570 | D23: 0 | E23: 0.019747436 | F23: 0.019415075 | G23: 0 | H23: 0.042505593 | I23: 0.097902098 | J23: -
A24: Pallejà | B24: 1615 | C24: 1105 | D24: 0 | E24: 0.013687601 | F24: 0.01366475 | G24: 0 | H24: -0.077142857 | I24: 0.37267081 | J24: -
A25: La Palma de Cervelló | B25: 510 | C25: 0 | D25: 0 | E25: 0.0043224002 | F25: 0 | G25: 0 | H25: 0 | I25: - | J25: -
A26: El Papiol | B26: 1135 | C26: 505 | D26: 340 | E26: 0.0096194593 | F26: 0.0062449762 | G26: 0.003263269 | H26: -0.017316017 | I26: -0.4127907 | J26: -
A27: El Prat de Llobregat | B27: 10520 | C27: 9830 | D27: 31120 | E27: 0.089160098 | F27: 0.12156063 | G27: 0.29868509 | H27: 0.00047551117 | I27: -0.057074341 | J27: -0.041133878
A28: Sant Andreu de la Barca | B28: 4685 | C28: 2295 | D28: 4220 | E28: 0.039706755 | F28: 0.028380634 | G28: 0.040502927 | H28: 0.049272116 | I28: 0 | J28: -0.015169195
A29: Sant Boi de Llobregat | B29: 10610 | C29: 8605 | D29: 5490 | E29: 0.089922875 | F29: 0.10641192 | G29: 0.052692197 | H29: 0.019702066 | I29: 0.10960671 | J29: 0.031954887
A30: Sant Climent de Llobregat | B30: 485 | C30: 65 | D30: 0 | E30: 0.0041105178 | F30: 0.00080380882 | G30: 0 | H30: 0.077777778 | I30: -0.13333333 | J30: -
A31: Sant Esteve Sesrovires | B31: 1985 | C31: 1955 | D31: 1390 | E31: 0.01682346 | F31: 0.024176096 | G31: 0.013341012 | H31: 0.023195876 | I31: -0.050970874 | J31: 0.081712062
A32: Sant Feliu de Llobregat | B32: 5440 | C32: 3770 | D32: 6870 | E32: 0.046105602 | F32: 0.046620911 | G32: 0.06593723 | H32: -0.0091074681 | I32: 0.027247956 | J32: 0.1865285
A33: Sant Joan Despí | B33: 4825 | C33: 3965 | D33: 6120 | E33: 0.040893296 | F33: 0.049032338 | G33: 0.058738842 | H33: -0.070327553 | I33: 0.11690141 | J33: 0.31754575
A34: Sant Just Desvern | B34: 5135 | C34: 4745 | D34: 4650 | E34: 0.043520637 | F34: 0.058678044 | G34: 0.044630003 | H34: 0.018849206 | I34: -0.023662551 | J34: 0.13001215
A35: Sant Vicenç dels Horts | B35: 2985 | C35: 3025 | D35: 585 | E35: 0.025298754 | F35: 0.037408026 | G35: 0.0056147423 | H35: 0.011864407 | I35: -0.032 | J35: 0.88709677
A36: Santa Coloma de Cervelló | B36: 845 | C36: 415 | D36: 615 | E36: 0.0071616239 | F36: 0.0051320101 | G36: 0.0059026778 | H36: -0.066298343 | I36: -0.43537415 | J36: 1.0847458
A37: Torrelles de Llobregat | B37: 570 | C37: 60 | D37: 0 | E37: 0.0048309179 | F37: 0.00074197737 | G37: 0 | H37: 0.15151515 | I37: 0 | J37: -
A38: Vallirana | B38: 1585 | C38: 145 | D38: 0 | E38: 0.013433342 | F38: 0.001793112 | G38: 0 | H38: -0.01552795 | I38: -0.033333333 | J38: -
A39: Viladecans | B39: 7325 | C39: 4225 | D39: 8860 | E39: 0.062081532 | F39: 0.052247573 | G39: 0.085036952 | H39: -0.00068212824 | I39: -0.024249423 | J39: 1.0652681
A40: BAIX LLOBREGAT | B40: 117990 | C40: 80865 | D40: 104190 | E40: 1 | F40: 1 | G40: 1 | H40: 0.009712892 | I40: 0.0093615428 | J40: 0.10646206
A42: Les dades de 2021 provenen d'Idescat, a partir dels fitxers d'afiliacions i comptes de cotització de la Tresoreria General de la Seguretat Social. Dades provisionals.

Sheet TRGS5
A1: TORNAR A L'ÍNDEX
A3: =TRGSS1!A3 -> LLOCS DE TREBALL. RÈGIM GENERAL SEGURETAT SOCIAL.
A5: =Índex!A34 -> TRGSS5 | C5: =Índex!A7 -> 3r trimestre 2023
A6: =Índex!B34 -> Dades municipals. Relació entre població ocupada i llocs de treball.
B9: P. Règim General resident al municipi | C9: P. Règim General treballant al municipi | D9: Diferència residents-treballant (abs) | E9: Diferència residents-treballant (%)
A11: Abrera | B11: 5910 | C11: 6235 | D11: -840 | E11: =+D11/B11 -> -0.14213198
A12: Begues | B12: 3535 | C12: 630 | D12: 2235 | E12: =+D12/B12 -> 0.63224894
A13: Castelldefels | B13: 30280 | C13: 12975 | D13: 12520 | E13: =+D13/B13 -> 0.41347424
A14: Castellví de Rosanes | B14: 960 | C14: 1140 | D14: -325 | E14: =+D14/B14 -> -0.33854167
A15: Cervelló | B15: 4460 | C15: 2280 | D15: 1425 | E15: =+D15/B15 -> 0.31950673
A16: Collbató | B16: 2320 | C16: 525 | D16: 1405 | E16: =+D16/B16 -> 0.60560345
A17: Corbera de Llobregat | B17: 7330 | C17: 1345 | D17: 4705 | E17: =+D17/B17 -> 0.64188267
A18: Cornellà de Llobregat | B18: 39130 | C18: 42940 | D18: -7330 | E18: =+D18/B18 -> -0.1873243
A19: Esparreguera | B19: 10115 | C19: 5445 | D19: 3660 | E19: =+D19/B19 -> 0.36183885
A20: Esplugues de Llobregat | B20: 19485 | C20: 19365 | D20: -2405 | E20: =+D20/B20 -> -0.12342828
A21: Gavà | B21: 20680 | C21: 13415 | D21: 4600 | E21: =+D21/B21 -> 0.22243714
A22: Martorell | B22: 12020 | C22: 10655 | D22: 535 | E22: =+D22/B22 -> 0.044509151
... A41: Baix Llobregat | B41: 375230 | C41: 303040 | D41: 28342 | E41: =+D41/B41 -> 0.07553234
A42: Font: OCBL a partir de dades d'IDESCAT, afiliats segons residència padronal i afiliacions segons compte de cotització. Les dades corresponen al tercer trimestre.

Sheet TRGSS6
A1: TORNAR A L'ÍNDEX | B1: Fet!
A3: =TRGSS1!A3 -> LLOCS DE TREBALL. RÈGIM GENERAL SEGURETAT SOCIAL.
A5: =Índex!A35 -> TRGSS6 | C5: =Índex!A7 -> 3r trimestre 2023
A6: =Índex!B35 -> Dades municipals. Llocs de treball assalariat ocupats per dones.
B8: Llocs de treball ocupats per dones | C8: % total llocs de treball
C9: De 51 a 250 treballadors
A10: Abrera | B10: 2239 | C10: 0.31464306
A11: Begues | B11: 758 | C11: 0.44249854
A12: Castelldefels | B12: 8855 | C12: 0.46473181
A13: Castellví de Rosanes | B13: 505 | C13: 0.33621838
A14: Cervelló | B14: 1523 | C14: 0.44597365
A15: Collbató | B15: 530 | C15: 0.44991511
A16: Corbera de Llobregat | B16: 1450 | C16: 0.47108512
A17: Cornellà de Llobregat | B17: 20266 | C17: 0.41864981
A18: Esparreguera | B18: 3154 | C18: 0.44909583
A19: Esplugues de Llobregat | B19: 12090 | C19: 0.52251707
A20: Gavà | B20: 7321 | C20: 0.43194289
A21: Martorell | B21: 4877 | C21: 0.39959033
... A40: Baix Llobregat | B40: 164657 | C40: 0.45039937
A42: Les dades de 2021 provenen d'Idescat, a partir dels fitxers d'afiliacions i comptes de cotització de la Tresoreria General de la Seguretat Social. Dades provisionals.
D48: 287516
D49: =D48-B40 -> 122859

Sheet GRETA1
A1: TORNAR A L'ÍNDEX | B1: Fet!
A3: LLOCS DE TREBALL. RÈGIM ESPECIAL TREBALLADORS AUTÒNOMS
A5: GRETA1 | C5: =Índex!A7 -> 3r trimestre 2023
A6: Llocs de treball del RETA segons àmbit territorial.
A29: Les dades de 2021 provenen d'Idescat, a partir dels fitxers d'afiliacions i comptes de cotització de la Tresoreria General de la Seguretat Social. Dades provisionals.
B31: RETA | C31: variació 2023-2022 | D31: variació 2023-2021 | E31: variació 2023-2020 | F31: variació 2023-2019 | G31: variació 2023-2008
A32: Baix Llobregat | B32: 48780 | C32: 0.0041169205 | D32: -0.0015351551 | E32: -0.023442974 | F32: -0.026561035 | G32: -0.10664249
A33: Àrea Metropolitana de Barcelona | B33: 236690 | C33: 0.010610363 | D33: 0.012122897 | E33: 0.067296159 | F33: 0.064904798 | G33: 0.043671126
A34: Àmbit Territorial Metropolità | B34: 347375 | C34: 0.0096936403 | D34: 0.00964962 | E34: 0.043290355 | F34: 0.040253584 | G34: -0.050226251
