Workbook

Sheet Índex
A6: INFORME TRIMESTRAL ESTRUCTURA PRODUCTIVA
A7: 3r trimestre 2025
A9: CONTINGUT
A10: Fer click als vincles per anar als documents, taules i gràfics corresponents
A12: GG | B12: Variació interanual del conjunt de components de l'estructura productiva. Evolució recent de l'estructura productiva del Baix Llobregat.
A13: TG | B13: =TG!A7 -> Posicionament comarcal en el context de l'àmbit territorial metropolità i Catalunya. Estructura productiva.
A15: EMPRESES
A17: GE1 | B17: Comptes de cotització segons àmbit territorial.
A18: GE2 | B18: Variació interanual comptes de cotització. Baix Llobregat.
A19: TE1 | B19: Activitats econòmiques més rellevants. Baix Llobregat.
A20: TE2 | B20: Dinamisme empresarial.
A21: TE3 | B21: Dades municipals.
A23: LLOCS DE TREBALL
A25: Règim General Seguretat Social (RGSS)
A27: GRGSS1 | B27: Llocs de treball assalariat segons àmbit territorial.
A28: GRGSS2 | B28: Variació interanual llocs de treball assalariat. Baix Llobregat.
A29: GRGSS3 | B29: Variació interanual llocs de treball assalariat per grandària del compte de cotització. Baix Llobregat.
A30: TRGSS1 | B30: Activitats econòmiques més rellevants. Baix Llobregat.
A31: TRGSS2 | B31: Dinamisme llocs de treball.
A32: TRGSS3 | B32: Dades municipals.
A33: TRGSS4 | B33: Dades municipals. Llocs de treball assalariat per grandària del compte de cotització.
A34: TRGSS5 | B34: Dades municipals. Relació entre població ocupada i llocs de treball.
A35: TRGSS6 | B35: Dades municipals. Llocs de treball assalariat ocupats per dones.
A37: Règim Especial Treballadors Autònoms (RETA)
A39: GRETA1 | B39: Llocs de treball autònom segons àmbit territorial.
A40: GRETA2 | B40: Variació interanual llocs de treball autònom. Baix Llobregat.
A41: TRETA1 | B41: Activitats econòmiques més rellevants. Baix Llobregat.
A42: TRETA2 | B42: Dinamisme llocs de treball.
A43: TRETA3 | B43: Dades municipals.
A45: ANÀLISI SEGONS 7 SECTORS PRODUCTIUS
A47: T7S1 | B47: Llocs de treball segons àmbit territorial
A48: G7S1 | B48: Variació intertrimestral llocs de treball. Baix Llobregat.
A49: T7S2 | B49: Llocs de treball segons municipi.
A50: G7S2 | B50: Llocs de treball segons sexe.
A51: T7S3 | B51: Diferencial segons sexe de les activitats econòmiques.
A53: ÚS DE TECNOLOGIA i CONEIXEMENT
A55: TTC1 | B55: Llocs de treball segons ús de tecnologia i coneixement. Baix Llobregat i àmbits territorials.
A56: TTC2 | B56: Llocs de treball segons ús de tecnologia i coneixement. Dades municipals.

Sheet GG
A1: TORNAR A L'ÍNDEX
A3: EMPRESES, LLOCS DE TREBALL, RGSS I RETA
A5: GG | C5: =Índex!A7 -> 3r trimestre 2025
A7: Variació interanual de l'estructura productiva. Baix Llobregat i àmbits territorials de referència
A30: Les dades de 2021 provenen d'Idescat, a partir dels fitxers d'afiliacions i comptes de cotització de la Tresoreria General de la Seguretat Social. Dades provisionals.
B32: Empreses | C32: Total llocs de treball | D32: RGSS | E32: RETA
A33: Baix Llobregat | B33: ='GE1'!C32 -> 0.0031717046 | C33: 0.025342446 | D33: =GRGSS1!C32 -> 0.027968493 | E33: =GRETA1!C32 -> 0.008889343
A34: Àrea Metropolitana de Barcelona | B34: ='GE1'!C33 -> 0.005405795 | C34: 0.022440782 | D34: =GRGSS1!C33 -> 0.02397362 | E34: =GRETA1!C33 -> 0.011900296
A35: Àmbit Territorial Metropolità | B35: ='GE1'!C34 -> 0.004331197 | C35: 0.018907018 | D35: =GRGSS1!C34 -> 0.020162854 | E35: =GRETA1!C34 -> 0.011211496
A36: Catalunya | B36: ='GE1'!C35 -> 0.0028455103 | C36: 0.018648906 | D36: =GRGSS1!C35 -> 0.020100785 | E36: =GRETA1!C35 -> 0.010647148
A62: Les dades de 2021 provenen d'Idescat, a partir dels fitxers d'afiliacions i comptes de cotització de la Tresoreria General de la Seguretat Social. Dades provisionals.
B64: Empreses | C64: Total llocs de treball | D64: RGSS | E64: RETA
A65: Variació anual | B65: ='GE1'!C32 -> 0.0031717046 | C65: 0.025342446 | D65: =GRGSS1!C32 -> 0.027968493 | E65: =GRETA1!C32 -> 0.008889343
A66: Variació 2019 | B66: ='GE1'!D32 -> -0.053030303 | C66: 0.14538691 | D66: =GRGSS1!D32 -> 0.17531894 | E66: =GRETA1!D32 -> -0.014787172

Sheet TG
A1: TORNAR A L'ÍNDEX | B1: Fet!
D2: =B20+B30 -> 364540
A3: EMPRESES, LLOCS DE TREBALL, RGSS I RETA | D3: =B25+B35 -> 1932045
A5: TG | B5: =Índex!A7 -> 3r trimestre 2025
A7: Posicionament comarcal en el context de l'àmbit territorial metropolità i Catalunya. Estructura productiva. | H7: Ocultar
B8: n | C8: % / Total ATM | D8: % / Total Catalunya | E8: Variació trimestral | H8: Trimestre anterior
A9: CENTRES DE COTITZACIÓ | E9: n | F9: % | H9: 2n 2025
A10: BAIX LLOBREGAT | B10: 20875 | C10: =B10/$B$16 -> 0.13496825 | D10: =B10/$B$17 -> 0.084495697 | E10: =B10-H10 -> -102 | F10: =E10/H10 -> -0.0048624684 | H10: 20977
A11: Barcelonès | B11: 84751 | C11: =B11/$B$16 -> 0.54796141 | D11: =B11/$B$17 -> 0.34304646 | E11: =B11-H11 -> -384 | F11: =E11/H11 -> -0.0045104833 | H11: 85135
A12: Maresme | B12: 12074 | C12: =B12/$B$16 -> 0.078064992 | D12: =B12/$B$17 -> 0.048871907 | E12: =B12-H12 -> -151 | F12: =E12/H12 -> -0.012351738 | H12: 12225
A13: Vallès Occidental | B13: 25280 | C13: =B13/$B$16 -> 0.16344898 | D13: =B13/$B$17 -> 0.10232581 | E13: =B13-H13 -> -148 | F13: =E13/H13 -> -0.0058203555 | H13: 25428
A14: Vallès Oriental | B14: 11567 | C14: =B14/$B$16 -> 0.07478696 | D14: =B14/$B$17 -> 0.046819724 | E14: =B14-H14 -> -154 | F14: =E14/H14 -> -0.013138811 | H14: 11721
A15: Àrea Metropolitana de Barcelona (AMB) | B15: 111592 | C15: - | D15: =B15/B16 -> 0.72150311 | E15: =B15-H15 -> -568 | F15: =E15/H15 -> -0.005064194 | H15: 112160
A16: Àmbit Territorial Metropolità (ATM) | B16: 154666 | C16: - | D16: =B16/B17 -> 0.62604127 | E16: =B16-H16 -> -939 | F16: =E16/H16 -> -0.0060345105 | H16: 155605
A17: Catalunya | B17: 247054 | C17: - | D17: - | E17: =B17-H17 -> -2504 | F17: =E17/H17 -> -0.01003374 | H17: 249558
B18: n | C18: % / Total ATM | D18: % / Total Catalunya | E18: Variació trimestral | H18: n
A19: POBLACIÓ ASSALARIADA | E19: n | F19: %
A20: BAIX LLOBREGAT | B20: 315170 | C20: =B20/$B$26 -> 0.14346222 | D20: =B20/$B$27 -> 0.099230356 | E20: =B20-H20 -> 8595 | F20: =E20/H20 -> 0.028035554 | H20: 306575
A21: Barcelonès | B21: 1266985 | C21: =B21/$B$26 -> 0.57671885 | D21: =B21/$B$27 -> 0.39890654 | E21: =B21-H21 -> 1500 | F21: =E21/H21 -> 0.0011853163 | H21: 1265485
A22: Maresme | B22: 111495 | C22: =B22/$B$26 -> 0.050751405 | D22: =B22/$B$27 -> 0.035103876 | E22: =B22-H22 -> -885 | F22: =E22/H22 -> -0.0078750667 | H22: 112380
A23: Vallès Occidental | B23: 372090 | C23: =B23/$B$26 -> 0.16937163 | D23: =B23/$B$27 -> 0.11715145 | E23: =B23-H23 -> 2160 | F23: =E23/H23 -> 0.0058389425 | H23: 369930
A24: Vallès Oriental | B24: 130375 | C24: =B24/$B$26 -> 0.059345391 | D24: =B24/$B$27 -> 0.041048189 | E24: =B24-H24 -> 165 | F24: =E24/H24 -> 0.0012671838 | H24: 130210
A25: Àrea Metropolitana de Barcelona (AMB) | B25: 1689280 | C25: - | D25: =B25/$B$27 -> 0.53186489 | E25: =B25-H25 -> 11435 | F25: =E25/H25 -> 0.0068152899 | H25: 1677845
A26: Àmbit Territorial Metropolità (ATM) | B26: 2196885 | C26: - | D26: =B26/$B$27 -> 0.69168284 | E26: =B26-H26 -> 11520 | F26: =E26/H26 -> 0.0052714306 | H26: 2185365
A27: Catalunya | B27: 3176145 | C27: - | D27: - | E27: =B27-H27 -> -17470 | F27: =E27/H27 -> -0.0054702899 | H27: 3193615
B28: n | C28: % / Total ATM | D28: % / Total Catalunya | E28: Variació trimestral | H28: n
A29: POBLACIÓ DEL RÈGIM AUTÒNOM | E29: n | F29: %
A30: BAIX LLOBREGAT | B30: 49370 | C30: =B30/$B$36 -> 0.13892758 | D30: =B30/$B$37 -> 0.086469161 | E30: =B30-H30 -> 100 | F30: =E30/H30 -> 0.0020296326 | H30: 49270
A31: Barcelonès | B31: 179180 | C31: =B31/$B$36 -> 0.50421398 | D31: =B31/$B$37 -> 0.31382508 | E31: =B31-H31 -> 410 | F31: =E31/H31 -> 0.0022934497 | H31: 178770
A32: Maresme | B32: 34500 | C32: =B32/$B$36 -> 0.097083281 | D32: =B32/$B$37 -> 0.060425077 | E32: =B32-H32 -> -95 | F32: =E32/H32 -> -0.0027460616 | H32: 34595
A33: Vallès Occidental | B33: 62060 | C33: =B33/$B$36 -> 0.17463734 | D33: =B33/$B$37 -> 0.10869508 | E33: =B33-H33 -> 15 | F33: =E33/H33 -> 0.00024176001 | H33: 62045
A34: Vallès Oriental | B34: 29875 | C34: =B34/$B$36 -> 0.084068493 | D34: =B34/$B$37 -> 0.052324614 | E34: =B34-H34 -> -240 | F34: =E34/H34 -> -0.0079694504 | H34: 30115
A35: Àrea Metropolitana de Barcelona (AMB) | B35: 242765 | C35: - | D35: =B35/$B$37 -> 0.42519113 | E35: =B35-H35 -> 505 | F35: =E35/H35 -> 0.0020845373 | H35: 242260
A36: Àmbit Territorial Metropolità (ATM) | B36: 355365 | C36: - | D36: =B36/$B$37 -> 0.62240457 | E36: =B36-H36 -> 190 | F36: =E36/H36 -> 0.00053494756 | H36: 355175
A37: Catalunya | B37: 570955 | C37: - | D37: - | E37: =B37-H37 -> -355 | F37: =E37/H37 -> -0.00062137894 | H37: 571310
A38: Font: OCBL, a partir de les dades d'Estadística de l'ocupació assalariada i autònoma segons afiliacions a la Seguretat Social d'IDESCAT.
B41: =B30+B20 -> 364540 | H41: =H30+H20 -> 355845

Sheet GE1
A1: TORNAR A L'ÍNDEX
A3: EMPRESES
A5: GE1 | C5: =Índex!A7 -> 3r trimestre 2025
A6: Comptes de cotització segons àmbit territorial.
A29: Les dades de 2021 provenen d'Idescat, a partir dels fitxers d'afiliacions i comptes de cotització de la Tresoreria General de la Seguretat Social. Dades provisionals.
B31: Empreses | C31: variació 2025-2024 | D31: variació 2025-2019 | E31: variació 2025-2008
A32: Baix Llobregat | B32: 20875 | C32: 0.0031717046 | D32: -0.053030303 | E32: -0.10622538
A33: Àrea Metropolitana de Barcelona | B33: 111592 | C33: 0.005405795 | D33: -0.046271131 | E33: -0.079714328
A34: Àmbit Territorial Metropolità | B34: 154666 | C34: 0.004331197 | D34: -0.047998326 | E34: -0.13978865
A35: Catalunya | B35: 247054 | C35: 0.0028455103 | D35: -0.043216259 | E35: -0.10908284

Sheet GE2
A1: TORNAR A L'ÍNDEX | B1: Fet!
A3: EMPRESES
A5: GE2 | C5: =Índex!A7 -> 3r trimestre 2025
A6: =Índex!B18 -> Variació interanual comptes de cotització. Baix Llobregat.
J12: ='GE1'!C32 -> 0.0031717046
A29: Les dades de 2021 provenen d'Idescat, a partir dels fitxers d'afiliacions i comptes de cotització de la Tresoreria General de la Seguretat Social. Dades provisionals.
B31: Empreses | C31: Variació interanual
A32: 2016 | B32: 21475
A33: 2017 | B33: 21866 | C33: =(B33-B32)/B32 -> 0.018207218
A34: 2018 | B34: 21945 | C34: =(B34-B33)/B33 -> 0.003612915
A35: 2019 | B35: 22044 | C35: =(B35-B34)/B34 -> 0.0045112782
A36: 2020 | B36: 20530 | C36: =(B36-B35)/B35 -> -0.06868082
A37: 2021 | B37: 20890 | C37: =(B37-B36)/B36 -> 0.017535314
A38: 2022 | B38: 20816 | C38: =(B38-B37)/B37 -> -0.0035423648
A39: 2023 | B39: 20846 | C39: =(B39-B38)/B38 -> 0.0014411991
A40: 2024 | B40: 20809 | C40: =(B40-B39)/B39 -> -0.0017749208
A41: 2025 | B41: 20875 | C41: =(B41-B40)/B40 -> 0.0031717046

Sheet TE1
A1: TORNAR A L'ÍNDEX | B1: Fet!
A3: EMPRESES
A5: =Índex!A19 -> TE1 | C5: =Índex!A7 -> 3r trimestre 2025
A6: =Índex!B19 -> Activitats econòmiques més rellevants. Baix Llobregat.
D8: Variació
B9: 2025 | C9: %total | D9: 2024-2025 | E9: 2019-2025 | F9: 2008-2025
A10: Total | B10: 20875 | C10: 1 | D10: 0.0031717046 | E10: -0.053030303 | F10: -0.10622538
A11: 47 Comerç al detall, excepte el comerç de vehicles de motor i motocicletes | B11: 2757 | C11: 0.13207186 | D11: -0.018162393 | E11: -0.11916933 | F11: -0.15765353
A12: 56 Serveis de menjar i begudes | B12: 2004 | C12: 0.096 | D12: 0.0035052579 | E12: -0.07093185 | F12: 0.052521008
A13: 46 Comerç a l'engròs i intermediaris del comerç, excepte vehicles de motor i motocicletes | B13: 1931 | C13: 0.092502994 | D13: -0.00051759834 | E13: -0.12939585 | F13: -0.1309631
A14: 43 Activitats especialitzades de la construcció | B14: 1476 | C14: 0.070706587 | D14: -0.0033760972 | E14: -0.052631579 | F14: -0.33543449
A15: 49 Transport terrestre; transport per canonades | B15: 1160 | C15: 0.055568862 | D15: 0.02292769 | E15: 0.021126761 | F15: -0.21462424
A16: 41 Construcció d'immobles | B16: 903 | C16: 0.043257485 | D16: 0.043930636 | E16: 0.1134402 | F16: -0.3
A17: 96 Altres activitats de serveis personals | B17: 863 | C17: 0.041341317 | D17: -0.0023121387 | E17: -0.015963512 | F17: 0.023724792
A18: 68 Activitats immobiliàries | B18: 753 | C18: 0.036071856 | D18: 0.05758427 | E18: 0.072649573 | F18: 0.32804233
A19: 85 Educació | B19: 629 | C19: 0.030131737 | D19: -0.026315789 | E19: -0.014106583 | F19: 0.33262712
A20: 45 Venda i reparació de vehicles de motor i motocicletes | B20: 590 | C20: 0.028263473 | D20: 0.013745704 | E20: -0.13868613 | F20: -0.17366947
A22: Les dades de 2021 provenen d'Idescat, a partir dels fitxers d'afiliacions i comptes de cotització de la Tresoreria General de la Seguretat Social. Dades provisionals.

Sheet TE2
A1: TORNAR A L'ÍNDEX
A3: ='TE1'!A3 -> EMPRESES
A5: =Índex!A20 -> TE2 | C5: =Índex!A7 -> 3r trimestre 2025
A6: =Índex!B20 -> Dinamisme empresarial.
A7: ACTIVITATS QUE MÉS HAN AUGMENTAT | B7: n | C7: Variació anual
C8: n | D8: %
A9: 68 Activitats immobiliàries | B9: 753 | C9: 41 | D9: 0.05758427
A10: 41 Construcció d'immobles | B10: 903 | C10: 38 | D10: 0.043930636
A11: 49 Transport terrestre; transport per canonades | B11: 1160 | C11: 26 | D11: 0.02292769
A12: 82 Activitats administratives d'oficina i altres activitats auxiliars a les empreses | B12: 348 | C12: 26 | D12: 0.080745342
A13: 93 Activitats esportives, recreatives i d'entreteniment | B13: 442 | C13: 13 | D13: 0.03030303
A14: 71 Serveis tècnics d'arquitectura i enginyeria; assajos i anàlisis tècnics | B14: 367 | C14: 12 | D14: 0.033802817
A15: 64 Mediació financera, excepte assegurances i fons de pensions | B15: 86 | C15: 11 | D15: 0.14666667
A16: 81 Serveis a edificis i activitats de jardineria | B16: 449 | C16: 11 | D16: 0.025114155
A17: 52 Emmagatzematge i activitats afins al transport | B17: 330 | C17: 10 | D17: 0.03125
A18: 45 Venda i reparació de vehicles de motor i motocicletes | B18: 590 | C18: 8 | D18: 0.013745704
A19: ACTIVITATS QUE MÉS HAN DISMINUÏT | B19: n | C19: Variació anual
C20: n | D20: %
A21: 47 Comerç al detall, excepte el comerç de vehicles de motor i motocicletes | B21: 2757 | C21: -51 | D21: -0.018162393
A22: 25 Fabricació de productes metàl·lics, excepte maquinària i equips | B22: 462 | C22: -24 | D22: -0.049382716
A23: 85 Educació | B23: 629 | C23: -17 | D23: -0.026315789
A24: 28 Fabricació de maquinària i equips ncaa | B24: 161 | C24: -10 | D24: -0.058479532
A25: 33 Reparació i instal·lació de maquinària i equips | B25: 177 | C25: -10 | D25: -0.053475936
A26: 20 Indústries químiques | B26: 97 | C26: -9 | D26: -0.08490566
A27: 74 Altres activitats professionals, científiques i tècniques | B27: 135 | C27: -9 | D27: -0.0625
A28: 97 Activitats de les llars que donen ocupació a personal domèstic | B28: 79 | C28: -6 | D28: -0.070588235
A29: 43 Activitats especialitzades de la construcció | B29: 1476 | C29: -5 | D29: -0.0033760972
A30: 18 Arts gràfiques i reproducció de suports enregistrats | B30: 163 | C30: -4 | D30: -0.023952096
A32: Les dades de 2021 provenen d'Idescat, a partir dels fitxers d'afiliacions i comptes de cotització de la Tresoreria General de la Seguretat Social. Dades provisionals.

Sheet DIN_Empreses
A1: Fet! | G1: 0.003 | M1: variació | Q1: quan ordenis, millor copiïs les cel·les calculades abans
B3: 2022 | C3: 20.22 | D3: 2021 | H3: 2022 | I3: 20.22 | J3: 2021 | N3: 2022 | O3: 20.22 | P3: 2021 | Q3: var absoluta | R3: var relativa
A4: 1- Agricultura, ramaderia, caça i activitats dels serveis que s'hi relacionen | B4: 25 | C4: 0.0011900228 | D4: 27 | G4: 10- Indústries de productes alimentaris | H4: 181 | I4: 0.0086157654 | J4: 181 | M4: 10- Indústries de productes alimentaris | N4: 2987 | O4: 0.14218393 | P4: 3055 | Q4: -68 | R4: -0.022258592
A5: 2- Silvicultura i explotació forestal | B5: 10 | C5: 0.00047600914 | D5: 8 | G5: 16- Indústria de la fusta i del suro, excepte mobles; cistelleria i esparteria | H5: 67 | I5: 0.0031892612 | J5: 69 | M5: 16- Indústria de la fusta i del suro, excepte mobles; cistelleria i esparteria | N5: 1534 | O5: 0.073019802 | P5: 1560 | Q5: -26 | R5: -0.016666667
A6: 3- Pesca i aqüicultura | B6: 0 | C6: 0 | D6: .. | G6: 18- Arts gràfiques i reproducció de suports enregistrats | H6: 184 | I6: 0.0087585682 | J6: 186 | M6: 18- Arts gràfiques i reproducció de suports enregistrats | N6: 598 | O6: 0.028465347 | P6: 614 | Q6: -16 | R6: -0.026058632
A7: 5- Extracció d'antracita, hulla i lignit | B7: 0 | C7: 0 | G7: 20- Indústries químiques | H7: 110 | I7: 0.0052361005 | J7: 116 | M7: 20- Indústries químiques | N7: 1969 | O7: 0.0937262 | P7: 1985 | Q7: -16 | R7: -0.0080604534
A8: 6- Extracció de petroli brut i de gas natural | B8: 0 | C8: 0 | G8: 22- Fabricació de productes de cautxú i matèries plàstiques | H8: 124 | I8: 0.0059025133 | J8: 125 | M8: 22- Fabricació de productes de cautxú i matèries plàstiques | N8: 860 | O8: 0.040936786 | P8: 869 | Q8: -9 | R8: -0.010356732
A9: 7- Extracció de minerals metàl·lics | B9: 0 | C9: 0 | D9: 0 | G9: 23- Fabricació d'altres productes minerals no metàl·lics | H9: 64 | I9: 0.0030464585 | J9: 64 | M9: 23- Fabricació d'altres productes minerals no metàl·lics | N9: 328 | O9: 0.0156131 | P9: 337 | Q9: -9 | R9: -0.026706231
A10: 8- Extracció de minerals no metàl·lics ni energètics | B10: 12 | C10: 0.00057121097 | D10: 12 | G10: 25- Fabricació de productes metàl·lics, excepte maquinària i equips | H10: 516 | I10: 0.024562072 | J10: 521 | M10: 25- Fabricació de productes metàl·lics, excepte maquinària i equips | N10: 98 | O10: 0.0046648896 | P10: 105 | Q10: -7 | R10: -0.066666667
A11: 9- Activitats de suport a les indústries extractives | B11: 0 | C11: 0 | D11: 0 | G11: 28- Fabricació de maquinària i equips ncaa | H11: 177 | I11: 0.0084253618 | J11: 180 | M11: 28- Fabricació de maquinària i equips ncaa | N11: 110 | O11: 0.0052361005 | P11: 116 | Q11: -6 | R11: -0.051724138
A12: 10- Indústries de productes alimentaris | B12: 181 | C12: 0.0086157654 | D12: 181 | G12: 31- Fabricació de mobles | H12: 88 | I12: 0.0041888804 | J12: 90 | M12: 31- Fabricació de mobles | N12: 169 | O12: 0.0080445545 | P12: 175 | Q12: -6 | R12: -0.034285714
A13: 11- Fabricació de begudes | B13: 18 | C13: 0.00085681645 | D13: 15 | G13: 32- Indústries manufactureres diverses | H13: 71 | I13: 0.0033796649 | J13: 72 | M13: 32- Indústries manufactureres diverses | N13: 516 | O13: 0.024562072 | P13: 521 | Q13: -5 | R13: -0.009596929
A14: 12- Indústries del tabac | B14: 0 | C14: 0 | G14: 33- Reparació i instal·lació de maquinària i equips | H14: 177 | I14: 0.0084253618 | J14: 174 | M14: 33- Reparació i instal·lació de maquinària i equips | N14: 160 | O14: 0.0076161462 | P14: 164 | Q14: -4 | R14: -0.024390244
A15: 13- Indústries tèxtils | B15: 51 | C15: 0.0024276466 | D15: 58 | G15: 41- Construcció d'immobles | H15: 860 | I15: 0.040936786 | J15: 869 | M15: 41- Construcció d'immobles | N15: 236 | O15: 0.011233816 | P15: 240 | Q15: -4 | R15: -0.016666667
A16: 14- Confecció de peces de vestir | B16: 52 | C16: 0.0024752475 | D16: 59 | G16: 42- Construcció d'obres d'enginyeria civil | H16: 72 | I16: 0.0034272658 | J16: 74 | M16: 42- Construcció d'obres d'enginyeria civil | N16: 177 | O16: 0.0084253618 | P16: 180 | Q16: -3 | R16: -0.016666667
A17: 15- Indústria del cuir i del calçat | B17: 4 | C17: 0.00019040366 | D17: 6 | G17: 43- Activitats especialitzades de la construcció | H17: 1534 | I17: 0.073019802 | J17: 1560 | M17: 43- Activitats especialitzades de la construcció | N17: 467 | O17: 0.022229627 | P17: 470 | Q17: -3 | R17: -0.0063829787
A18: 16- Indústria de la fusta i del suro, excepte mobles; cistelleria i esparteria | B18: 67 | C18: 0.0031892612 | D18: 69 | G18: 45- Venda i reparació de vehicles de motor i motocicletes | H18: 598 | I18: 0.028465347 | J18: 614 | M18: 45- Venda i reparació de vehicles de motor i motocicletes | N18: 100 | O18: 0.0047600914 | P18: 103 | Q18: -3 | R18: -0.029126214
A19: 17- Indústries del paper | B19: 46 | C19: 0.002189642 | D19: 46 | G19: 46- Comerç a l'engròs i intermediaris del comerç, excepte vehicles de motor i motocicletes | H19: 1969 | I19: 0.0937262 | J19: 1985 | M19: 46- Comerç a l'engròs i intermediaris del comerç, excepte vehicles de motor i motocicletes | N19: 67 | O19: 0.0031892612 | P19: 69 | Q19: -2 | R19: -0.028985507
A20: 18- Arts gràfiques i reproducció de suports enregistrats | B20: 184 | C20: 0.0087585682 | D20: 186 | G20: 47- Comerç al detall, excepte el comerç de vehicles de motor i motocicletes | H20: 2987 | I20: 0.14218393 | J20: 3055 | M20: 47- Comerç al detall, excepte el comerç de vehicles de motor i motocicletes | N20: 184 | O20: 0.0087585682 | P20: 186 | Q20: -2 | R20: -0.010752688
A21: 19- Coqueries i refinació del petroli | B21: 0 | C21: 0 | D21: 0 | G21: 49- Transport terrestre; transport per canonades | H21: 1037 | I21: 0.049362148 | J21: 1014 | M21: 49- Transport terrestre; transport per canonades | N21: 88 | O21: 0.0041888804 | P21: 90 | Q21: -2 | R21: -0.022222222
A22: 20- Indústries químiques | B22: 110 | C22: 0.0052361005 | D22: 116 | G22: 52- Emmagatzematge i activitats afins al transport | H22: 312 | I22: 0.014851485 | J22: 313 | M22: 52- Emmagatzematge i activitats afins al transport | N22: 72 | O22: 0.0034272658 | P22: 74 | Q22: -2 | R22: -0.027027027
A23: 21- Fabricació de productes farmacèutics | B23: 19 | C23: 0.00090441736 | D23: 19 | G23: 53- Activitats postals i de correus | H23: 71 | I23: 0.0033796649 | J23: 66 | M23: 53- Activitats postals i de correus | N23: 257 | O23: 0.012233435 | P23: 259 | Q23: -2 | R23: -0.0077220077
A24: 22- Fabricació de productes de cautxú i matèries plàstiques | B24: 124 | C24: 0.0059025133 | D24: 125 | G24: 55- Serveis d'allotjament | H24: 82 | I24: 0.0039032749 | J24: 81 | M24: 55- Serveis d'allotjament | N24: 75 | O24: 0.0035700685 | P24: 77 | Q24: -2 | R24: -0.025974026
A25: 23- Fabricació d'altres productes minerals no metàl·lics | B25: 64 | C25: 0.0030464585 | D25: 64 | G25: 56- Serveis de menjar i begudes | H25: 2098 | I25: 0.099866717 | J25: 2047 | M25: 56- Serveis de menjar i begudes | N25: 124 | O25: 0.0059025133 | P25: 125 | Q25: -1 | R25: -0.008
A26: 24- Metal·lúrgia; fabricació de productes bàsics de ferro, acer i ferroaliatges | B26: 38 | C26: 0.0018088347 | D26: 40 | G26: 62- Serveis de tecnologies de la informació | H26: 257 | I26: 0.012233435 | J26: 259 | M26: 62- Serveis de tecnologies de la informació | N26: 71 | O26: 0.0033796649 | P26: 72 | Q26: -1 | R26: -0.013888889
... A39: 38- Activitats de recollida, tractament i eliminació de residus; activitats de valorització | B39: 54 | C39: 0.0025704494 | D39: 51 | G39: 85- Educació | H39: 578 | I39: 0.027513328 | J39: 577 | M39: 85- Educació | N39: 396 | O39: 0.018849962 | P39: 389 | Q39: 7 | R39: 0.017994859
A40: 39- Activitats de descontaminació i altres serveis de gestió de residus | B40: 2 | C40: 9.5201828e-05 | D40: .. | G40: 86- Activitats sanitàries | H40: 557 | I40: 0.026513709 | J40: 539 | M40: 86- Activitats sanitàries | N40: 135 | O40: 0.0064261234 | P40: 123 | Q40: 12 | R40: 0.097560976
A41: 41- Construcció d'immobles | B41: 860 | C41: 0.040936786 | D41: 869 | G41: 87- Activitats de serveis socials amb allotjament | H41: 100 | I41: 0.0047600914 | J41: 103 | M41: 87- Activitats de serveis socials amb allotjament | N41: 201 | O41: 0.0095677837 | P41: 189 | Q41: 12 | R41: 0.063492063
A42: 42- Construcció d'obres d'enginyeria civil | B42: 72 | C42: 0.0034272658 | D42: 74 | G42: 88- Activitats de serveis socials sense allotjament | H42: 77 | I42: 0.0036652704 | J42: 74 | M42: 88- Activitats de serveis socials sense allotjament | N42: 318 | O42: 0.015137091 | P42: 300 | Q42: 18 | R42: 0.06
A43: 43- Activitats especialitzades de la construcció | B43: 1534 | C43: 0.073019802 | D43: 1560 | G43: 93- Activitats esportives, recreatives i d'entreteniment | H43: 396 | I43: 0.018849962 | J43: 389 | M43: 93- Activitats esportives, recreatives i d'entreteniment | N43: 557 | O43: 0.026513709 | P43: 539 | Q43: 18 | R43: 0.033395176
A44: 45- Venda i reparació de vehicles de motor i motocicletes | B44: 598 | C44: 0.028465347 | D44: 614 | G44: 94- Activitats associatives | H44: 201 | I44: 0.0095677837 | J44: 189 | M44: 94- Activitats associatives | N44: 1037 | O44: 0.049362148 | P44: 1014 | Q44: 23 | R44: 0.022682446
A45: 46- Comerç a l'engròs i intermediaris del comerç, excepte vehicles de motor i motocicletes | B45: 1969 | C45: 0.0937262 | D45: 1985 | G45: 95- Reparació d'ordinadors, d'efectes personals i efectes domèstics | H45: 88 | I45: 0.0041888804 | J45: 87 | M45: 95- Reparació d'ordinadors, d'efectes personals i efectes domèstics | N45: 867 | O45: 0.041269992 | P45: 839 | Q45: 28 | R45: 0.033373063
A46: 47- Comerç al detall, excepte el comerç de vehicles de motor i motocicletes | B46: 2987 | C46: 0.14218393 | D46: 3055 | G46: 96- Altres activitats de serveis personals | H46: 867 | I46: 0.041269992 | J46: 839 | M46: 96- Altres activitats de serveis personals | N46: 689 | O46: 0.03279703 | P46: 660 | Q46: 29 | R46: 0.043939394
A47: 49- Transport terrestre; transport per canonades | B47: 1037 | C47: 0.049362148 | D47: 1014 | G47: 97- Activitats de les llars que donen ocupació a personal domèstic | H47: 98 | I47: 0.0046648896 | J47: 105 | M47: 97- Activitats de les llars que donen ocupació a personal domèstic | N47: 2098 | O47: 0.099866717 | P47: 2047 | Q47: 51 | R47: 0.024914509
A48: 50- Transport marítim i per vies de navegació interiors | B48: 1 | C48: 4.7600914e-05 | D48: .. | G48: Total | H48: 21008 | I48: 1 | J48: 20952 | M48: Total | N48: 21008 | O48: 1 | P48: 20952 | Q48: 56 | R48: 0.0026727759
A49: 51- Transport aeri | B49: 27 | C49: 0.0012852247 | D49: 21
A50: 52- Emmagatzematge i activitats afins al transport | B50: 312 | C50: 0.014851485 | D50: 313
A51: 53- Activitats postals i de correus | B51: 71 | C51: 0.0033796649 | D51: 66
A52: 55- Serveis d'allotjament | B52: 82 | C52: 0.0039032749 | D52: 81
A53: 56- Serveis de menjar i begudes | B53: 2098 | C53: 0.099866717 | D53: 2047
...

Sheet TE3
A1: TORNAR A L'ÍNDEX | B1: Fet!
A3: EMPRESES
A5: =Índex!A18 -> GE2 | C5: =Índex!A7 -> 3r trimestre 2025
A6: =Índex!B18 -> Variació interanual comptes de cotització. Baix Llobregat.
B8: Empreses | C8: % Baix Llobregat | D8: variació relativa (en %)
B9: Empreses | D9: 2024 | E9: 2019 | F9: 2008
A10: Abrera | B10: 375 | C10: 0.017964072 | D10: -0.028497409 | E10: -0.11764706 | F10: -0.089805825
A11: Begues | B11: 135 | C11: 0.0064670659 | D11: -0.02173913 | E11: -0.0625 | F11: -0.14556962
A12: Castelldefels | B12: 1776 | C12: 0.085077844 | D12: -0.006155568 | E12: -0.0039259675 | F12: -0.0078212291
A13: Castellví de Rosanes | B13: 68 | C13: 0.003257485 | D13: 0.0625 | E13: 0.046153846 | F13: -0.26086957
A14: Cervelló | B14: 238 | C14: 0.011401198 | D14: -0.0083333333 | E14: -0.036437247 | F14: 0.043859649
A15: Collbató | B15: 82 | C15: 0.0039281437 | D15: 0.012345679 | E15: -0.12765957 | F15: -0.068181818
A16: Corbera de Llobregat | B16: 259 | C16: 0.012407186 | D16: 0.019685039 | E16: 0.1719457 | F16: -0.11604096
A17: Cornellà de Llobregat | B17: 2461 | C17: 0.11789222 | D17: 0.014009065 | E17: -0.013627255 | F17: -0.059610241
A18: Esparreguera | B18: 554 | C18: 0.026538922 | D18: -0.019469027 | E18: -0.044827586 | F18: -0.17065868
A19: Esplugues de Llobregat | B19: 1147 | C19: 0.054946108 | D19: -0.011206897 | E19: -0.081665332 | F19: -0.21599453
A20: Gavà | B20: 1246 | C20: 0.059688623 | D20: 0.00080321285 | E20: -0.080442804 | F20: -0.14948805
A21: Martorell | B21: 737 | C21: 0.035305389 | D21: 0.015151515 | E21: -0.077596996 | F21: -0.10990338
... A40: Baix Llobregat | B40: 20875 | C40: 1 | D40: 0.0031717046 | E40: -0.053030303 | F40: -0.10622538
A42: Les dades de 2021 provenen d'Idescat, a partir dels fitxers d'afiliacions i comptes de cotització de la Tresoreria General de la Seguretat Social. Dades provisionals.
B44: empreses
B45: 2023 | C45: 2022 | D45: 2021 | E45: 2008
A46: Abrera | B46: 387 | C46: 395 | D46: 397 | E46: 418
A47: Begues | B47: 146 | C47: 144 | D47: 135 | E47: 160
A48: Castelldefels | B48: 1723 | C48: 1724 | D48: 1672 | E48: 1863
A49: Castellví de Rosanes | B49: 66 | C49: 62 | D49: 56 | E49: 96
A50: Cervelló | B50: 247 | C50: 241 | D50: 239 | E50: 232
A51: Collbató | B51: 80 | C51: 84 | D51: 84 | E51: 92
A52: Corbera de Llobregat | B52: 239 | C52: 233 | D52: 218 | E52: 291
A53: Cornellà de Llobregat | B53: 2372 | C53: 2383 | D53: 2365 | E53: 2675
A54: Esparreguera | B54: 565 | C54: 567 | D54: 550 | E54: 689
A55: Esplugues de Llobregat | B55: 1180 | C55: 1214 | D55: 1167 | E55: 1500
A56: Gavà | B56: 1242 | C56: 1257 | D56: 1250 | E56: 1500
A57: Martorell | B57: 735 | C57: 725 | D57: 713 | E57: 865
... A76: Baix Llobregat | B76: 20800 | C76: 21012 | D76: 20631 | E76: 24035
A78: Zona | B78: 2023 1T | C78: 2022 1T | D78: 2021 1T | E78: 2008 1T | F78: 2008-2023 | G78: 2019-2023 | H78: 2020-2023 | I78: 2021-2023 | J78: 2022-2023 | K78: Zona Centre: Cornellà de Llobregat, Esplugues de Llobregat, Sant Joan Despí, Sant Feliu de Llobregat i Sant Just Desvern.
A79: Centre | B79: =+B53+B57+B69+B70+B68 -> 5655 | C79: =+C53+C57+C69+C70+C68 -> 5697 | D79: =+D53+D57+D69+D70+D68 -> 5661 | E79: =+E53+E57+E69+E70+E68 -> 6440 | F79: =($B79-E79)/E79 -> -0.12189441 | G79: =($B79-#REF!)/#REF! -> #REF! | H79: =($B79-#REF!)/#REF! -> #REF! | I79: =($B79-D79)/D79 -> -0.0010598834 | J79: =($B79-C79)/C79 -> -0.0073723012 | K79: Zona Delta: Begues, Castelldefels, El Prat de Llobregat, Gavà, Sant Boi de Llobregat, Sant Climent de Llobregat i Viladecans.
A80: Delta | B80: =+B47+B48+B55+B58+B65+B66+B75 -> 7264 | C80: =+C47+C48+C55+C58+C65+C66+C75 -> 7364 | D80: =+D47+D48+D55+D58+D65+D66+D75 -> 7170 | E80: =+E47+E48+E55+E58+E65+E66+E75 -> 8466 | F80: =($B80-E80)/E80 -> -0.14197968 | G80: =($B80-#REF!)/#REF! -> #REF! | H80: =($B80-#REF!)/#REF! -> #REF! | I80: =($B80-D80)/D80 -> 0.013110181 | J80: =($B80-C80)/C80 -> -0.013579576 | K80: Zona Nord: Abrera, Castellví de Rosanes, Collbató, Esparreguera, Martorell, Olesa de Montserrat, Sant Andreu de la Barca i Sant Esteve Sesrovires.
A81: Nord | B81: =+B46+B49+B51+B56+B60+B62+B67+B64 -> 3316 | C81: =+C46+C49+C51+C56+C60+C62+C67+C64 -> 3366 | D81: =+D46+D49+D51+D56+D60+D62+D67+D64 -> 3335 | E81: =+E46+E49+E51+E56+E60+E62+E67+E64 -> 3805 | F81: =($B81-E81)/E81 -> -0.12851511 | G81: =($B81-#REF!)/#REF! -> #REF! | H81: =($B81-#REF!)/#REF! -> #REF! | I81: =($B81-D81)/D81 -> -0.0056971514 | J81: =($B81-C81)/C81 -> -0.014854427 | K81: Zona Vall Baixa: Cervelló, Corbera de Llobregat, El Papiol, La Palma de Cervelló, Molins de Rei, Pallejà, Sant Vicenç dels Horts, Santa Coloma de Cervelló, Torrelles de Llobregat i Vallirana.
A82: Vall Baixa | B82: =+B50+B52+B54+B59+B61+B63+B71+B72+B73+B74 -> 4565 | C82: =+C50+C52+C54+C59+C61+C63+C71+C72+C73+C74 -> 4585 | D82: =+D50+D52+D54+D59+D61+D63+D71+D72+D73+D74 -> 4465 | E82: =+E50+E52+E54+E59+E61+E63+E71+E72+E73+E74 -> 5324 | F82: =($B82-E82)/E82 -> -0.14256198 | G82: =($B82-#REF!)/#REF! -> #REF! | H82: =($B82-#REF!)/#REF! -> #REF! | I82: =($B82-D82)/D82 -> 0.022396417 | J82: =($B82-C82)/C82 -> -0.0043620502
...

Sheet GRGSS1
A1: TORNAR A L'ÍNDEX | B1: Fet!
A3: LLOCS DE TREBALL. RÈGIM GENERAL SEGURETAT SOCIAL
A5: GRGSS1 | C5: =Índex!A7 -> 3r trimestre 2025
A6: Llocs de treball del RGSS segons àmbit territorial.
A29: Les dades de 2021 provenen d'Idescat, a partir dels fitxers d'afiliacions i comptes de cotització de la Tresoreria General de la Seguretat Social. Dades provisionals.
B31: RGSS | C31: variació 2025-2024 | D31: variació 2025-2019 | E31: variació 2025-2008
A32: Baix Llobregat | B32: 315170 | C32: 0.027968493 | D32: 0.17531894 | E32: 0.28959794
A33: Àrea Metropolitana de Barcelona | B33: 1689280 | C33: 0.02397362 | D33: 0.1327483 | E33: 0.20450262
A34: Àmbit Territorial Metropolità | B34: 2196885 | C34: 0.020162854 | D34: 0.13363273 | E34: 0.14988972
A35: Catalunya | B35: 3176145 | C35: 0.020100785 | D35: 0.13840731 | E35: 0.18599344

Sheet GRGSS2
A1: TORNAR A L'ÍNDEX | B1: Fet!
A3: LLOCS DE TREBALL. RÈGIM GENERAL SEGURETAT SOCIAL.
A5: GRGSS2 | C5: =Índex!A7 -> 3r trimestre 2025
A6: =Índex!B28 -> Variació interanual llocs de treball assalariat. Baix Llobregat.
A29: Les dades de 2021 provenen d'Idescat, a partir dels fitxers d'afiliacions i comptes de cotització de la Tresoreria General de la Seguretat Social. Dades provisionals.
B31: Llocs de treball RGSS | C31: Variació interanual
A32: 2016 | B32: 233221 | C32: =(B32-B42)/B42 -> 0.080732534
A33: 2017 | B33: 249925 | C33: =(B33-B32)/B32 -> 0.071623053
A34: 2018 | B34: 260939 | C34: =(B34-B33)/B33 -> 0.044069221 | D34: =B34-B33 -> 11014
A35: 2019 | B35: 268157 | C35: =(B35-B34)/B34 -> 0.027661637
A36: 2020 | B36: 270711 | C36: =(B36-B35)/B35 -> 0.0095242712
A37: 2021 | B37: 276925 | C37: =(B37-B36)/B36 -> 0.022954368
A38: 2022 | B38: 291125 | C38: =(B38-B37)/B37 -> 0.051277422
A39: 2023 | B39: 303050 | C39: =(B39-B38)/B38 -> 0.040961786
A40: 2024 | B40: 306595 | C40: =(B40-B39)/B39 -> 0.01169774
A41: 2025 | B41: 315170 | C41: =(B41-B40)/B40 -> 0.027968493
A42: 2015 | B42: 215799

Sheet GRGSS3
A1: TORNAR A L'ÍNDEX | B1: Fet!
A3: LLOCS DE TREBALL. RÈGIM GENERAL SEGURETAT SOCIAL
A5: GRGSS3 | C5: =Índex!A7 -> 3r trimestre 2025
A6: Llocs de treball del RGSS per grandària del compte de cotització
A29: Les dades de 2021 provenen d'Idescat, a partir dels fitxers d'afiliacions i comptes de cotització de la Tresoreria General de la Seguretat Social. Dades provisionals.
B31: variació 2025-2024 | C31: variació 2025-2019 | D31: variació 2025-2008
A32: Fins a 50 treballadors | B32: 0.006382532 | C32: 0.017853958 | D32: -0.04711355
A33: De 51 a 250 treballadors | B33: 0.028077228 | C33: 0.2044754 | D33: 0.24291289
A34: 251 i més treballadors | B34: 0.052267122 | C34: 0.38055058 | D34: 1.1867177
A35: Total | B35: 0.027968493 | C35: 0.17531894 | D35: 0.28959794

Sheet TRGSS1
A1: TORNAR A L'ÍNDEX | C1: Fet!
A3: LLOCS DE TREBALL. RÈGIM GENERAL SEGURETAT SOCIAL.
A5: =Índex!A30 -> TRGSS1 | C5: =Índex!A7 -> 3r trimestre 2025
A6: =Índex!B30 -> Activitats econòmiques més rellevants. Baix Llobregat.
D8: Variació
B9: 2025 | C9: %total | D9: 2024-2025 | E9: 2019-2025 | F9: 2008-2025
A10: Total | B10: 315170 | C10: 1 | D10: 0.027968493 | E10: 0.17531894 | F10: 0.28959794
A11: 46 Comerç a l'engròs i intermediaris del comerç, excepte vehicles de motor i motocicletes | B11: 31020 | C11: 0.098423073 | D11: 0.038847957 | E11: 0.13793103 | F11: 0.20667522
A12: 47 Comerç al detall, excepte el comerç de vehicles de motor i motocicletes | B12: 25390 | C12: 0.080559698 | D12: 0.0025666338 | E12: 0.16918401 | F12: 0.32019551
A13: 85 Educació | B13: 20755 | C13: 0.065853349 | D13: 0.056771894 | E13: 0.82734636 | F13: 1.5018081
A14: 56 Serveis de menjar i begudes | B14: 17685 | C14: 0.056112574 | D14: 0.0091298146 | E14: 0.081254585 | F14: 0.33501925
A15: 52 Emmagatzematge i activitats afins al transport | B15: 16600 | C15: 0.052669988 | D15: 0.05229794 | E15: 0.40940737 | F15: 0.91200184
A16: 81 Serveis a edificis i activitats de jardineria | B16: 13880 | C16: 0.044039725 | D16: 0.036981696 | E16: 0.36211973 | F16: 0.98087627
A17: 43 Activitats especialitzades de la construcció | B17: 13120 | C17: 0.041628328 | D17: 0.020217729 | E17: 0.061832308 | F17: -0.2063396
A18: 86 Activitats sanitàries | B18: 10460 | C18: 0.033188438 | D18: 0.023984337 | E18: 0.17501685 | F18: 0.65637371
A19: 84 Administració pública, Defensa i Seguretat Social obligatòria | B19: 10355 | C19: 0.032855284 | D19: 0.048607595 | E19: -0.29051045 | F19: 0.12127775
A20: 49 Transport terrestre; transport per canonades | B20: 8805 | C20: 0.027937304 | D20: 0.18665768 | E20: 0.20008178 | F20: 0.12855678
A23: Les dades de 2022 i 2021 provenen d'Idescat, a partir dels fitxers d'afiliacions i comptes de cotització de la Tresoreria General de la Seguretat Social. Dades provisionals.

Sheet TRGSS2
A1: TORNAR A L'ÍNDEX | B1: Fet!
A3: =TRGSS1!A3 -> LLOCS DE TREBALL. RÈGIM GENERAL SEGURETAT SOCIAL.
A5: =Índex!A31 -> TRGSS2 | C5: =Índex!A7 -> 3r trimestre 2025
A6: =Índex!B31 -> Dinamisme llocs de treball.
A7: ACTIVITATS QUE MÉS HAN AUGMENTAT L'AFILIACIÓ | B7: n | C7: Variació anual
C8: n | D8: %
A9: 49- Transport terrestre; transport per canonades | B9: 8805 | C9: 1385 | D9: 0.18665768
A10: 46- Comerç a l'engròs i intermediaris del comerç, excepte vehicles de motor i motocicletes | B10: 31020 | C10: 1160 | D10: 0.038847957
A11: 85- Educació | B11: 20755 | C11: 1115 | D11: 0.056771894
A12: 52- Emmagatzematge i activitats afins al transport | B12: 16600 | C12: 825 | D12: 0.05229794
A13: 72- Recerca i desenvolupament | B13: 2140 | C13: 550 | D13: 0.34591195
A14: 81- Serveis a edificis i activitats de jardineria | B14: 13880 | C14: 495 | D14: 0.036981696
A15: 84- Administració pública, Defensa i Seguretat Social obligatòria | B15: 10355 | C15: 480 | D15: 0.048607595
A16: 51- Transport aeri | B16: 5890 | C16: 340 | D16: 0.061261261
A17: 80- Activitats de seguretat i investigació | B17: 7610 | C17: 335 | D17: 0.04604811
A18: 88- Activitats de serveis socials sense allotjament | B18: 7225 | C18: 335 | D18: 0.04862119
A19: ACTIVITATS QUE MÉS HAN DISMINUÏT L'AFILIACIÓ | B19: n | C19: Variació anual
C20: n | D20: %
A21: 20- Indústries químiques | B21: 4415 | C21: -215 | D21: -0.046436285
A22: 10- Indústries de productes alimentaris | B22: 5465 | C22: -200 | D22: -0.035304501
A23: 59- Activitats de cinematografia, de vídeo i de programes de televisió; activitats d'enregistrament de so i edició musical | B23: 855 | C23: -145 | D23: -0.145
A24: 27- Fabricació de materials i equips elèctrics | B24: 2170 | C24: -135 | D24: -0.05856833
A25: 74- Altres activitats professionals, científiques i tècniques | B25: 1325 | C25: -105 | D25: -0.073426573
A26: 18- Arts gràfiques i reproducció de suports enregistrats | B26: 2885 | C26: -95 | D26: -0.031879195
A27: 28- Fabricació de maquinària i equips ncaa | B27: 3485 | C27: -95 | D27: -0.026536313
A28: 53- Activitats postals i de correus | B28: 1210 | C28: -85 | D28: -0.065637066
A29: 68- Activitats immobiliàries | B29: 2095 | C29: -80 | D29: -0.036781609
A30: 25- Fabricació de productes metàl·lics, excepte maquinària i equips | B30: 6965 | C30: -70 | D30: -0.0099502488
A33: Les dades de 2022 i 2021 provenen d'Idescat, a partir dels fitxers d'afiliacions i comptes de cotització de la Tresoreria General de la Seguretat Social. Dades provisionals.

Sheet DIN_RGSS
G1: 0.003 | M1: variació | Q1: quan ordenis, millor copiïs les cel·les calculades abans
B3: 2022 | C3: 20.22 | D3: 2021 | H3: 2022 | I3: 20.22 | J3: 2021 | N3: 2022 | O3: 20.22 | P3: 2021 | Q3: var absoluta | R3: var relativa
A4: 1- Agricultura, ramaderia, caça i activitats dels serveis que s'hi relacionen | B4: 100 | C4: =B4/$B$92 -> 0.00035244154 | D4: 95 | G4: 10- Indústries de productes alimentaris | H4: 5795 | I4: 0.020423987 | J4: 5785 | M4: 88- Activitats de serveis socials sense allotjament | N4: 2675 | O4: 0.0094278112 | P4: 3115 | Q4: -440 | R4: -0.14125201
A5: 2- Silvicultura i explotació forestal | B5: 60 | C5: =B5/$B$92 -> 0.00021146492 | D5: 70 | G5: 11- Fabricació de begudes | H5: 1495 | I5: 0.005269001 | J5: 1405 | M5: 29- Fabricació de vehicles de motor, remolcs i semiremolcs | N5: 4435 | O5: 0.015630782 | P5: 4745 | Q5: -310 | R5: -0.065331928
A6: 3- Pesca i aqüicultura | B6: 0 | C6: =B6/$B$92 -> 0 | D6: 5 | G6: 17- Indústries del paper | H6: 1015 | I6: 0.0035772816 | J6: 930 | M6: 20- Indústries químiques | N6: 4660 | O6: 0.016423776 | P6: 4920 | Q6: -260 | R6: -0.052845528
A7: 5- Extracció d'antracita, hulla i lignit | B7: 0 | C7: =B7/$B$92 -> 0 | D7: 0 | G7: 18- Arts gràfiques i reproducció de suports enregistrats | H7: 3340 | I7: 0.011771547 | J7: 3180 | M7: 47- Comerç al detall, excepte el comerç de vehicles de motor i motocicletes | N7: 25895 | O7: 0.091264736 | P7: 26110 | Q7: -215 | R7: -0.008234393
A8: 6- Extracció de petroli brut i de gas natural | B8: 0 | C8: =B8/$B$92 -> 0 | D8: 0 | G8: 20- Indústries químiques | H8: 4660 | I8: 0.016423776 | J8: 4920 | M8: 53- Activitats postals i de correus | N8: 1185 | O8: 0.0041764322 | P8: 1360 | Q8: -175 | R8: -0.12867647
A9: 7- Extracció de minerals metàl·lics | B9: 0 | C9: =B9/$B$92 -> 0 | D9: 0 | G9: 21- Fabricació de productes farmacèutics | H9: 3240 | I9: 0.011419106 | J9: 3195 | M9: 68- Activitats immobiliàries | N9: 2395 | O9: 0.0084409749 | P9: 2470 | Q9: -75 | R9: -0.030364372
A10: 8- Extracció de minerals no metàl·lics ni energètics | B10: 140 | C10: =B10/$B$92 -> 0.00049341815 | D10: 130 | G10: 22- Fabricació de productes de cautxú i matèries plàstiques | H10: 2680 | I10: 0.0094454332 | J10: 2635 | M10: 45- Venda i reparació de vehicles de motor i motocicletes | N10: 4860 | O10: 0.017128659 | P10: 4900 | Q10: -40 | R10: -0.0081632653
A11: 9- Activitats de suport a les indústries extractives | B11: 0 | C11: =B11/$B$92 -> 0 | D11: 0 | G11: 23- Fabricació d'altres productes minerals no metàl·lics | H11: 1075 | I11: 0.0037887465 | J11: 995 | M11: 10- Indústries de productes alimentaris | N11: 5795 | O11: 0.020423987 | P11: 5785 | Q11: 10 | R11: 0.0017286085
A12: 10- Indústries de productes alimentaris | B12: 5795 | C12: =B12/$B$92 -> 0.020423987 | D12: 5785 | G12: 25- Fabricació de productes metàl·lics, excepte maquinària i equips | H12: 7145 | I12: 0.025181948 | J12: 7075 | M12: 21- Fabricació de productes farmacèutics | N12: 3240 | O12: 0.011419106 | P12: 3195 | Q12: 45 | R12: 0.014084507
A13: 11- Fabricació de begudes | B13: 1495 | C13: =B13/$B$92 -> 0.005269001 | D13: 1405 | G13: 26- Fabricació de productes informàtics, electrònics i òptics | H13: 950 | I13: 0.0033481946 | J13: 865 | M13: 22- Fabricació de productes de cautxú i matèries plàstiques | N13: 2680 | O13: 0.0094454332 | P13: 2635 | Q13: 45 | R13: 0.017077799
A14: 12- Indústries del tabac | B14: 0 | C14: =B14/$B$92 -> 0 | D14: 0 | G14: 27- Fabricació de materials i equips elèctrics | H14: 2630 | I14: 0.0092692125 | J14: 2260 | M14: 42- Construcció d'obres d'enginyeria civil | N14: 1425 | O14: 0.0050222919 | P14: 1380 | Q14: 45 | R14: 0.032608696
A15: 13- Indústries tèxtils | B15: 800 | C15: =B15/$B$92 -> 0.0028195323 | D15: 865 | G15: 28- Fabricació de maquinària i equips ncaa | H15: 3480 | I15: 0.012264966 | J15: 3360 | M15: 64- Mediació financera, excepte assegurances i fons de pensions | N15: 1550 | O15: 0.0054628439 | P15: 1495 | Q15: 55 | R15: 0.036789298
... A55: 59- Activitats de cinematografia, de vídeo i de programes de televisió; activitats d'enregistrament de so i edició musical | B55: 870 | C55: =B55/$B$92 -> 0.0030662414 | D55: 795 | G55: Total | H55: 283735 | I55: 1 | J55: 271720 | M55: Total | N55: 283735 | O55: 1 | P55: 271720 | Q55: 12015 | R55: 0.044218313
A56: 60- Activitats d'emissió i programació de ràdio i televisió | B56: 2340 | C56: =B56/$B$92 -> 0.008247132 | D56: 2250
A57: 61- Telecomunicacions | B57: 305 | C57: =B57/$B$92 -> 0.0010749467 | D57: 290
A58: 62- Serveis de tecnologies de la informació | B58: 5010 | C58: =B58/$B$92 -> 0.017657321 | D58: 4405
A59: 63- Serveis d'informació | B59: 425 | C59: =B59/$B$92 -> 0.0014978765 | D59: 690
A60: 64- Mediació financera, excepte assegurances i fons de pensions | B60: 1550 | C60: =B60/$B$92 -> 0.0054628439 | D60: 1495
A61: 65- Assegurances, reassegurances i fons de pensions, excepte la Seguretat Social obligatòria | B61: 475 | C61: =B61/$B$92 -> 0.0016740973 | D61: 505
A62: 66- Activitats auxiliars de la mediació financera i d'assegurances | B62: 525 | C62: =B62/$B$92 -> 0.0018503181 | D62: 540
A63: 68- Activitats immobiliàries | B63: 2395 | C63: =B63/$B$92 -> 0.0084409749 | D63: 2470
A64: 69- Activitats jurídiques i de comptabilitat | B64: 4410 | C64: =B64/$B$92 -> 0.015542672 | D64: 4245
A65: 70- Activitats de les seus centrals; activitats de consultoria de gestió empresarial | B65: 1265 | C65: =B65/$B$92 -> 0.0044583855 | D65: 1140
A66: 71- Serveis tècnics d'arquitectura i enginyeria; assajos i anàlisis tècnics | B66: 5875 | C66: =B66/$B$92 -> 0.02070594 | D66: 5590
A67: 72- Recerca i desenvolupament | B67: 1250 | C67: =B67/$B$92 -> 0.0044055192 | D67: 1110
... A92: Total | B92: 283735 | C92: =B92/$B$92 -> 1 | D92: 271720

Sheet TRGSS3
A1: TORNAR A L'ÍNDEX | B1: Fet!
A3: =TRGSS1!A3 -> LLOCS DE TREBALL. RÈGIM GENERAL SEGURETAT SOCIAL.
A5: =Índex!A32 -> TRGSS3 | C5: =Índex!A7 -> 3r trimestre 2025
A6: =Índex!B21 -> Dades municipals.
B8: Llocs de treball (RGSS) | C8: % Baix Llobregat | D8: variació relativa (en %)
B9: Empreses | D9: 2024 | E9: 2019 | F9: 2008
A10: Abrera | B10: 6245 | C10: 0.019815018 | D10: -0.037008481 | E10: -0.041295671 | F10: 0.0041807365
A11: Begues | B11: 625 | C11: 0.0019830882 | D11: -0.031007752 | E11: -0.014195584 | F11: -0.038461538
A12: Castelldefels | B12: 13470 | C12: 0.042739517 | D12: -0.0033296337 | E12: 0.14912131 | F12: 0.32945124
A13: Castellví de Rosanes | B13: 1140 | C13: 0.0036171529 | D13: -0.029787234 | E13: 0.16445352 | F13: 0.37349398
A14: Cervelló | B14: 2355 | C14: 0.0074722764 | D14: 0.0064102564 | E14: 0.066576087 | F14: 0.3312606
A15: Collbató | B15: 530 | C15: 0.0016816588 | D15: 0.04950495 | E15: 0.18040089 | F15: 0.025145068
A16: Corbera de Llobregat | B16: 1460 | C16: 0.0046324941 | D16: 0.020979021 | E16: 0.03988604 | F16: 0.13442113
A17: Cornellà de Llobregat | B17: 45960 | C17: 0.14582838 | D17: 0.042413246 | E17: 0.25969577 | F17: 0.52741775
A18: Esparreguera | B18: 5475 | C18: 0.017371853 | D18: 0.0027472527 | E18: 0.2080759 | F18: 0.075216025
A19: Esplugues de Llobregat | B19: 19170 | C19: 0.060825282 | D19: 0.021855011 | E19: 0.1386315 | F19: 0.13755044
A20: Gavà | B20: 14580 | C20: 0.046261482 | D20: 0.03772242 | E20: 0.14748938 | F20: 0.18739311
A21: Martorell | B21: 11135 | C21: 0.0353307 | D21: 0.049481621 | E21: 0.14900423 | F21: 0.030446048
... A40: Baix Llobregat | B40: 315165 | C40: 1 | D40: 0.027952184 | E40: 0.17530029 | F40: 0.28957749
A42: Les dades de 2021 provenen d'Idescat, a partir dels fitxers d'afiliacions i comptes de cotització de la Tresoreria General de la Seguretat Social. Dades provisionals.
A46: Zona | B46: 2022 2T | C46: 2021 2T | D46: 2020 2T | E46: 2008-2022 | F46: 2019-2022 | G46: 2020-2022 | H46: 2021-2022 | I46: Zona Centre: Cornellà de Llobregat, Esplugues de Llobregat, Sant Joan Despí, Sant Feliu de Llobregat i Sant Just Desvern.
A47: Centre | B47: 100805 | C47: 97150 | D47: 90475 | E47: 0.23092046 | F47: 0.10535434 | G47: 0.11417519 | H47: 0.037622234 | I47: Zona Delta: Begues, Castelldefels, El Prat de Llobregat, Gavà, Sant Boi de Llobregat, Sant Climent de Llobregat i Viladecans.
A48: Delta | B48: 116130 | C48: 109995 | D48: 103623 | E48: 0.23136465 | F48: 0.093544013 | G48: 0.12069714 | H48: 0.055775263 | I48: Zona Nord: Abrera, Castellví de Rosanes, Collbató, Esparreguera, Martorell, Olesa de Montserrat, Sant Andreu de la Barca i Sant Esteve Sesrovires.
A49: Nord | B49: 40990 | C49: 39210 | D49: 38073 | E49: -0.040294069 | F49: 0.040725131 | G49: 0.076615975 | H49: 0.045396583 | I49: Zona Vall Baixa: Cervelló, Corbera de Llobregat, El Papiol, La Palma de Cervelló, Molins de Rei, Pallejà, Sant Vicenç dels Horts, Santa Coloma de Cervelló, Torrelles de Llobregat i Vallirana.
A50: Vall Baixa | B50: 25810 | C50: 25365 | D50: 24319 | E50: -0.097457775 | F50: 0.028901734 | G50: 0.061310087 | H50: 0.01754386
A51: Total | B51: 283735 | C51: 271720 | D51: 256490 | E51: 0.14634846 | F51: 0.083520453 | G51: 0.10622246 | H51: 0.044218313

Sheet TRGSS4
A1: TORNAR A L'ÍNDEX
A3: =TRGSS1!A3 -> LLOCS DE TREBALL. RÈGIM GENERAL SEGURETAT SOCIAL.
A5: =Índex!A33 -> TRGSS4 | C5: =Índex!A7 -> 3r trimestre 2025
A6: =Índex!B33 -> Dades municipals. Llocs de treball assalariat per grandària del compte de cotització.
B8: Fins a 50 treballadors | C8: De 51 a 250 treballadors | D8: 251 i més treballadors | E8: % Baix Llobregat | H8: variació anual relativa (en %)
C9: De 51 a 250 treballadors | E9: Fins a 50 treballadors | F9: De 51 a 250 treballadors | G9: 251 i més treballadors | H9: Fins a 50 treballadors | I9: De 51 a 250 treballadors | J9: 251 i més treballadors
A10: Abrera | B10: 3055 | C10: 2420 | D10: 770 | E10: 0.025493387 | F10: 0.028672986 | G10: 0.0069413143 | H10: -0.019261637 | I10: -0.090225564 | J10: 0.084507042
A11: Begues | B11: 630 | C11: 0 | D11: 0 | E11: 0.0052572287 | F11: 0 | G11: 0 | H11: -0.023255814 | I11: - | J11: -
A12: Castelldefels | B12: 9000 | C12: 3045 | D12: 1425 | E12: 0.075103267 | F12: 0.036078199 | G12: 0.012845939 | H12: -0.0055248619 | I12: 0.081705151 | J12: -0.13897281
A13: Castellví de Rosanes | B13: 630 | C13: 55 | D13: 455 | E13: 0.0052572287 | F13: 0.00065165877 | G13: 0.0041016857 | H13: 0.05 | I13: 0 | J13: -0.125
A14: Cervelló | B14: 1445 | C14: 655 | D14: 255 | E14: 0.012058247 | F14: 0.0077606635 | G14: 0.002298747 | H14: 0.01048951 | I14: 0.0076923077 | J14: 0
A15: Collbató | B15: 530 | C15: 0 | D15: 0 | E15: 0.0044227479 | F15: 0 | G15: 0 | H15: 0.06 | I15: - | J15: -
A16: Corbera de Llobregat | B16: 1095 | C16: 365 | D16: 0 | E16: 0.0091375642 | F16: 0.0043246445 | G16: 0 | H16: -0.043668122 | I16: 0.28070175 | J16: -
A17: Cornellà de Llobregat | B17: 14550 | C17: 11020 | D17: 20385 | E17: 0.12141695 | F17: 0.13056872 | G17: 0.18376454 | H17: -0.010204082 | I17: -0.024347056 | J17: 0.12686567
A18: Esparreguera | B18: 3140 | C18: 1440 | D18: 900 | E18: 0.026202695 | F18: 0.017061611 | G18: 0.0081132246 | H18: -0.0094637224 | I18: 0.074626866 | J18: -0.052631579
A19: Esplugues de Llobregat | B19: 6035 | C19: 6080 | D19: 7050 | E19: 0.050360913 | F19: 0.072037915 | G19: 0.063553592 | H19: 0.0083542189 | I19: 0.055555556 | J19: 0.0049893086
A20: Gavà | B20: 7000 | C20: 6040 | D20: 1540 | E20: 0.058413652 | F20: 0.071563981 | G20: 0.013882629 | H20: 0.015965167 | I20: 0.069973428 | J20: 0.01986755
A21: Martorell | B21: 4145 | C21: 2700 | D21: 4290 | E21: 0.034589227 | F21: 0.031990521 | G21: 0.038673037 | H21: 0.014687882 | I21: 0.062992126 | J21: 0.076537014
A22: Molins de Rei | B22: 5055 | C22: 1970 | D22: 0 | E22: 0.042183002 | F22: 0.023341232 | G22: 0 | H22: -0.0029585799 | I22: 0.01025641 | J22: -
A23: Olesa de Montserrat | B23: 2365 | C23: 1540 | D23: 0 | E23: 0.01973547 | F23: 0.018246445 | G23: 0 | H23: -0.036659878 | I23: -0.022222222 | J23: -
A24: Pallejà | B24: 1690 | C24: 775 | D24: 280 | E24: 0.014102725 | F24: 0.0091824645 | G24: 0.0025241143 | H24: -0.0029498525 | I24: -0.11931818 | J24: -0.034482759
A25: La Palma de Cervelló | B25: 550 | C25: 0 | D25: 0 | E25: 0.0045896441 | F25: 0 | G25: 0 | H25: 0.11111111 | I25: - | J25: -
A26: El Papiol | B26: 1215 | C26: 465 | D26: 420 | E26: 0.010138941 | F26: 0.0055094787 | G26: 0.0037861715 | H26: 0.025316456 | I26: 0.081395349 | J26: 0.13513514
A27: El Prat de Llobregat | B27: 10260 | C27: 11300 | D27: 33290 | E27: 0.085617724 | F27: 0.13388626 | G27: 0.30009916 | H27: -0.0033997086 | I27: 0.05459636 | J27: 0.017420538
A28: Sant Andreu de la Barca | B28: 4600 | C28: 2540 | D28: 1970 | E28: 0.038386114 | F28: 0.030094787 | G28: 0.017758947 | H28: -0.021276596 | I28: 0.13392857 | J28: -0.10250569
A29: Sant Boi de Llobregat | B29: 11045 | C29: 7990 | D29: 6815 | E29: 0.092168398 | F29: 0.094668246 | G29: 0.061435139 | H29: 0.031760859 | I29: -0.027388923 | J29: 0.12644628
A30: Sant Climent de Llobregat | B30: 430 | C30: 60 | D30: 0 | E30: 0.0035882672 | F30: 0.00071090047 | G30: 0 | H30: 0.023809524 | I30: 0 | J30: -
A31: Sant Esteve Sesrovires | B31: 2145 | C31: 2245 | D31: 1275 | E31: 0.017899612 | F31: 0.026599526 | G31: 0.011493735 | H31: 0.0094117647 | I31: 0.097799511 | J31: -0.082733813
A32: Sant Feliu de Llobregat | B32: 5600 | C32: 4170 | D32: 7210 | E32: 0.046730922 | F32: 0.049407583 | G32: 0.064995943 | H32: 0.010830325 | I32: 0.076129032 | J32: 0.0090972708
A33: Sant Joan Despí | B33: 5185 | C33: 4075 | D33: 6555 | E33: 0.043267827 | F33: 0.048281991 | G33: 0.059091319 | H33: 0.048533873 | I33: -0.025119617 | J33: 0.10260723
A34: Sant Just Desvern | B34: 5220 | C34: 4765 | D34: 5780 | E34: 0.043559895 | F34: 0.056457346 | G34: 0.052104931 | H34: 0.03777336 | I34: -0.038345106 | J34: 0.19544984
A35: Sant Vicenç dels Horts | B35: 3160 | C35: 2895 | D35: 925 | E35: 0.026369592 | F35: 0.034300948 | G35: 0.0083385919 | H35: 0.036065574 | I35: 0 | J35: 0.057142857
A36: Santa Coloma de Cervelló | B36: 775 | C36: 630 | D36: 305 | E36: 0.0064672258 | F36: 0.007464455 | G36: 0.0027494817 | H36: -0.037267081 | I36: -0.073529412 | J36: -0.075757576
A37: Torrelles de Llobregat | B37: 530 | C37: 80 | D37: 0 | E37: 0.0044227479 | F37: 0.0009478673 | G37: 0 | H37: -0.027522936 | I37: 0 | J37: -
A38: Vallirana | B38: 1735 | C38: 85 | D38: 0 | E38: 0.014478241 | F38: 0.001007109 | G38: 0 | H38: 0.06116208 | I38: -0.37037037 | J38: -
A39: Viladecans | B39: 7010 | C39: 4990 | D39: 9030 | E39: 0.0584971 | F39: 0.059123223 | G39: 0.081402686 | H39: -0.007082153 | I39: 0.20240964 | J39: 0.05061082
A40: BAIX LLOBREGAT | B40: 119835 | C40: 84400 | D40: 110930 | E40: 1 | F40: 1 | G40: 1 | H40: 0.006382532 | I40: 0.028077228 | J40: 0.052267122
A42: Les dades de 2021 provenen d'Idescat, a partir dels fitxers d'afiliacions i comptes de cotització de la Tresoreria General de la Seguretat Social. Dades provisionals.

Sheet TRGS5
A1: TORNAR A L'ÍNDEX
A3: =TRGSS1!A3 -> LLOCS DE TREBALL. RÈGIM GENERAL SEGURETAT SOCIAL.
A5: =Índex!A34 -> TRGSS5 | C5: =Índex!A7 -> 3r trimestre 2025
A6: =Índex!B34 -> Dades municipals. Relació entre població ocupada i llocs de treball.
B9: P. Règim General resident al municipi | C9: P. Règim General treballant al municipi | D9: Diferència residents-treballant (abs) | E9: Diferència residents-treballant (%)
A11: Abrera | B11: 6250 | C11: 6890 | D11: -640 | E11: =+D11/B11 -> -0.1024
A12: Begues | B12: 3635 | C12: 1180 | D12: 2455 | E12: =+D12/B12 -> 0.67537827
A13: Castelldefels | B13: 30450 | C13: 18375 | D13: 12075 | E13: =+D13/B13 -> 0.39655172
A14: Castellví de Rosanes | B14: 1020 | C14: 1280 | D14: -260 | E14: =+D14/B14 -> -0.25490196
A15: Cervelló | B15: 4580 | C15: 2990 | D15: 1590 | E15: =+D15/B15 -> 0.34716157
A16: Collbató | B16: 2390 | C16: 830 | D16: 1560 | E16: =+D16/B16 -> 0.65271967
A17: Corbera de Llobregat | B17: 7635 | C17: 2460 | D17: 5175 | E17: =+D17/B17 -> 0.67779961
A18: Cornellà de Llobregat | B18: 40945 | C18: 50915 | D18: -9970 | E18: =+D18/B18 -> -0.24349737
A19: Esparreguera | B19: 10285 | C19: 6815 | D19: 3470 | E19: =+D19/B19 -> 0.33738454
A20: Esplugues de Llobregat | B20: 20225 | C20: 22095 | D20: -1870 | E20: =+D20/B20 -> -0.092459827
A21: Gavà | B21: 21095 | C21: 17565 | D21: 3530 | E21: =+D21/B21 -> 0.16733823
A22: Martorell | B22: 12755 | C22: 12625 | D22: 130 | E22: =+D22/B22 -> 0.010192082
... A40: Viladecans | B40: 31615 | C40: 24755 | D40: 6860 | E40: =+D40/B40 -> 0.21698561
A41: Baix Llobregat | B41: 386740 | C41: 364535 | D41: 22205 | E41: =+D41/C41 -> 0.060913218
A42: Font: OCBL a partir de dades d'IDESCAT, afiliats segons residència padronal i afiliacions segons compte de cotització. Les dades corresponen al quart trimestre.

Sheet TRGSS6
A1: TORNAR A L'ÍNDEX
A3: =TRGSS1!A3 -> LLOCS DE TREBALL. RÈGIM GENERAL SEGURETAT SOCIAL.
A5: =Índex!A35 -> TRGSS6 | C5: =Índex!A7 -> 3r trimestre 2025
A6: =Índex!B35 -> Dades municipals. Llocs de treball assalariat ocupats per dones.
B8: Llocs de treball ocupats per dones | C8: % total llocs de treball
C9: De 51 a 250 treballadors
A10: Abrera | B10: 2287 | C10: 0.31865682
A11: Begues | B11: 762 | C11: 0.44692082
A12: Castelldefels | B12: 9155 | C12: 0.46502768
A13: Castellví de Rosanes | B13: 521 | C13: 0.34186352
A14: Cervelló | B14: 1593 | C14: 0.4528141
A15: Collbató | B15: 548 | C15: 0.4551495
A16: Corbera de Llobregat | B16: 1508 | C16: 0.46905132
A17: Cornellà de Llobregat | B17: 21639 | C17: 0.418606
A18: Esparreguera | B18: 3194 | C18: 0.45017618
A19: Esplugues de Llobregat | B19: 12024 | C19: 0.52301
A20: Gavà | B20: 7891 | C20: 0.43469399
A21: Martorell | B21: 5133 | C21: 0.40391879
... A40: Baix Llobregat | B40: 170375 | C40: 0.45013329
A42: Les dades de 2021 provenen d'Idescat, a partir dels fitxers d'afiliacions i comptes de cotització de la Tresoreria General de la Seguretat Social. Dades provisionals.
D48: 287516
D49: =D48-B40 -> 117141

Sheet GRETA1
A1: TORNAR A L'ÍNDEX | B1: Fet!
A3: LLOCS DE TREBALL. RÈGIM ESPECIAL TREBALLADORS AUTÒNOMS
A5: GRETA1 | C5: =Índex!A7 -> 3r trimestre 2025
A6: Llocs de treball del RETA segons àmbit territorial.
A29: Les dades de 2021 provenen d'Idescat, a partir dels fitxers d'afiliacions i comptes de cotització de la Tresoreria General de la Seguretat Social. Dades provisionals.
B31: RETA | C31: variació 2025-2024 | D31: variació 2025-2019 | E31: variació 2025-2008
A32: Baix Llobregat | B32: 49370 | C32: 0.008889343 | D32: -0.014787172 | E32: -0.095837225
A33: Àrea Metropolitana de Barcelona | B33: 242765 | C33: 0.011900296 | D33: 0.092237159 | E33: 0.070458494
A34: Àmbit Territorial Metropolità | B34: 355365 | C34: 0.011211496 | D34: 0.064180539 | E34: -0.028380429
A35: Catalunya | B35: 570955 | C35: 0.010647148 | D35: 0.040633469 | E35: -0.026813321

Sheet GRETA2
A1: TORNAR A L'ÍNDEX | B1: Fet!
A3: LLOCS DE TREBALL. RÈGIM ESPECIAL TREBALLADORS AUTÒNOMS
A5: =Índex!A40 -> GRETA2 | C5: =Índex!A7 -> 3r trimestre 2025
A6: =Índex!B40 -> Variació interanual llocs de treball autònom. Baix Llobregat.
A29: Les dades de 2022 i 2021 provenen d'Idescat, a partir dels fitxers d'afiliacions i comptes de cotització de la Tresoreria General de la Seguretat Social. Dades provisionals.
B31: Llocs de treball RETA | C31: Variació interanual
A32: 2016 | B32: 50215
A33: 2017 | B33: 50345 | C33: =(B33-B32)/B32 -> 0.0025888679
A34: 2018 | B34: 50262 | C34: =(B34-B33)/B33 -> -0.0016486245
A35: 2019 | B35: 50111 | C35: =(B35-B34)/B34 -> -0.0030042577
A36: 2020 | B36: 49951 | C36: =(B36-B35)/B35 -> -0.0031929117
A37: 2021 | B37: 48845 | C37: =(B37-B36)/B36 -> -0.022141699
A38: 2022 | B38: 48590 | C38: =(B38-B37)/B37 -> -0.0052205958
A39: 2023 | B39: 48780 | C39: =(B39-B38)/B38 -> 0.0039102696 | D39: =+B39-B38 -> 190
A40: 2024 | B40: 48935 | C40: =(B40-B39)/B39 -> 0.0031775318
A41: 2025 | B41: 49370 | C41: =(B41-B40)/B40 -> 0.008889343
A42: 2024 | B42: 48975 | C42: =(B42-B41)/B41 -> -0.0080008102

Sheet TRETA1
A1: TORNAR A L'ÍNDEX | C1: Fet!
A3: =GRETA1!A3 -> LLOCS DE TREBALL. RÈGIM ESPECIAL TREBALLADORS AUTÒNOMS
A5: =Índex!A41 -> TRETA1 | C5: =Índex!A7 -> 3r trimestre 2025
A6: =Índex!B41 -> Activitats econòmiques més rellevants. Baix Llobregat.
D8: Variació
B9: 2025 | C9: %total | D9: 2024-2025 | E9: 2019-2025 | F9: 2008-2025
A10: Total | B10: 49370 | C10: 1 | D10: 0.008889343 | E10: -0.014787172 | F10: -0.095837225
A11: 47 Comerç al detall, excepte el comerç de vehicles de motor i motocicletes | B11: 6145 | C11: 0.1244683 | D11: -0.01601281 | E11: -0.14391195 | F11: -0.25361351
A12: 49 Transport terrestre; transport per canonades | B12: 5080 | C12: 0.1028965 | D12: 0.0019723866 | E12: -0.055762082 | F12: -0.22181373
A13: 43 Activitats especialitzades de la construcció | B13: 4745 | C13: 0.096110999 | D13: -0.014537902 | E13: -0.061511076 | F13: -0.34686855
A14: 56 Serveis de menjar i begudes | B14: 4665 | C14: 0.094490581 | D14: 0.0086486486 | E14: 0.016561342 | F14: -0.023036649
A15: 96 Altres activitats de serveis personals | B15: 2965 | C15: 0.060056715 | D15: 0.029513889 | E15: 0.09167894 | F15: 0.36009174
A16: 46 Comerç a l'engròs i intermediaris del comerç, excepte vehicles de motor i motocicletes | B16: 2795 | C16: 0.056613328 | D16: -0.036206897 | E16: -0.11662453 | F16: -0.14
A17: 86 Activitats sanitàries | B17: 2200 | C17: 0.044561475 | D17: 0.055155875 | E17: 0.23804164 | F17: 1.1276596
A18: 41 Construcció d'immobles | B18: 1780 | C18: 0.036054284 | D18: 0.062686567 | E18: 0.21917808 | F18: -0.095068632
A19: 85 Educació | B19: 1500 | C19: 0.030382824 | D19: 0.02739726 | E19: 0.14242193 | F19: 0.74013921
A20: 45 Venda i reparació de vehicles de motor i motocicletes | B20: 1200 | C20: 0.024306259 | D20: 0.012658228 | E20: -0.036918138 | F20: -0.15789474
A23: Les dades de 2022 i 2021 provenen d'Idescat, a partir dels fitxers d'afiliacions i comptes de cotització de la Tresoreria General de la Seguretat Social. Dades provisionals.

Sheet TRETA2
A1: TORNAR A L'ÍNDEX | B1: Fet!
