Workbook

Sheet Índex
A6: INFORME TRIMESTRAL ESTRUCTURA PRODUCTIVA
A7: 3r trimestre 2025
A9: CONTINGUT
A10: Fer click als vincles per anar als documents, taules i gràfics corresponents
A12: GG | B12: Variació interanual del conjunt de components de l'estructura productiva. Evolució recent de l'estructura productiva del Baix Llobregat.
A13: TG | B13: =TG!A7 -> Posicionament comarcal en el context de l'àmbit territorial metropolità i Catalunya. Estructura productiva.
A15: EMPRESES
A17: GE1 | B17: Comptes de cotització segons àmbit territorial.
A18: GE2 | B18: Variació interanual comptes de cotització. Baix Llobregat.
A19: TE1 | B19: Activitats econòmiques més rellevants. Baix Llobregat.
A20: TE2 | B20: Dinamisme empresarial.
A21: TE3 | B21: Dades municipals.
A23: LLOCS DE TREBALL
A25: Règim General Seguretat Social (RGSS)
A27: GRGSS1 | B27: Llocs de treball assalariat segons àmbit territorial.
A28: GRGSS2 | B28: Variació interanual llocs de treball assalariat. Baix Llobregat.
A29: GRGSS3 | B29: Variació interanual llocs de treball assalariat per grandària del compte de cotització. Baix Llobregat.
A30: TRGSS1 | B30: Activitats econòmiques més rellevants. Baix Llobregat.
A31: TRGSS2 | B31: Dinamisme llocs de treball.
A32: TRGSS3 | B32: Dades municipals.
A33: TRGSS4 | B33: Dades municipals. Llocs de treball assalariat per grandària del compte de cotització.
A34: TRGSS5 | B34: Dades municipals. Relació entre població ocupada i llocs de treball.
A35: TRGSS6 | B35: Dades municipals. Llocs de treball assalariat ocupats per dones.
A37: Règim Especial Treballadors Autònoms (RETA)
A39: GRETA1 | B39: Llocs de treball autònom segons àmbit territorial.
A40: GRETA2 | B40: Variació interanual llocs de treball autònom. Baix Llobregat.
A41: TRETA1 | B41: Activitats econòmiques més rellevants. Baix Llobregat.
A42: TRETA2 | B42: Dinamisme llocs de treball.
A43: TRETA3 | B43: Dades municipals.
A45: ANÀLISI SEGONS 7 SECTORS PRODUCTIUS
A47: T7S1 | B47: Llocs de treball segons àmbit territorial
A48: G7S1 | B48: Variació intertrimestral llocs de treball. Baix Llobregat.
A49: T7S2 | B49: Llocs de treball segons municipi.
A50: G7S2 | B50: Llocs de treball segons sexe.
A51: T7S3 | B51: Diferencial segons sexe de les activitats econòmiques.
A53: ÚS DE TECNOLOGIA i CONEIXEMENT
A55: TTC1 | B55: Llocs de treball segons ús de tecnologia i coneixement. Baix Llobregat i àmbits territorials.
A56: TTC2 | B56: Llocs de treball segons ús de tecnologia i coneixement. Dades municipals.

Sheet GG
A1: TORNAR A L'ÍNDEX
A3: EMPRESES, LLOCS DE TREBALL, RGSS I RETA
A5: GG | C5: =Índex!A7 -> 3r trimestre 2025
A7: Variació interanual de l'estructura productiva. Baix Llobregat i àmbits territorials de referència
A30: Les dades de 2021 provenen d'Idescat, a partir dels fitxers d'afiliacions i comptes de cotització de la Tresoreria General de la Seguretat Social. Dades provisionals.
B32: Empreses | C32: Total llocs de treball | D32: RGSS | E32: RETA
A33: Baix Llobregat | B33: ='GE1'!C32 -> 0.0031717046 | C33: 0.025342446 | D33: =GRGSS1!C32 -> 0.027968493 | E33: =GRETA1!C32 -> 0.008889343
A34: Àrea Metropolitana de Barcelona | B34: ='GE1'!C33 -> 0.005405795 | C34: 0.022440782 | D34: =GRGSS1!C33 -> 0.02397362 | E34: =GRETA1!C33 -> 0.011900296
A35: Àmbit Territorial Metropolità | B35: ='GE1'!C34 -> 0.004331197 | C35: 0.018907018 | D35: =GRGSS1!C34 -> 0.020162854 | E35: =GRETA1!C34 -> 0.011211496
A36: Catalunya | B36: ='GE1'!C35 -> 0.0028455103 | C36: 0.018648906 | D36: =GRGSS1!C35 -> 0.020100785 | E36: =GRETA1!C35 -> 0.010647148
A62: Les dades de 2021 provenen d'Idescat, a partir dels fitxers d'afiliacions i comptes de cotització de la Tresoreria General de la Seguretat Social. Dades provisionals.
B64: Empreses | C64: Total llocs de treball | D64: RGSS | E64: RETA
A65: Variació anual | B65: ='GE1'!C32 -> 0.0031717046 | C65: 0.025342446 | D65: =GRGSS1!C32 -> 0.027968493 | E65: =GRETA1!C32 -> 0.008889343
A66: Variació 2019 | B66: ='GE1'!D32 -> -0.053030303 | C66: 0.14538691 | D66: =GRGSS1!D32 -> 0.17531894 | E66: =GRETA1!D32 -> -0.014787172

Sheet TG
A1: TORNAR A L'ÍNDEX | B1: Fet!
D2: =B20+B30 -> 364540
A3: EMPRESES, LLOCS DE TREBALL, RGSS I RETA | D3: =B25+B35 -> 1932045
A5: TG | B5: =Índex!A7 -> 3r trimestre 2025
A7: Posicionament comarcal en el context de l'àmbit territorial metropolità i Catalunya. Estructura productiva. | H7: Ocultar
B8: n | C8: % / Total ATM | D8: % / Total Catalunya | E8: Variació trimestral | H8: Trimestre anterior
A9: CENTRES DE COTITZACIÓ | E9: n | F9: % | H9: 2n 2025
A10: BAIX LLOBREGAT | B10: 20875 | C10: =B10/$B$16 -> 0.13496825 | D10: =B10/$B$17 -> 0.084495697 | E10: =B10-H10 -> -102 | F10: =E10/H10 -> -0.0048624684 | H10: 20977
A11: Barcelonès | B11: 84751 | C11: =B11/$B$16 -> 0.54796141 | D11: =B11/$B$17 -> 0.34304646 | E11: =B11-H11 -> -384 | F11: =E11/H11 -> -0.0045104833 | H11: 85135
A12: Maresme | B12: 12074 | C12: =B12/$B$16 -> 0.078064992 | D12: =B12/$B$17 -> 0.048871907 | E12: =B12-H12 -> -151 | F12: =E12/H12 -> -0.012351738 | H12: 12225
A13: Vallès Occidental | B13: 25280 | C13: =B13/$B$16 -> 0.16344898 | D13: =B13/$B$17 -> 0.10232581 | E13: =B13-H13 -> -148 | F13: =E13/H13 -> -0.0058203555 | H13: 25428
A14: Vallès Oriental | B14: 11567 | C14: =B14/$B$16 -> 0.07478696 | D14: =B14/$B$17 -> 0.046819724 | E14: =B14-H14 -> -154 | F14: =E14/H14 -> -0.013138811 | H14: 11721
A15: Àrea Metropolitana de Barcelona (AMB) | B15: 111592 | C15: - | D15: =B15/B16 -> 0.72150311 | E15: =B15-H15 -> -568 | F15: =E15/H15 -> -0.005064194 | H15: 112160
A16: Àmbit Territorial Metropolità (ATM) | B16: 154666 | C16: - | D16: =B16/B17 -> 0.62604127 | E16: =B16-H16 -> -939 | F16: =E16/H16 -> -0.0060345105 | H16: 155605
A17: Catalunya | B17: 247054 | C17: - | D17: - | E17: =B17-H17 -> -2504 | F17: =E17/H17 -> -0.01003374 | H17: 249558
B18: n | C18: % / Total ATM | D18: % / Total Catalunya | E18: Variació trimestral | H18: n
A19: POBLACIÓ ASSALARIADA | E19: n | F19: %
A20: BAIX LLOBREGAT | B20: 315170 | C20: =B20/$B$26 -> 0.14346222 | D20: =B20/$B$27 -> 0.099230356 | E20: =B20-H20 -> 8595 | F20: =E20/H20 -> 0.028035554 | H20: 306575
A21: Barcelonès | B21: 1266985 | C21: =B21/$B$26 -> 0.57671885 | D21: =B21/$B$27 -> 0.39890654 | E21: =B21-H21 -> 1500 | F21: =E21/H21 -> 0.0011853163 | H21: 1265485
A22: Maresme | B22: 111495 | C22: =B22/$B$26 -> 0.050751405 | D22: =B22/$B$27 -> 0.035103876 | E22: =B22-H22 -> -885 | F22: =E22/H22 -> -0.0078750667 | H22: 112380
A23: Vallès Occidental | B23: 372090 | C23: =B23/$B$26 -> 0.16937163 | D23: =B23/$B$27 -> 0.11715145 | E23: =B23-H23 -> 2160 | F23: =E23/H23 -> 0.0058389425 | H23: 369930
A24: Vallès Oriental | B24: 130375 | C24: =B24/$B$26 -> 0.059345391 | D24: =B24/$B$27 -> 0.041048189 | E24: =B24-H24 -> 165 | F24: =E24/H24 -> 0.0012671838 | H24: 130210
A25: Àrea Metropolitana de Barcelona (AMB) | B25: 1689280 | C25: - | D25: =B25/$B$27 -> 0.53186489 | E25: =B25-H25 -> 11435 | F25: =E25/H25 -> 0.0068152899 | H25: 1677845
A26: Àmbit Territorial Metropolità (ATM) | B26: 2196885 | C26: - | D26: =B26/$B$27 -> 0.69168284 | E26: =B26-H26 -> 11520 | F26: =E26/H26 -> 0.0052714306 | H26: 2185365
A27: Catalunya | B27: 3176145 | C27: - | D27: - | E27: =B27-H27 -> -17470 | F27: =E27/H27 -> -0.0054702899 | H27: 3193615
B28: n | C28: % / Total ATM | D28: % / Total Catalunya | E28: Variació trimestral | H28: n
A29: POBLACIÓ DEL RÈGIM AUTÒNOM | E29: n | F29: %
A30: BAIX LLOBREGAT | B30: 49370 | C30: =B30/$B$36 -> 0.13892758 | D30: =B30/$B$37 -> 0.086469161 | E30: =B30-H30 -> 100 | F30: =E30/H30 -> 0.0020296326 | H30: 49270
A31: Barcelonès | B31: 179180 | C31: =B31/$B$36 -> 0.50421398 | D31: =B31/$B$37 -> 0.31382508 | E31: =B31-H31 -> 410 | F31: =E31/H31 -> 0.0022934497 | H31: 178770
A32: Maresme | B32: 34500 | C32: =B32/$B$36 -> 0.097083281 | D32: =B32/$B$37 -> 0.060425077 | E32: =B32-H32 -> -95 | F32: =E32/H32 -> -0.0027460616 | H32: 34595
A33: Vallès Occidental | B33: 62060 | C33: =B33/$B$36 -> 0.17463734 | D33: =B33/$B$37 -> 0.10869508 | E33: =B33-H33 -> 15 | F33: =E33/H33 -> 0.00024176001 | H33: 62045
A34: Vallès Oriental | B34: 29875 | C34: =B34/$B$36 -> 0.084068493 | D34: =B34/$B$37 -> 0.052324614 | E34: =B34-H34 -> -240 | F34: =E34/H34 -> -0.0079694504 | H34: 30115
A35: Àrea Metropolitana de Barcelona (AMB) | B35: 242765 | C35: - | D35: =B35/$B$37 -> 0.42519113 | E35: =B35-H35 -> 505 | F35: =E35/H35 -> 0.0020845373 | H35: 242260
A36: Àmbit Territorial Metropolità (ATM) | B36: 355365 | C36: - | D36: =B36/$B$37 -> 0.62240457 | E36: =B36-H36 -> 190 | F36: =E36/H36 -> 0.00053494756 | H36: 355175
A37: Catalunya | B37: 570955 | C37: - | D37: - | E37: =B37-H37 -> -355 | F37: =E37/H37 -> -0.00062137894 | H37: 571310
A38: Font: OCBL, a partir de les dades d'Estadística de l'ocupació assalariada i autònoma segons afiliacions a la Seguretat Social d'IDESCAT.
B41: =B30+B20 -> 364540 | H41: =H30+H20 -> 355845

Sheet GE1
A1: TORNAR A L'ÍNDEX
A3: EMPRESES
A5: GE1 | C5: =Índex!A7 -> 3r trimestre 2025
A6: Comptes de cotització segons àmbit territorial.
A29: Les dades de 2021 provenen d'Idescat, a partir dels fitxers d'afiliacions i comptes de cotització de la Tresoreria General de la Seguretat Social. Dades provisionals.
B31: Empreses | C31: variació 2025-2024 | D31: variació 2025-2019 | E31: variació 2025-2008
A32: Baix Llobregat | B32: 20875 | C32: 0.0031717046 | D32: -0.053030303 | E32: -0.10622538
A33: Àrea Metropolitana de Barcelona | B33: 111592 | C33: 0.005405795 | D33: -0.046271131 | E33: -0.079714328
A34: Àmbit Territorial Metropolità | B34: 154666 | C34: 0.004331197 | D34: -0.047998326 | E34: -0.13978865
A35: Catalunya | B35: 247054 | C35: 0.0028455103 | D35: -0.043216259 | E35: -0.10908284

Sheet GE2
A1: TORNAR A L'ÍNDEX | B1: Fet!
A3: EMPRESES
A5: GE2 | C5: =Índex!A7 -> 3r trimestre 2025
A6: =Índex!B18 -> Variació interanual comptes de cotització. Baix Llobregat.
J12: ='GE1'!C32 -> 0.0031717046
A29: Les dades de 2021 provenen d'Idescat, a partir dels fitxers d'afiliacions i comptes de cotització de la Tresoreria General de la Seguretat Social. Dades provisionals.
B31: Empreses | C31: Variació interanual
A32: 2016 | B32: 21475
A33: 2017 | B33: 21866 | C33: =(B33-B32)/B32 -> 0.018207218
A34: 2018 | B34: 21945 | C34: =(B34-B33)/B33 -> 0.003612915
A35: 2019 | B35: 22044 | C35: =(B35-B34)/B34 -> 0.0045112782
A36: 2020 | B36: 20530 | C36: =(B36-B35)/B35 -> -0.06868082
A37: 2021 | B37: 20890 | C37: =(B37-B36)/B36 -> 0.017535314
A38: 2022 | B38: 20816 | C38: =(B38-B37)/B37 -> -0.0035423648
A39: 2023 | B39: 20846 | C39: =(B39-B38)/B38 -> 0.0014411991
A40: 2024 | B40: 20809 | C40: =(B40-B39)/B39 -> -0.0017749208
A41: 2025 | B41: 20875 | C41: =(B41-B40)/B40 -> 0.0031717046

Sheet TE1
A1: TORNAR A L'ÍNDEX | B1: Fet!
A3: EMPRESES
A5: =Índex!A19 -> TE1 | C5: =Índex!A7 -> 3r trimestre 2025
A6: =Índex!B19 -> Activitats econòmiques més rellevants. Baix Llobregat.
D8: Variació
B9: 2025 | C9: %total | D9: 2024-2025 | E9: 2019-2025 | F9: 2008-2025
A10: Total | B10: 20875 | C10: 1 | D10: 0.0031717046 | E10: -0.053030303 | F10: -0.10622538
A11: 47 Comerç al detall, excepte el comerç de vehicles de motor i motocicletes | B11: 2757 | C11: 0.13207186 | D11: -0.018162393 | E11: -0.11916933 | F11: -0.15765353
A12: 56 Serveis de menjar i begudes | B12: 2004 | C12: 0.096 | D12: 0.0035052579 | E12: -0.07093185 | F12: 0.052521008
A13: 46 Comerç a l'engròs i intermediaris del comerç, excepte vehicles de motor i motocicletes | B13: 1931 | C13: 0.092502994 | D13: -0.00051759834 | E13: -0.12939585 | F13: -0.1309631
A14: 43 Activitats especialitzades de la construcció | B14: 1476 | C14: 0.070706587 | D14: -0.0033760972 | E14: -0.052631579 | F14: -0.33543449
A15: 49 Transport terrestre; transport per canonades | B15: 1160 | C15: 0.055568862 | D15: 0.02292769 | E15: 0.021126761 | F15: -0.21462424
A16: 41 Construcció d'immobles | B16: 903 | C16: 0.043257485 | D16: 0.043930636 | E16: 0.1134402 | F16: -0.3
A17: 96 Altres activitats de serveis personals | B17: 863 | C17: 0.041341317 | D17: -0.0023121387 | E17: -0.015963512 | F17: 0.023724792
A18: 68 Activitats immobiliàries | B18: 753 | C18: 0.036071856 | D18: 0.05758427 | E18: 0.072649573 | F18: 0.32804233
A19: 85 Educació | B19: 629 | C19: 0.030131737 | D19: -0.026315789 | E19: -0.014106583 | F19: 0.33262712
A20: 45 Venda i reparació de vehicles de motor i motocicletes | B20: 590 | C20: 0.028263473 | D20: 0.013745704 | E20: -0.13868613 | F20: -0.17366947
A22: Les dades de 2021 provenen d'Idescat, a partir dels fitxers d'afiliacions i comptes de cotització de la Tresoreria General de la Seguretat Social. Dades provisionals.

Sheet TE2
A1: TORNAR A L'ÍNDEX
A3: ='TE1'!A3 -> EMPRESES
A5: =Índex!A20 -> TE2 | C5: =Índex!A7 -> 3r trimestre 2025
A6: =Índex!B20 -> Dinamisme empresarial.
A7: ACTIVITATS QUE MÉS HAN AUGMENTAT | B7: n | C7: Variació anual
C8: n | D8: %
A9: 68 Activitats immobiliàries | B9: 753 | C9: 41 | D9: 0.05758427
A10: 41 Construcció d'immobles | B10: 903 | C10: 38 | D10: 0.043930636
A11: 49 Transport terrestre; transport per canonades | B11: 1160 | C11: 26 | D11: 0.02292769
A12: 82 Activitats administratives d'oficina i altres activitats auxiliars a les empreses | B12: 348 | C12: 26 | D12: 0.080745342
A13: 93 Activitats esportives, recreatives i d'entreteniment | B13: 442 | C13: 13 | D13: 0.03030303
A14: 71 Serveis tècnics d'arquitectura i enginyeria; assajos i anàlisis tècnics | B14: 367 | C14: 12 | D14: 0.033802817
A15: 64 Mediació financera, excepte assegurances i fons de pensions | B15: 86 | C15: 11 | D15: 0.14666667
A16: 81 Serveis a edificis i activitats de jardineria | B16: 449 | C16: 11 | D16: 0.025114155
A17: 52 Emmagatzematge i activitats afins al transport | B17: 330 | C17: 10 | D17: 0.03125
A18: 45 Venda i reparació de vehicles de motor i motocicletes | B18: 590 | C18: 8 | D18: 0.013745704
A19: ACTIVITATS QUE MÉS HAN DISMINUÏT | B19: n | C19: Variació anual
C20: n | D20: %
A21: 47 Comerç al detall, excepte el comerç de vehicles de motor i motocicletes | B21: 2757 | C21: -51 | D21: -0.018162393
A22: 25 Fabricació de productes metàl·lics, excepte maquinària i equips | B22: 462 | C22: -24 | D22: -0.049382716
A23: 85 Educació | B23: 629 | C23: -17 | D23: -0.026315789
A24: 28 Fabricació de maquinària i equips ncaa | B24: 161 | C24: -10 | D24: -0.058479532
A25: 33 Reparació i instal·lació de maquinària i equips | B25: 177 | C25: -10 | D25: -0.053475936
A26: 20 Indústries químiques | B26: 97 | C26: -9 | D26: -0.08490566
A27: 74 Altres activitats professionals, científiques i tècniques | B27: 135 | C27: -9 | D27: -0.0625
A28: 97 Activitats de les llars que donen ocupació a personal domèstic | B28: 79 | C28: -6 | D28: -0.070588235
A29: 43 Activitats especialitzades de la construcció | B29: 1476 | C29: -5 | D29: -0.0033760972
A30: 18 Arts gràfiques i reproducció de suports enregistrats | B30: 163 | C30: -4 | D30: -0.023952096
A32: Les dades de 2021 provenen d'Idescat, a partir dels fitxers d'afiliacions i comptes de cotització de la Tresoreria General de la Seguretat Social. Dades provisionals.

Sheet DIN_Empreses
A1: Fet! | G1: 0.003 | M1: variació | Q1: quan ordenis, millor copiïs les cel·les calculades abans
B3: 2022 | C3: 20.22 | D3: 2021 | H3: 2022 | I3: 20.22 | J3: 2021 | N3: 2022 | O3: 20.22 | P3: 2021 | Q3: var absoluta | R3: var relativa
A4: 1- Agricultura, ramaderia, caça i activitats dels serveis que s'hi relacionen | B4: 25 | C4: 0.0011900228 | D4: 27 | G4: 10- Indústries de productes alimentaris | H4: 181 | I4: 0.0086157654 | J4: 181 | M4: 10- Indústries de productes alimentaris | N4: 2987 | O4: 0.14218393 | P4: 3055 | Q4: -68 | R4: -0.022258592
A5: 2- Silvicultura i explotació forestal | B5: 10 | C5: 0.00047600914 | D5: 8 | G5: 16- Indústria de la fusta i del suro, excepte mobles; cistelleria i esparteria | H5: 67 | I5: 0.0031892612 | J5: 69 | M5: 16- Indústria de la fusta i del suro, excepte mobles; cistelleria i esparteria | N5: 1534 | O5: 0.073019802 | P5: 1560 | Q5: -26 | R5: -0.016666667
A6: 3- Pesca i aqüicultura | B6: 0 | C6: 0 | D6: .. | G6: 18- Arts gràfiques i reproducció de suports enregistrats | H6: 184 | I6: 0.0087585682 | J6: 186 | M6: 18- Arts gràfiques i reproducció de suports enregistrats | N6: 598 | O6: 0.028465347 | P6: 614 | Q6: -16 | R6: -0.026058632
A7: 5- Extracció d'antracita, hulla i lignit | B7: 0 | C7: 0 | G7: 20- Indústries químiques | H7: 110 | I7: 0.0052361005 | J7: 116 | M7: 20- Indústries químiques | N7: 1969 | O7: 0.0937262 | P7: 1985 | Q7: -16 | R7: -0.0080604534
A8: 6- Extracció de petroli brut i de gas natural | B8: 0 | C8: 0 | G8: 22- Fabricació de productes de cautxú i matèries plàstiques | H8: 124 | I8: 0.0059025133 | J8: 125 | M8: 22- Fabricació de productes de cautxú i matèries plàstiques | N8: 860 | O8: 0.040936786 | P8: 869 | Q8: -9 | R8: -0.010356732
A9: 7- Extracció de minerals metàl·lics | B9: 0 | C9: 0 | D9: 0 | G9: 23- Fabricació d'altres productes minerals no metàl·lics | H9: 64 | I9: 0.0030464585 | J9: 64 | M9: 23- Fabricació d'altres productes minerals no metàl·lics | N9: 328 | O9: 0.0156131 | P9: 337 | Q9: -9 | R9: -0.026706231
A10: 8- Extracció de minerals no metàl·lics ni energètics | B10: 12 | C10: 0.00057121097 | D10: 12 | G10: 25- Fabricació de productes metàl·lics, excepte maquinària i equips | H10: 516 | I10: 0.024562072 | J10: 521 | M10: 25- Fabricació de productes metàl·lics, excepte maquinària i equips | N10: 98 | O10: 0.0046648896 | P10: 105 | Q10: -7 | R10: -0.066666667
A11: 9- Activitats de suport a les indústries extractives | B11: 0 | C11: 0 | D11: 0 | G11: 28- Fabricació de maquinària i equips ncaa | H11: 177 | I11: 0.0084253618 | J11: 180 | M11: 28- Fabricació de maquinària i equips ncaa | N11: 110 | O11: 0.0052361005 | P11: 116 | Q11: -6 | R11: -0.051724138
A12: 10- Indústries de productes alimentaris | B12: 181 | C12: 0.0086157654 | D12: 181 | G12: 31- Fabricació de mobles | H12: 88 | I12: 0.0041888804 | J12: 90 | M12: 31- Fabricació de mobles | N12: 169 | O12: 0.0080445545 | P12: 175 | Q12: -6 | R12: -0.034285714
A13: 11- Fabricació de begudes | B13: 18 | C13: 0.00085681645 | D13: 15 | G13: 32- Indústries manufactureres diverses | H13: 71 | I13: 0.0033796649 | J13: 72 | M13: 32- Indústries manufactureres diverses | N13: 516 | O13: 0.024562072 | P13: 521 | Q13: -5 | R13: -0.009596929
A14: 12- Indústries del tabac | B14: 0 | C14: 0 | G14: 33- Reparació i instal·lació de maquinària i equips | H14: 177 | I14: 0.0084253618 | J14: 174 | M14: 33- Reparació i instal·lació de maquinària i equips | N14: 160 | O14: 0.0076161462 | P14: 164 | Q14: -4 | R14: -0.024390244
A15: 13- Indústries tèxtils | B15: 51 | C15: 0.0024276466 | D15: 58 | G15: 41- Construcció d'immobles | H15: 860 | I15: 0.040936786 | J15: 869 | M15: 41- Construcció d'immobles | N15: 236 | O15: 0.011233816 | P15: 240 | Q15: -4 | R15: -0.016666667
A16: 14- Confecció de peces de vestir | B16: 52 | C16: 0.0024752475 | D16: 59 | G16: 42- Construcció d'obres d'enginyeria civil | H16: 72 | I16: 0.0034272658 | J16: 74 | M16: 42- Construcció d'obres d'enginyeria civil | N16: 177 | O16: 0.0084253618 | P16: 180 | Q16: -3 | R16: -0.016666667
A17: 15- Indústria del cuir i del calçat | B17: 4 | C17: 0.00019040366 | D17: 6 | G17: 43- Activitats especialitzades de la construcció | H17: 1534 | I17: 0.073019802 | J17: 1560 | M17: 43- Activitats especialitzades de la construcció | N17: 467 | O17: 0.022229627 | P17: 470 | Q17: -3 | R17: -0.0063829787
A18: 16- Indústria de la fusta i del suro, excepte mobles; cistelleria i esparteria | B18: 67 | C18: 0.0031892612 | D18: 69 | G18: 45- Venda i reparació de vehicles de motor i motocicletes | H18: 598 | I18: 0.028465347 | J18: 614 | M18: 45- Venda i reparació de vehicles de motor i motocicletes | N18: 100 | O18: 0.0047600914 | P18: 103 | Q18: -3 | R18: -0.029126214
A19: 17- Indústries del paper | B19: 46 | C19: 0.002189642 | D19: 46 | G19: 46- Comerç a l'engròs i intermediaris del comerç, excepte vehicles de motor i motocicletes | H19: 1969 | I19: 0.0937262 | J19: 1985 | M19: 46- Comerç a l'engròs i intermediaris del comerç, excepte vehicles de motor i motocicletes | N19: 67 | O19: 0.0031892612 | P19: 69 | Q19: -2 | R19: -0.028985507
A20: 18- Arts gràfiques i reproducció de suports enregistrats | B20: 184 | C20: 0.0087585682 | D20: 186 | G20: 47- Comerç al detall, excepte el comerç de vehicles de motor i motocicletes | H20: 2987 | I20: 0.14218393 | J20: 3055 | M20: 47- Comerç al detall, excepte el comerç de vehicles de motor i motocicletes | N20: 184 | O20: 0.0087585682 | P20: 186 | Q20: -2 | R20: -0.010752688
A21: 19- Coqueries i refinació del petroli | B21: 0 | C21: 0 | D21: 0 | G21: 49- Transport terrestre; transport per canonades | H21: 1037 | I21: 0.049362148 | J21: 1014 | M21: 49- Transport terrestre; transport per canonades | N21: 88 | O21: 0.0041888804 | P21: 90 | Q21: -2 | R21: -0.022222222
A22: 20- Indústries químiques | B22: 110 | C22: 0.0052361005 | D22: 116 | G22: 52- Emmagatzematge i activitats afins al transport | H22: 312 | I22: 0.014851485 | J22: 313 | M22: 52- Emmagatzematge i activitats afins al transport | N22: 72 | O22: 0.0034272658 | P22: 74 | Q22: -2 | R22: -0.027027027
A23: 21- Fabricació de productes farmacèutics | B23: 19 | C23: 0.00090441736 | D23: 19 | G23: 53- Activitats postals i de correus | H23: 71 | I23: 0.0033796649 | J23: 66 | M23: 53- Activitats postals i de correus | N23: 257 | O23: 0.012233435 | P23: 259 | Q23: -2 | R23: -0.0077220077
A24: 22- Fabricació de productes de cautxú i matèries plàstiques | B24: 124 | C24: 0.0059025133 | D24: 125 | G24: 55- Serveis d'allotjament | H24: 82 | I24: 0.0039032749 | J24: 81 | M24: 55- Serveis d'allotjament | N24: 75 | O24: 0.0035700685 | P24: 77 | Q24: -2 | R24: -0.025974026
A25: 23- Fabricació d'altres productes minerals no metàl·lics | B25: 64 | C25: 0.0030464585 | D25: 64 | G25: 56- Serveis de menjar i begudes | H25: 2098 | I25: 0.099866717 | J25: 2047 | M25: 56- Serveis de menjar i begudes | N25: 124 | O25: 0.0059025133 | P25: 125 | Q25: -1 | R25: -0.008
A26: 24- Metal·lúrgia; fabricació de productes bàsics de ferro, acer i ferroaliatges | B26: 38 | C26: 0.0018088347 | D26: 40 | G26: 62- Serveis de tecnologies de la informació | H26: 257 | I26: 0.012233435 | J26: 259 | M26: 62- Serveis de tecnologies de la informació | N26: 71 | O26: 0.0033796649 | P26: 72 | Q26: -1 | R26: -0.013888889
... A39: 38- Activitats de recollida, tractament i eliminació de residus; activitats de valorització | B39: 54 | C39: 0.0025704494 | D39: 51 | G39: 85- Educació | H39: 578 | I39: 0.027513328 | J39: 577 | M39: 85- Educació | N39: 396 | O39: 0.018849962 | P39: 389 | Q39: 7 | R39: 0.017994859
A40: 39- Activitats de descontaminació i altres serveis de gestió de residus | B40: 2 | C40: 9.5201828e-05 | D40: .. | G40: 86- Activitats sanitàries | H40: 557 | I40: 0.026513709 | J40: 539 | M40: 86- Activitats sanitàries | N40: 135 | O40: 0.0064261234 | P40: 123 | Q40: 12 | R40: 0.097560976
A41: 41- Construcció d'immobles | B41: 860 | C41: 0.040936786 | D41: 869 | G41: 87- Activitats de serveis socials amb allotjament | H41: 100 | I41: 0.0047600914 | J41: 103 | M41: 87- Activitats de serveis socials amb allotjament | N41: 201 | O41: 0.0095677837 | P41: 189 | Q41: 12 | R41: 0.063492063
A42: 42- Construcció d'obres d'enginyeria civil | B42: 72 | C42: 0.0034272658 | D42: 74 | G42: 88- Activitats de serveis socials sense allotjament | H42: 77 | I42: 0.0036652704 | J42: 74 | M42: 88- Activitats de serveis socials sense allotjament | N42: 318 | O42: 0.015137091 | P42: 300 | Q42: 18 | R42: 0.06
A43: 43- Activitats especialitzades de la construcció | B43: 1534 | C43: 0.073019802 | D43: 1560 | G43: 93- Activitats esportives, recreatives i d'entreteniment | H43: 396 | I43: 0.018849962 | J43: 389 | M43: 93- Activitats esportives, recreatives i d'entreteniment | N43: 557 | O43: 0.026513709 | P43: 539 | Q43: 18 | R43: 0.033395176
A44: 45- Venda i reparació de vehicles de motor i motocicletes | B44: 598 | C44: 0.028465347 | D44: 614 | G44: 94- Activitats associatives | H44: 201 | I44: 0.0095677837 | J44: 189 | M44: 94- Activitats associatives | N44: 1037 | O44: 0.049362148 | P44: 1014 | Q44: 23 | R44: 0.022682446
A45: 46- Comerç a l'engròs i intermediaris del comerç, excepte vehicles de motor i motocicletes | B45: 1969 | C45: 0.0937262 | D45: 1985 | G45: 95- Reparació d'ordinadors, d'efectes personals i efectes domèstics | H45: 88 | I45: 0.0041888804 | J45: 87 | M45: 95- Reparació d'ordinadors, d'efectes personals i efectes domèstics | N45: 867 | O45: 0.041269992 | P45: 839 | Q45: 28 | R45: 0.033373063
A46: 47- Comerç al detall, excepte el comerç de vehicles de motor i motocicletes | B46: 2987 | C46: 0.14218393 | D46: 3055 | G46: 96- Altres activitats de serveis personals | H46: 867 | I46: 0.041269992 | J46: 839 | M46: 96- Altres activitats de serveis personals | N46: 689 | O46: 0.03279703 | P46: 660 | Q46: 29 | R46: 0.043939394
A47: 49- Transport terrestre; transport per canonades | B47: 1037 | C47: 0.049362148 | D47: 1014 | G47: 97- Activitats de les llars que donen ocupació a personal domèstic | H47: 98 | I47: 0.0046648896 | J47: 105 | M47: 97- Activitats de les llars que donen ocupació a personal domèstic | N47: 2098 | O47: 0.099866717 | P47: 2047 | Q47: 51 | R47: 0.024914509
A48: 50- Transport marítim i per vies de navegació interiors | B48: 1 | C48: 4.7600914e-05 | D48: .. | G48: Total | H48: 21008 | I48: 1 | J48: 20952 | M48: Total | N48: 21008 | O48: 1 | P48: 20952 | Q48: 56 | R48: 0.0026727759
A49: 51- Transport aeri | B49: 27 | C49: 0.0012852247 | D49: 21
A50: 52- Emmagatzematge i activitats afins al transport | B50: 312 | C50: 0.014851485 | D50: 313
A51: 53- Activitats postals i de correus | B51: 71 | C51: 0.0033796649 | D51: 66
A52: 55- Serveis d'allotjament | B52: 82 | C52: 0.0039032749 | D52: 81
A53: 56- Serveis de menjar i begudes | B53: 2098 | C53: 0.099866717 | D53: 2047
A54: 58- Edició | B54: 35 | C54: 0.001666032 | D54: 39
A55: 59- Activitats de cinematografia, de vídeo i de programes de televisió; activitats d'enregistrament de so i edició musical | B55: 61 | C55: 0.0029036558 | D55: 42
A56: 60- Activitats d'emissió i programació de ràdio i televisió | B56: 7 | C56: 0.0003332064 | D56: 6
A57: 61- Telecomunicacions | B57: 40 | C57: 0.0019040366 | D57: 43
A58: 62- Serveis de tecnologies de la informació | B58: 257 | C58: 0.012233435 | D58: 259
A59: 63- Serveis d'informació | B59: 55 | C59: 0.0026180503 | D59: 52
A60: 64- Mediació financera, excepte assegurances i fons de pensions | B60: 54 | C60: 0.0025704494 | D60: 52
... A89: 97- Activitats de les llars que donen ocupació a personal domèstic | B89: 98 | C89: 0.0046648896 | D89: 105
A90: 98- Activitats de les llars que produeixen béns i serveis per a ús propi | B90: 0 | C90: 0
A91: 99- Organismes extraterritorials | B91: 1 | C91: 4.7600914e-05 | D91: ..
A92: Total | B92: 21008 | C92: 1 | D92: 20952

Sheet TE3
A1: TORNAR A L'ÍNDEX | B1: Fet!
A3: EMPRESES
A5: =Índex!A18 -> GE2 | C5: =Índex!A7 -> 3r trimestre 2025
A6: =Índex!B18 -> Variació interanual comptes de cotització. Baix Llobregat.
B8: Empreses | C8: % Baix Llobregat | D8: variació relativa (en %)
B9: Empreses | D9: 2024 | E9: 2019 | F9: 2008
A10: Abrera | B10: 375 | C10: 0.017964072 | D10: -0.028497409 | E10: -0.11764706 | F10: -0.089805825
A11: Begues | B11: 135 | C11: 0.0064670659 | D11: -0.02173913 | E11: -0.0625 | F11: -0.14556962
A12: Castelldefels | B12: 1776 | C12: 0.085077844 | D12: -0.006155568 | E12: -0.0039259675 | F12: -0.0078212291
A13: Castellví de Rosanes | B13: 68 | C13: 0.003257485 | D13: 0.0625 | E13: 0.046153846 | F13: -0.26086957
A14: Cervelló | B14: 238 | C14: 0.011401198 | D14: -0.0083333333 | E14: -0.036437247 | F14: 0.043859649
A15: Collbató | B15: 82 | C15: 0.0039281437 | D15: 0.012345679 | E15: -0.12765957 | F15: -0.068181818
A16: Corbera de Llobregat | B16: 259 | C16: 0.012407186 | D16: 0.019685039 | E16: 0.1719457 | F16: -0.11604096
A17: Cornellà de Llobregat | B17: 2461 | C17: 0.11789222 | D17: 0.014009065 | E17: -0.013627255 | F17: -0.059610241
A18: Esparreguera | B18: 554 | C18: 0.026538922 | D18: -0.019469027 | E18: -0.044827586 | F18: -0.17065868
A19: Esplugues de Llobregat | B19: 1147 | C19: 0.054946108 | D19: -0.011206897 | E19: -0.081665332 | F19: -0.21599453
A20: Gavà | B20: 1246 | C20: 0.059688623 | D20: 0.00080321285 | E20: -0.080442804 | F20: -0.14948805
A21: Martorell | B21: 737 | C21: 0.035305389 | D21: 0.015151515 | E21: -0.077596996 | F21: -0.10990338
... A40: Baix Llobregat | B40: 20875 | C40: 1 | D40: 0.0031717046 | E40: -0.053030303 | F40: -0.10622538
A42: Les dades de 2021 provenen d'Idescat, a partir dels fitxers d'afiliacions i comptes de cotització de la Tresoreria General de la Seguretat Social. Dades provisionals.
B44: empreses
B45: 2023 | C45: 2022 | D45: 2021 | E45: 2008
A46: Abrera | B46: 387 | C46: 395 | D46: 397 | E46: 418
A47: Begues | B47: 146 | C47: 144 | D47: 135 | E47: 160
A48: Castelldefels | B48: 1723 | C48: 1724 | D48: 1672 | E48: 1863
A49: Castellví de Rosanes | B49: 66 | C49: 62 | D49: 56 | E49: 96
A50: Cervelló | B50: 247 | C50: 241 | D50: 239 | E50: 232
A51: Collbató | B51: 80 | C51: 84 | D51: 84 | E51: 92
A52: Corbera de Llobregat | B52: 239 | C52: 233 | D52: 218 | E52: 291
A53: Cornellà de Llobregat | B53: 2372 | C53: 2383 | D53: 2365 | E53: 2675
A54: Esparreguera | B54: 565 | C54: 567 | D54: 550 | E54: 689
A55: Esplugues de Llobregat | B55: 1180 | C55: 1214 | D55: 1167 | E55: 1500
A56: Gavà | B56: 1242 | C56: 1257 | D56: 1250 | E56: 1500
A57: Martorell | B57: 735 | C57: 725 | D57: 713 | E57: 865
... A76: Baix Llobregat | B76: 20800 | C76: 21012 | D76: 20631 | E76: 24035
A78: Zona | B78: 2023 1T | C78: 2022 1T | D78: 2021 1T | E78: 2008 1T | F78: 2008-2023 | G78: 2019-2023 | H78: 2020-2023 | I78: 2021-2023 | J78: 2022-2023 | K78: Zona Centre: Cornellà de Llobregat, Esplugues de Llobregat, Sant Joan Despí, Sant Feliu de Llobregat i Sant Just Desvern.
A79: Centre | B79: =+B53+B57+B69+B70+B68 -> 5655 | C79: =+C53+C57+C69+C70+C68 -> 5697 | D79: =+D53+D57+D69+D70+D68 -> 5661 | E79: =+E53+E57+E69+E70+E68 -> 6440 | F79: =($B79-E79)/E79 -> -0.12189441 | G79: =($B79-#REF!)/#REF! -> #REF! | H79: =($B79-#REF!)/#REF! -> #REF! | I79: =($B79-D79)/D79 -> -0.0010598834 | J79: =($B79-C79)/C79 -> -0.0073723012 | K79: Zona Delta: Begues, Castelldefels, El Prat de Llobregat, Gavà, Sant Boi de Llobregat, Sant Climent de Llobregat i Viladecans.
A80: Delta | B80: =+B47+B48+B55+B58+B65+B66+B75 -> 7264 | C80: =+C47+C48+C55+C58+C65+C66+C75 -> 7364 | D80: =+D47+D48+D55+D58+D65+D66+D75 -> 7170 | E80: =+E47+E48+E55+E58+E65+E66+E75 -> 8466 | F80: =($B80-E80)/E80 -> -0.14197968 | G80: =($B80-#REF!)/#REF! -> #REF! | H80: =($B80-#REF!)/#REF! -> #REF! | I80: =($B80-D80)/D80 -> 0.013110181 | J80: =($B80-C80)/C80 -> -0.013579576 | K80: Zona Nord: Abrera, Castellví de Rosanes, Collbató, Esparreguera, Martorell, Olesa de Montserrat, Sant Andreu de la Barca i Sant Esteve Sesrovires.
A81: Nord | B81: =+B46+B49+B51+B56+B60+B62+B67+B64 -> 3316 | C81: =+C46+C49+C51+C56+C60+C62+C67+C64 -> 3366 | D81: =+D46+D49+D51+D56+D60+D62+D67+D64 -> 3335 | E81: =+E46+E49+E51+E56+E60+E62+E67+E64 -> 3805 | F81: =($B81-E81)/E81 -> -0.12851511 | G81: =($B81-#REF!)/#REF! -> #REF! | H81: =($B81-#REF!)/#REF! -> #REF! | I81: =($B81-D81)/D81 -> -0.0056971514 | J81: =($B81-C81)/C81 -> -0.014854427 | K81: Zona Vall Baixa: Cervelló, Corbera de Llobregat, El Papiol, La Palma de Cervelló, Molins de Rei, Pallejà, Sant Vicenç dels Horts, Santa Coloma de Cervelló, Torrelles de Llobregat i Vallirana.
A82: Vall Baixa | B82: =+B50+B52+B54+B59+B61+B63+B71+B72+B73+B74 -> 4565 | C82: =+C50+C52+C54+C59+C61+C63+C71+C72+C73+C74 -> 4585 | D82: =+D50+D52+D54+D59+D61+D63+D71+D72+D73+D74 -> 4465 | E82: =+E50+E52+E54+E59+E61+E63+E71+E72+E73+E74 -> 5324 | F82: =($B82-E82)/E82 -> -0.14256198 | G82: =($B82-#REF!)/#REF! -> #REF! | H82: =($B82-#REF!)/#REF! -> #REF! | I82: =($B82-D82)/D82 -> 0.022396417 | J82: =($B82-C82)/C82 -> -0.0043620502
A83: Total | B83: =SUM(B79:B82) -> 20800 | C83: =SUM(C79:C82) -> 21012 | D83: =SUM(D79:D82) -> 20631 | E83: =SUM(E79:E82) -> 24035 | F83: =($B83-E83)/E83 -> -0.13459538 | G83: =($B83-#REF!)/#REF! -> #REF! | H83: =($B83-#REF!)/#REF! -> #REF! | I83: =($B83-D83)/D83 -> 0.0081915564 | J83: =($B83-C83)/C83 -> -0.010089473

Sheet GRGSS1
A1: TORNAR A L'ÍNDEX | B1: Fet!
A3: LLOCS DE TREBALL. RÈGIM GENERAL SEGURETAT SOCIAL
A5: GRGSS1 | C5: =Índex!A7 -> 3r trimestre 2025
A6: Llocs de treball del RGSS segons àmbit territorial.
A29: Les dades de 2021 provenen d'Idescat, a partir dels fitxers d'afiliacions i comptes de cotització de la Tresoreria General de la Seguretat Social. Dades provisionals.
B31: RGSS | C31: variació 2025-2024 | D31: variació 2025-2019 | E31: variació 2025-2008
A32: Baix Llobregat | B32: 315170 | C32: 0.027968493 | D32: 0.17531894 | E32: 0.28959794
A33: Àrea Metropolitana de Barcelona | B33: 1689280 | C33: 0.02397362 | D33: 0.1327483 | E33: 0.20450262
A34: Àmbit Territorial Metropolità | B34: 2196885 | C34: 0.020162854 | D34: 0.13363273 | E34: 0.14988972
A35: Catalunya | B35: 3176145 | C35: 0.020100785 | D35: 0.13840731 | E35: 0.18599344

Sheet GRGSS2
A1: TORNAR A L'ÍNDEX | B1: Fet!
A3: LLOCS DE TREBALL. RÈGIM GENERAL SEGURETAT SOCIAL.
A5: GRGSS2 | C5: =Índex!A7 -> 3r trimestre 2025
A6: =Índex!B28 -> Variació interanual llocs de treball assalariat. Baix Llobregat.
A29: Les dades de 2021 provenen d'Idescat, a partir dels fitxers d'afiliacions i comptes de cotització de la Tresoreria General de la Seguretat Social. Dades provisionals.
B31: Llocs de treball RGSS | C31: Variació interanual
A32: 2016 | B32: 233221 | C32: =(B32-B42)/B42 -> 0.080732534
A33: 2017 | B33: 249925 | C33: =(B33-B32)/B32 -> 0.071623053
A34: 2018 | B34: 260939 | C34: =(B34-B33)/B33 -> 0.044069221 | D34: =B34-B33 -> 11014
A35: 2019 | B35: 268157 | C35: =(B35-B34)/B34 -> 0.027661637
A36: 2020 | B36: 270711 | C36: =(B36-B35)/B35 -> 0.0095242712
A37: 2021 | B37: 276925 | C37: =(B37-B36)/B36 -> 0.022954368
A38: 2022 | B38: 291125 | C38: =(B38-B37)/B37 -> 0.051277422
A39: 2023 | B39: 303050 | C39: =(B39-B38)/B38 -> 0.040961786
A40: 2024 | B40: 306595 | C40: =(B40-B39)/B39 -> 0.01169774
A41: 2025 | B41: 315170 | C41: =(B41-B40)/B40 -> 0.027968493
A42: 2015 | B42: 215799

Sheet GRGSS3
A1: TORNAR A L'ÍNDEX | B1: Fet!
A3: LLOCS DE TREBALL. RÈGIM GENERAL SEGURETAT SOCIAL
A5: GRGSS3 | C5: =Índex!A7 -> 3r trimestre 2025
A6: Llocs de treball del RGSS per grandària del compte de cotització
A29: Les dades de 2021 provenen d'Idescat, a partir dels fitxers d'afiliacions i comptes de cotització de la Tresoreria General de la Seguretat Social. Dades provisionals.
B31: variació 2025-2024 | C31: variació 2025-2019 | D31: variació 2025-2008
A32: Fins a 50 treballadors | B32: 0.006382532 | C32: 0.017853958 | D32: -0.04711355
A33: De 51 a 250 treballadors | B33: 0.028077228 | C33: 0.2044754 | D33: 0.24291289
A34: 251 i més treballadors | B34: 0.052267122 | C34: 0.38055058 | D34: 1.1867177
A35: Total | B35: 0.027968493 | C35: 0.17531894 | D35: 0.28959794

Sheet TRGSS1
A1: TORNAR A L'ÍNDEX | C1: Fet!
A3: LLOCS DE TREBALL. RÈGIM GENERAL SEGURETAT SOCIAL.
A5: =Índex!A30 -> TRGSS1 | C5: =Índex!A7 -> 3r trimestre 2025
A6: =Índex!B30 -> Activitats econòmiques més rellevants. Baix Llobregat.
D8: Variació
B9: 2025 | C9: %total | D9: 2024-2025 | E9: 2019-2025 | F9: 2008-2025
A10: Total | B10: 315170 | C10: 1 | D10: 0.027968493 | E10: 0.17531894 | F10: 0.28959794
A11: 46 Comerç a l'engròs i intermediaris del comerç, excepte vehicles de motor i motocicletes | B11: 31020 | C11: 0.098423073 | D11: 0.038847957 | E11: 0.13793103 | F11: 0.20667522
A12: 47 Comerç al detall, excepte el comerç de vehicles de motor i motocicletes | B12: 25390 | C12: 0.080559698 | D12: 0.0025666338 | E12: 0.16918401 | F12: 0.32019551
A13: 85 Educació | B13: 20755 | C13: 0.065853349 | D13: 0.056771894 | E13: 0.82734636 | F13: 1.5018081
A14: 56 Serveis de menjar i begudes | B14: 17685 | C14: 0.056112574 | D14: 0.0091298146 | E14: 0.081254585 | F14: 0.33501925
A15: 52 Emmagatzematge i activitats afins al transport | B15: 16600 | C15: 0.052669988 | D15: 0.05229794 | E15: 0.40940737 | F15: 0.91200184
A16: 81 Serveis a edificis i activitats de jardineria | B16: 13880 | C16: 0.044039725 | D16: 0.036981696 | E16: 0.36211973 | F16: 0.98087627
A17: 43 Activitats especialitzades de la construcció | B17: 13120 | C17: 0.041628328 | D17: 0.020217729 | E17: 0.061832308 | F17: -0.2063396
A18: 86 Activitats sanitàries | B18: 10460 | C18: 0.033188438 | D18: 0.023984337 | E18: 0.17501685 | F18: 0.65637371
A19: 84 Administració pública, Defensa i Seguretat Social obligatòria | B19: 10355 | C19: 0.032855284 | D19: 0.048607595 | E19: -0.29051045 | F19: 0.12127775
A20: 49 Transport terrestre; transport per canonades | B20: 8805 | C20: 0.027937304 | D20: 0.18665768 | E20: 0.20008178 | F20: 0.12855678
A23: Les dades de 2022 i 2021 provenen d'Idescat, a partir dels fitxers d'afiliacions i comptes de cotització de la Tresoreria General de la Seguretat Social. Dades provisionals.

Sheet TRGSS2
A1: TORNAR A L'ÍNDEX | B1: Fet!
A3: =TRGSS1!A3 -> LLOCS DE TREBALL. RÈGIM GENERAL SEGURETAT SOCIAL.
A5: =Índex!A31 -> TRGSS2 | C5: =Índex!A7 -> 3r trimestre 2025
A6: =Índex!B31 -> Dinamisme llocs de treball.
A7: ACTIVITATS QUE MÉS HAN AUGMENTAT L'AFILIACIÓ | B7: n | C7: Variació anual
C8: n | D8: %
A9: 49- Transport terrestre; transport per canonades | B9: 8805 | C9: 1385 | D9: 0.18665768
A10: 46- Comerç a l'engròs i intermediaris del comerç, excepte vehicles de motor i motocicletes | B10: 31020 | C10: 1160 | D10: 0.038847957
A11: 85- Educació | B11: 20755 | C11: 1115 | D11: 0.056771894
A12: 52- Emmagatzematge i activitats afins al transport | B12: 16600 | C12: 825 | D12: 0.05229794
A13: 72- Recerca i desenvolupament | B13: 2140 | C13: 550 | D13: 0.34591195
A14: 81- Serveis a edificis i activitats de jardineria | B14: 13880 | C14: 495 | D14: 0.036981696
A15: 84- Administració pública, Defensa i Seguretat Social obligatòria | B15: 10355 | C15: 480 | D15: 0.048607595
A16: 51- Transport aeri | B16: 5890 | C16: 340 | D16: 0.061261261
A17: 80- Activitats de seguretat i investigació | B17: 7610 | C17: 335 | D17: 0.04604811
A18: 88- Activitats de serveis socials sense allotjament | B18: 7225 | C18: 335 | D18: 0.04862119
A19: ACTIVITATS QUE MÉS HAN DISMINUÏT L'AFILIACIÓ | B19: n | C19: Variació anual
C20: n | D20: %
A21: 20- Indústries químiques | B21: 4415 | C21: -215 | D21: -0.046436285
A22: 10- Indústries de productes alimentaris | B22: 5465 | C22: -200 | D22: -0.035304501
A23: 59- Activitats de cinematografia, de vídeo i de programes de televisió; activitats d'enregistrament de so i edició musical | B23: 855 | C23: -145 | D23: -0.145
A24: 27- Fabricació de materials i equips elèctrics | B24: 2170 | C24: -135 | D24: -0.05856833
A25: 74- Altres activitats professionals, científiques i tècniques | B25: 1325 | C25: -105 | D25: -0.073426573
A26: 18- Arts gràfiques i reproducció de suports enregistrats | B26: 2885 | C26: -95 | D26: -0.031879195
A27: 28- Fabricació de maquinària i equips ncaa | B27: 3485 | C27: -95 | D27: -0.026536313
A28: 53- Activitats postals i de correus | B28: 1210 | C28: -85 | D28: -0.065637066
A29: 68- Activitats immobiliàries | B29: 2095 | C29: -80 | D29: -0.036781609
A30: 25- Fabricació de productes metàl·lics, excepte maquinària i equips | B30: 6965 | C30: -70 | D30: -0.0099502488
A33: Les dades de 2022 i 2021 provenen d'Idescat, a partir dels fitxers d'afiliacions i comptes de cotització de la Tresoreria General de la Seguretat Social. Dades provisionals.

Sheet DIN_RGSS
G1: 0.003 | M1: variació | Q1: quan ordenis, millor copiïs les cel·les calculades abans
B3: 2022 | C3: 20.22 | D3: 2021 | H3: 2022 | I3: 20.22 | J3: 2021 | N3: 2022 | O3: 20.22 | P3: 2021 | Q3: var absoluta | R3: var relativa
A4: 1- Agricultura, ramaderia, caça i activitats dels serveis que s'hi relacionen | B4: 100 | C4: =B4/$B$92 -> 0.00035244154 | D4: 95 | G4: 10- Indústries de productes alimentaris | H4: 5795 | I4: 0.020423987 | J4: 5785 | M4: 88- Activitats de serveis socials sense allotjament | N4: 2675 | O4: 0.0094278112 | P4: 3115 | Q4: -440 | R4: -0.14125201
A5: 2- Silvicultura i explotació forestal | B5: 60 | C5: =B5/$B$92 -> 0.00021146492 | D5: 70 | G5: 11- Fabricació de begudes | H5: 1495 | I5: 0.005269001 | J5: 1405 | M5: 29- Fabricació de vehicles de motor, remolcs i semiremolcs | N5: 4435 | O5: 0.015630782 | P5: 4745 | Q5: -310 | R5: -0.065331928
A6: 3- Pesca i aqüicultura | B6: 0 | C6: =B6/$B$92 -> 0 | D6: 5 | G6: 17- Indústries del paper | H6: 1015 | I6: 0.0035772816 | J6: 930 | M6: 20- Indústries químiques | N6: 4660 | O6: 0.016423776 | P6: 4920 | Q6: -260 | R6: -0.052845528
A7: 5- Extracció d'antracita, hulla i lignit | B7: 0 | C7: =B7/$B$92 -> 0 | D7: 0 | G7: 18- Arts gràfiques i reproducció de suports enregistrats | H7: 3340 | I7: 0.011771547 | J7: 3180 | M7: 47- Comerç al detall, excepte el comerç de vehicles de motor i motocicletes | N7: 25895 | O7: 0.091264736 | P7: 26110 | Q7: -215 | R7: -0.008234393
A8: 6- Extracció de petroli brut i de gas natural | B8: 0 | C8: =B8/$B$92 -> 0 | D8: 0 | G8: 20- Indústries químiques | H8: 4660 | I8: 0.016423776 | J8: 4920 | M8: 53- Activitats postals i de correus | N8: 1185 | O8: 0.0041764322 | P8: 1360 | Q8: -175 | R8: -0.12867647
A9: 7- Extracció de minerals metàl·lics | B9: 0 | C9: =B9/$B$92 -> 0 | D9: 0 | G9: 21- Fabricació de productes farmacèutics | H9: 3240 | I9: 0.011419106 | J9: 3195 | M9: 68- Activitats immobiliàries | N9: 2395 | O9: 0.0084409749 | P9: 2470 | Q9: -75 | R9: -0.030364372
A10: 8- Extracció de minerals no metàl·lics ni energètics | B10: 140 | C10: =B10/$B$92 -> 0.00049341815 | D10: 130 | G10: 22- Fabricació de productes de cautxú i matèries plàstiques | H10: 2680 | I10: 0.0094454332 | J10: 2635 | M10: 45- Venda i reparació de vehicles de motor i motocicletes | N10: 4860 | O10: 0.017128659 | P10: 4900 | Q10: -40 | R10: -0.0081632653
A11: 9- Activitats de suport a les indústries extractives | B11: 0 | C11: =B11/$B$92 -> 0 | D11: 0 | G11: 23- Fabricació d'altres productes minerals no metàl·lics | H11: 1075 | I11: 0.0037887465 | J11: 995 | M11: 10- Indústries de productes alimentaris | N11: 5795 | O11: 0.020423987 | P11: 5785 | Q11: 10 | R11: 0.0017286085
A12: 10- Indústries de productes alimentaris | B12: 5795 | C12: =B12/$B$92 -> 0.020423987 | D12: 5785 | G12: 25- Fabricació de productes metàl·lics, excepte maquinària i equips | H12: 7145 | I12: 0.025181948 | J12: 7075 | M12: 21- Fabricació de productes farmacèutics | N12: 3240 | O12: 0.011419106 | P12: 3195 | Q12: 45 | R12: 0.014084507
A13: 11- Fabricació de begudes | B13: 1495 | C13: =B13/$B$92 -> 0.005269001 | D13: 1405 | G13: 26- Fabricació de productes informàtics, electrònics i òptics | H13: 950 | I13: 0.0033481946 | J13: 865 | M13: 22- Fabricació de productes de cautxú i matèries plàstiques | N13: 2680 | O13: 0.0094454332 | P13: 2635 | Q13: 45 | R13: 0.017077799
A14: 12- Indústries del tabac | B14: 0 | C14: =B14/$B$92 -> 0 | D14: 0 | G14: 27- Fabricació de materials i equips elèctrics | H14: 2630 | I14: 0.0092692125 | J14: 2260 | M14: 42- Construcció d'obres d'enginyeria civil | N14: 1425 | O14: 0.0050222919 | P14: 1380 | Q14: 45 | R14: 0.032608696
A15: 13- Indústries tèxtils | B15: 800 | C15: =B15/$B$92 -> 0.0028195323 | D15: 865 | G15: 28- Fabricació de maquinària i equips ncaa | H15: 3480 | I15: 0.012264966 | J15: 3360 | M15: 64- Mediació financera, excepte assegurances i fons de pensions | N15: 1550 | O15: 0.0054628439 | P15: 1495 | Q15: 55 | R15: 0.036789298
... A55: 59- Activitats de cinematografia, de vídeo i de programes de televisió; activitats d'enregistrament de so i edició musical | B55: 870 | C55: =B55/$B$92 -> 0.0030662414 | D55: 795 | G55: Total | H55: 283735 | I55: 1 | J55: 271720 | M55: Total | N55: 283735 | O55: 1 | P55: 271720 | Q55: 12015 | R55: 0.044218313
A56: 60- Activitats d'emissió i programació de ràdio i televisió | B56: 2340 | C56: =B56/$B$92 -> 0.008247132 | D56: 2250
A57: 61- Telecomunicacions | B57: 305 | C57: =B57/$B$92 -> 0.0010749467 | D57: 290
A58: 62- Serveis de tecnologies de la informació | B58: 5010 | C58: =B58/$B$92 -> 0.017657321 | D58: 4405
A59: 63- Serveis d'informació | B59: 425 | C59: =B59/$B$92 -> 0.0014978765 | D59: 690
A60: 64- Mediació financera, excepte assegurances i fons de pensions | B60: 1550 | C60: =B60/$B$92 -> 0.0054628439 | D60: 1495
A61: 65- Assegurances, reassegurances i fons de pensions, excepte la Seguretat Social obligatòria | B61: 475 | C61: =B61/$B$92 -> 0.0016740973 | D61: 505
A62: 66- Activitats auxiliars de la mediació financera i d'assegurances | B62: 525 | C62: =B62/$B$92 -> 0.0018503181 | D62: 540
A63: 68- Activitats immobiliàries | B63: 2395 | C63: =B63/$B$92 -> 0.0084409749 | D63: 2470
A64: 69- Activitats jurídiques i de comptabilitat | B64: 4410 | C64: =B64/$B$92 -> 0.015542672 | D64: 4245
A65: 70- Activitats de les seus centrals; activitats de consultoria de gestió empresarial | B65: 1265 | C65: =B65/$B$92 -> 0.0044583855 | D65: 1140
A66: 71- Serveis tècnics d'arquitectura i enginyeria; assajos i anàlisis tècnics | B66: 5875 | C66: =B66/$B$92 -> 0.02070594 | D66: 5590
A67: 72- Recerca i desenvolupament | B67: 1250 | C67: =B67/$B$92 -> 0.0044055192 | D67: 1110
... A92: Total | B92: 283735 | C92: =B92/$B$92 -> 1 | D92: 271720

Sheet TRGSS3
A1: TORNAR A L'ÍNDEX | B1: Fet!
A3: =TRGSS1!A3 -> LLOCS DE TREBALL. RÈGIM GENERAL SEGURETAT SOCIAL.
A5: =Índex!A32 -> TRGSS3 | C5: =Índex!A7 -> 3r trimestre 2025
A6: =Índex!B21 -> Dades municipals.
B8: Llocs de treball (RGSS) | C8: % Baix Llobregat | D8: variació relativa (en %)
B9: Empreses | D9: 2024 | E9: 2019 | F9: 2008
A10: Abrera | B10: 6245 | C10: 0.019815018 | D10: -0.037008481 | E10: -0.041295671 | F10: 0.0041807365
A11: Begues | B11: 625 | C11: 0.0019830882 | D11: -0.031007752 | E11: -0.014195584 | F11: -0.038461538
A12: Castelldefels | B12: 13470 | C12: 0.042739517 | D12: -0.0033296337 | E12: 0.14912131 | F12: 0.32945124
A13: Castellví de Rosanes | B13: 1140 | C13: 0.0036171529 | D13: -0.029787234 | E13: 0.16445352 | F13: 0.37349398
A14: Cervelló | B14: 2355 | C14: 0.0074722764 | D14: 0.0064102564 | E14: 0.066576087 | F14: 0.3312606
A15: Collbató | B15: 530 | C15: 0.0016816588 | D15: 0.04950495 | E15: 0.18040089 | F15: 0.025145068
A16: Corbera de Llobregat | B16: 1460 | C16: 0.0046324941 | D16: 0.020979021 | E16: 0.03988604 | F16: 0.13442113
A17: Cornellà de Llobregat | B17: 45960 | C17: 0.14582838 | D17: 0.042413246 | E17: 0.25969577 | F17: 0.52741775
A18: Esparreguera | B18: 5475 | C18: 0.017371853 | D18: 0.0027472527 | E18: 0.2080759 | F18: 0.075216025
A19: Esplugues de Llobregat | B19: 19170 | C19: 0.060825282 | D19: 0.021855011 | E19: 0.1386315 | F19: 0.13755044
A20: Gavà | B20: 14580 | C20: 0.046261482 | D20: 0.03772242 | E20: 0.14748938 | F20: 0.18739311
A21: Martorell | B21: 11135 | C21: 0.0353307 | D21: 0.049481621 | E21: 0.14900423 | F21: 0.030446048
... A40: Baix Llobregat | B40: 315165 | C40: 1 | D40: 0.027952184 | E40: 0.17530029 | F40: 0.28957749
A42: Les dades de 2021 provenen d'Idescat, a partir dels fitxers d'afiliacions i comptes de cotització de la Tresoreria General de la Seguretat Social. Dades provisionals.
A46: Zona | B46: 2022 2T | C46: 2021 2T | D46: 2020 2T | E46: 2008-2022 | F46: 2019-2022 | G46: 2020-2022 | H46: 2021-2022 | I46: Zona Centre: Cornellà de Llobregat, Esplugues de Llobregat, Sant Joan Despí, Sant Feliu de Llobregat i Sant Just Desvern.
A47: Centre | B47: 100805 | C47: 97150 | D47: 90475 | E47: 0.23092046 | F47: 0.10535434 | G47: 0.11417519 | H47: 0.037622234 | I47: Zona Delta: Begues, Castelldefels, El Prat de Llobregat, Gavà, Sant Boi de Llobregat, Sant Climent de Llobregat i Viladecans.
A48: Delta | B48: 116130 | C48: 109995 | D48: 103623 | E48: 0.23136465 | F48: 0.093544013 | G48: 0.12069714 | H48: 0.055775263 | I48: Zona Nord: Abrera, Castellví de Rosanes, Collbató, Esparreguera, Martorell, Olesa de Montserrat, Sant Andreu de la Barca i Sant Esteve Sesrovires.
A49: Nord | B49: 40990 | C49: 39210 | D49: 38073 | E49: -0.040294069 | F49: 0.040725131 | G49: 0.076615975 | H49: 0.045396583 | I49: Zona Vall Baixa: Cervelló, Corbera de Llobregat, El Papiol, La Palma de Cervelló, Molins de Rei, Pallejà, Sant Vicenç dels Horts, Santa Coloma de Cervelló, Torrelles de Llobregat i Vallirana.
A50: Vall Baixa | B50: 25810 | C50: 25365 | D50: 24319 | E50: -0.097457775 | F50: 0.028901734 | G50: 0.061310087 | H50: 0.01754386
A51: Total | B51: 283735 | C51: 271720 | D51: 256490 | E51: 0.14634846 | F51: 0.083520453 | G51: 0.10622246 | H51: 0.044218313

Sheet TRGSS4
A1: TORNAR A L'ÍNDEX
A3: =TRGSS1!A3 -> LLOCS DE TREBALL. RÈGIM GENERAL SEGURETAT SOCIAL.
A5: =Índex!A33 -> TRGSS4 | C5: =Índex!A7 -> 3r trimestre 2025
A6: =Índex!B33 -> Dades municipals. Llocs de treball assalariat per grandària del compte de cotització.
B8: Fins a 50 treballadors | C8: De 51 a 250 treballadors | D8: 251 i més treballadors | E8: % Baix Llobregat | H8: variació anual relativa (en %)
C9: De 51 a 250 treballadors | E9: Fins a 50 treballadors | F9: De 51 a 250 treballadors | G9: 251 i més treballadors | H9: Fins a 50 treballadors | I9: De 51 a 250 treballadors | J9: 251 i més treballadors
A10: Abrera | B10: 3055 | C10: 2420 | D10: 770 | E10: 0.025493387 | F10: 0.028672986 | G10: 0.0069413143 | H10: -0.019261637 | I10: -0.090225564 | J10: 0.084507042
A11: Begues | B11: 630 | C11: 0 | D11: 0 | E11: 0.0052572287 | F11: 0 | G11: 0 | H11: -0.023255814 | I11: - | J11: -
A12: Castelldefels | B12: 9000 | C12: 3045 | D12: 1425 | E12: 0.075103267 | F12: 0.036078199 | G12: 0.012845939 | H12: -0.0055248619 | I12: 0.081705151 | J12: -0.13897281
A13: Castellví de Rosanes | B13: 630 | C13: 55 | D13: 455 | E13: 0.0052572287 | F13: 0.00065165877 | G13: 0.0041016857 | H13: 0.05 | I13: 0 | J13: -0.125
A14: Cervelló | B14: 1445 | C14: 655 | D14: 255 | E14: 0.012058247 | F14: 0.0077606635 | G14: 0.002298747 | H14: 0.01048951 | I14: 0.0076923077 | J14: 0
A15: Collbató | B15: 530 | C15: 0 | D15: 0 | E15: 0.0044227479 | F15: 0 | G15: 0 | H15: 0.06 | I15: - | J15: -
A16: Corbera de Llobregat | B16: 1095 | C16: 365 | D16: 0 | E16: 0.0091375642 | F16: 0.0043246445 | G16: 0 | H16: -0.043668122 | I16: 0.28070175 | J16: -
A17: Cornellà de Llobregat | B17: 14550 | C17: 11020 | D17: 20385 | E17: 0.12141695 | F17: 0.13056872 | G17: 0.18376454 | H17: -0.010204082 | I17: -0.024347056 | J17: 0.12686567
A18: Esparreguera | B18: 3140 | C18: 1440 | D18: 900 | E18: 0.026202695 | F18: 0.017061611 | G18: 0.0081132246 | H18: -0.0094637224 | I18: 0.074626866 | J18: -0.052631579
A19: Esplugues de Llobregat | B19: 6035 | C19: 6080 | D19: 7050 | E19: 0.050360913 | F19: 0.072037915 | G19: 0.063553592 | H19: 0.0083542189 | I19: 0.055555556 | J19: 0.0049893086
A20: Gavà | B20: 7000 | C20: 6040 | D20: 1540 | E20: 0.058413652 | F20: 0.071563981 | G20: 0.013882629 | H20: 0.015965167 | I20: 0.069973428 | J20: 0.01986755
A21: Martorell | B21: 4145 | C21: 2700 | D21: 4290 | E21: 0.034589227 | F21: 0.031990521 | G21: 0.038673037 | H21: 0.014687882 | I21: 0.062992126 | J21: 0.076537014
A22: Molins de Rei | B22: 5055 | C22: 1970 | D22: 0 | E22: 0.042183002 | F22: 0.023341232 | G22: 0 | H22: -0.0029585799 | I22: 0.01025641 | J22: -
A23: Olesa de Montserrat | B23: 2365 | C23: 1540 | D23: 0 | E23: 0.01973547 | F23: 0.018246445 | G23: 0 | H23: -0.036659878 | I23: -0.022222222 | J23: -
A24: Pallejà | B24: 1690 | C24: 775 | D24: 280 | E24: 0.014102725 | F24: 0.0091824645 | G24: 0.0025241143 | H24: -0.0029498525 | I24: -0.11931818 | J24: -0.034482759
A25: La Palma de Cervelló | B25: 550 | C25: 0 | D25: 0 | E25: 0.0045896441 | F25: 0 | G25: 0 | H25: 0.11111111 | I25: - | J25: -
A26: El Papiol | B26: 1215 | C26: 465 | D26: 420 | E26: 0.010138941 | F26: 0.0055094787 | G26: 0.0037861715 | H26: 0.025316456 | I26: 0.081395349 | J26: 0.13513514
A27: El Prat de Llobregat | B27: 10260 | C27: 11300 | D27: 33290 | E27: 0.085617724 | F27: 0.13388626 | G27: 0.30009916 | H27: -0.0033997086 | I27: 0.05459636 | J27: 0.017420538
A28: Sant Andreu de la Barca | B28: 4600 | C28: 2540 | D28: 1970 | E28: 0.038386114 | F28: 0.030094787 | G28: 0.017758947 | H28: -0.021276596 | I28: 0.13392857 | J28: -0.10250569
A29: Sant Boi de Llobregat | B29: 11045 | C29: 7990 | D29: 6815 | E29: 0.092168398 | F29: 0.094668246 | G29: 0.061435139 | H29: 0.031760859 | I29: -0.027388923 | J29: 0.12644628
A30: Sant Climent de Llobregat | B30: 430 | C30: 60 | D30: 0 | E30: 0.0035882672 | F30: 0.00071090047 | G30: 0 | H30: 0.023809524 | I30: 0 | J30: -
A31: Sant Esteve Sesrovires | B31: 2145 | C31: 2245 | D31: 1275 | E31: 0.017899612 | F31: 0.026599526 | G31: 0.011493735 | H31: 0.0094117647 | I31: 0.097799511 | J31: -0.082733813
A32: Sant Feliu de Llobregat | B32: 5600 | C32: 4170 | D32: 7210 | E32: 0.046730922 | F32: 0.049407583 | G32: 0.064995943 | H32: 0.010830325 | I32: 0.076129032 | J32: 0.0090972708
A33: Sant Joan Despí | B33: 5185 | C33: 4075 | D33: 6555 | E33: 0.043267827 | F33: 0.048281991 | G33: 0.059091319 | H33: 0.048533873 | I33: -0.025119617 | J33: 0.10260723
A34: Sant Just Desvern | B34: 5220 | C34: 4765 | D34: 5780 | E34: 0.043559895 | F34: 0.056457346 | G34: 0.052104931 | H34: 0.03777336 | I34: -0.038345106 | J34: 0.19544984
A35: Sant Vicenç dels Horts | B35: 3160 | C35: 2895 | D35: 925 | E35: 0.026369592 | F35: 0.034300948 | G35: 0.0083385919 | H35: 0.036065574 | I35: 0 | J35: 0.057142857
A36: Santa Coloma de Cervelló | B36: 775 | C36: 630 | D36: 305 | E36: 0.0064672258 | F36: 0.007464455 | G36: 0.0027494817 | H36: -0.037267081 | I36: -0.073529412 | J36: -0.075757576
A37: Torrelles de Llobregat | B37: 530 | C37: 80 | D37: 0 | E37: 0.0044227479 | F37: 0.0009478673 | G37: 0 | H37: -0.027522936 | I37: 0 | J37: -
A38: Vallirana | B38: 1735 | C38: 85 | D38: 0 | E38: 0.014478241 | F38: 0.001007109 | G38: 0 | H38: 0.06116208 | I38: -0.37037037 | J38: -
A39: Viladecans | B39: 7010 | C39: 4990 | D39: 9030 | E39: 0.0584971 | F39: 0.059123223 | G39: 0.081402686 | H39: -0.007082153 | I39: 0.20240964 | J39: 0.05061082
A40: BAIX LLOBREGAT | B40: 119835 | C40: 84400 | D40: 110930 | E40: 1 | F40: 1 | G40: 1 | H40: 0.006382532 | I40: 0.028077228 | J40: 0.052267122
A42: Les dades de 2021 provenen d'Idescat, a partir dels fitxers d'afiliacions i comptes de cotització de la Tresoreria General de la Seguretat Social. Dades provisionals.

Sheet TRGS5
A1: TORNAR A L'ÍNDEX
A3: =TRGSS1!A3 -> LLOCS DE TREBALL. RÈGIM GENERAL SEGURETAT SOCIAL.
A5: =Índex!A34 -> TRGSS5 | C5: =Índex!A7 -> 3r trimestre 2025
A6: =Índex!B34 -> Dades municipals. Relació entre població ocupada i llocs de treball.
B9: P. Règim General resident al municipi | C9: P. Règim General treballant al municipi | D9: Diferència residents-treballant (abs) | E9: Diferència residents-treballant (%)
A11: Abrera | B11: 6250 | C11: 6890 | D11: -640 | E11: =+D11/B11 -> -0.1024
A12: Begues | B12: 3635 | C12: 1180 | D12: 2455 | E12: =+D12/B12 -> 0.67537827
A13: Castelldefels | B13: 30450 | C13: 18375 | D13: 12075 | E13: =+D13/B13 -> 0.39655172
A14: Castellví de Rosanes | B14: 1020 | C14: 1280 | D14: -260 | E14: =+D14/B14 -> -0.25490196
A15: Cervelló | B15: 4580 | C15: 2990 | D15: 1590 | E15: =+D15/B15 -> 0.34716157
A16: Collbató | B16: 2390 | C16: 830 | D16: 1560 | E16: =+D16/B16 -> 0.65271967
A17: Corbera de Llobregat | B17: 7635 | C17: 2460 | D17: 5175 | E17: =+D17/B17 -> 0.67779961
A18: Cornellà de Llobregat | B18: 40945 | C18: 50915 | D18: -9970 | E18: =+D18/B18 -> -0.24349737
A19: Esparreguera | B19: 10285 | C19: 6815 | D19: 3470 | E19: =+D19/B19 -> 0.33738454
A20: Esplugues de Llobregat | B20: 20225 | C20: 22095 | D20: -1870 | E20: =+D20/B20 -> -0.092459827
A21: Gavà | B21: 21095 | C21: 17565 | D21: 3530 | E21: =+D21/B21 -> 0.16733823
A22: Martorell | B22: 12755 | C22: 12625 | D22: 130 | E22: =+D22/B22 -> 0.010192082
... A40: Viladecans | B40: 31615 | C40: 24755 | D40: 6860 | E40: =+D40/B40 -> 0.21698561
A41: Baix Llobregat | B41: 386740 | C41: 364535 | D41: 22205 | E41: =+D41/C41 -> 0.060913218
A42: Font: OCBL a partir de dades d'IDESCAT, afiliats segons residència padronal i afiliacions segons compte de cotització. Les dades corresponen al quart trimestre.

Sheet TRGSS6
A1: TORNAR A L'ÍNDEX
A3: =TRGSS1!A3 -> LLOCS DE TREBALL. RÈGIM GENERAL SEGURETAT SOCIAL.
A5: =Índex!A35 -> TRGSS6 | C5: =Índex!A7 -> 3r trimestre 2025
A6: =Índex!B35 -> Dades municipals. Llocs de treball assalariat ocupats per dones.
B8: Llocs de treball ocupats per dones | C8: % total llocs de treball
C9: De 51 a 250 treballadors
A10: Abrera | B10: 2287 | C10: 0.31865682
A11: Begues | B11: 762 | C11: 0.44692082
A12: Castelldefels | B12: 9155 | C12: 0.46502768
A13: Castellví de Rosanes | B13: 521 | C13: 0.34186352
A14: Cervelló | B14: 1593 | C14: 0.4528141
A15: Collbató | B15: 548 | C15: 0.4551495
A16: Corbera de Llobregat | B16: 1508 | C16: 0.46905132
A17: Cornellà de Llobregat | B17: 21639 | C17: 0.418606
A18: Esparreguera | B18: 3194 | C18: 0.45017618
A19: Esplugues de Llobregat | B19: 12024 | C19: 0.52301
A20: Gavà | B20: 7891 | C20: 0.43469399
A21: Martorell | B21: 5133 | C21: 0.40391879
... A40: Baix Llobregat | B40: 170375 | C40: 0.45013329
A42: Les dades de 2021 provenen d'Idescat, a partir dels fitxers d'afiliacions i comptes de cotització de la Tresoreria General de la Seguretat Social. Dades provisionals.
D48: 287516
D49: =D48-B40 -> 117141

Sheet GRETA1
A1: TORNAR A L'ÍNDEX | B1: Fet!
A3: LLOCS DE TREBALL. RÈGIM ESPECIAL TREBALLADORS AUTÒNOMS
A5: GRETA1 | C5: =Índex!A7 -> 3r trimestre 2025
A6: Llocs de treball del RETA segons àmbit territorial.
A29: Les dades de 2021 provenen d'Idescat, a partir dels fitxers d'afiliacions i comptes de cotització de la Tresoreria General de la Seguretat Social. Dades provisionals.
B31: RETA | C31: variació 2025-2024 | D31: variació 2025-2019 | E31: variació 2025-2008
A32: Baix Llobregat | B32: 49370 | C32: 0.008889343 | D32: -0.014787172 | E32: -0.095837225
A33: Àrea Metropolitana de Barcelona | B33: 242765 | C33: 0.011900296 | D33: 0.092237159 | E33: 0.070458494
A34: Àmbit Territorial Metropolità | B34: 355365 | C34: 0.011211496 | D34: 0.064180539 | E34: -0.028380429
A35: Catalunya | B35: 570955 | C35: 0.010647148 | D35: 0.040633469 | E35: -0.026813321

Sheet GRETA2
A1: TORNAR A L'ÍNDEX | B1: Fet!
A3: LLOCS DE TREBALL. RÈGIM ESPECIAL TREBALLADORS AUTÒNOMS
A5: =Índex!A40 -> GRETA2 | C5: =Índex!A7 -> 3r trimestre 2025
A6: =Índex!B40 -> Variació interanual llocs de treball autònom. Baix Llobregat.
A29: Les dades de 2022 i 2021 provenen d'Idescat, a partir dels fitxers d'afiliacions i comptes de cotització de la Tresoreria General de la Seguretat Social. Dades provisionals.
B31: Llocs de treball RETA | C31: Variació interanual
A32: 2016 | B32: 50215
A33: 2017 | B33: 50345 | C33: =(B33-B32)/B32 -> 0.0025888679
A34: 2018 | B34: 50262 | C34: =(B34-B33)/B33 -> -0.0016486245
A35: 2019 | B35: 50111 | C35: =(B35-B34)/B34 -> -0.0030042577
A36: 2020 | B36: 49951 | C36: =(B36-B35)/B35 -> -0.0031929117
A37: 2021 | B37: 48845 | C37: =(B37-B36)/B36 -> -0.022141699
A38: 2022 | B38: 48590 | C38: =(B38-B37)/B37 -> -0.0052205958
A39: 2023 | B39: 48780 | C39: =(B39-B38)/B38 -> 0.0039102696 | D39: =+B39-B38 -> 190
A40: 2024 | B40: 48935 | C40: =(B40-B39)/B39 -> 0.0031775318
A41: 2025 | B41: 49370 | C41: =(B41-B40)/B40 -> 0.008889343
A42: 2024 | B42: 48975 | C42: =(B42-B41)/B41 -> -0.0080008102

Sheet TRETA1
A1: TORNAR A L'ÍNDEX | C1: Fet!
A3: =GRETA1!A3 -> LLOCS DE TREBALL. RÈGIM ESPECIAL TREBALLADORS AUTÒNOMS
A5: =Índex!A41 -> TRETA1 | C5: =Índex!A7 -> 3r trimestre 2025
A6: =Índex!B41 -> Activitats econòmiques més rellevants. Baix Llobregat.
D8: Variació
B9: 2025 | C9: %total | D9: 2024-2025 | E9: 2019-2025 | F9: 2008-2025
A10: Total | B10: 49370 | C10: 1 | D10: 0.008889343 | E10: -0.014787172 | F10: -0.095837225
A11: 47 Comerç al detall, excepte el comerç de vehicles de motor i motocicletes | B11: 6145 | C11: 0.1244683 | D11: -0.01601281 | E11: -0.14391195 | F11: -0.25361351
A12: 49 Transport terrestre; transport per canonades | B12: 5080 | C12: 0.1028965 | D12: 0.0019723866 | E12: -0.055762082 | F12: -0.22181373
A13: 43 Activitats especialitzades de la construcció | B13: 4745 | C13: 0.096110999 | D13: -0.014537902 | E13: -0.061511076 | F13: -0.34686855
A14: 56 Serveis de menjar i begudes | B14: 4665 | C14: 0.094490581 | D14: 0.0086486486 | E14: 0.016561342 | F14: -0.023036649
A15: 96 Altres activitats de serveis personals | B15: 2965 | C15: 0.060056715 | D15: 0.029513889 | E15: 0.09167894 | F15: 0.36009174
A16: 46 Comerç a l'engròs i intermediaris del comerç, excepte vehicles de motor i motocicletes | B16: 2795 | C16: 0.056613328 | D16: -0.036206897 | E16: -0.11662453 | F16: -0.14
A17: 86 Activitats sanitàries | B17: 2200 | C17: 0.044561475 | D17: 0.055155875 | E17: 0.23804164 | F17: 1.1276596
A18: 41 Construcció d'immobles | B18: 1780 | C18: 0.036054284 | D18: 0.062686567 | E18: 0.21917808 | F18: -0.095068632
A19: 85 Educació | B19: 1500 | C19: 0.030382824 | D19: 0.02739726 | E19: 0.14242193 | F19: 0.74013921
A20: 45 Venda i reparació de vehicles de motor i motocicletes | B20: 1200 | C20: 0.024306259 | D20: 0.012658228 | E20: -0.036918138 | F20: -0.15789474
A23: Les dades de 2022 i 2021 provenen d'Idescat, a partir dels fitxers d'afiliacions i comptes de cotització de la Tresoreria General de la Seguretat Social. Dades provisionals.

Sheet TRETA2
A1: TORNAR A L'ÍNDEX | B1: Fet!
A3: =TRETA1!A3 -> LLOCS DE TREBALL. RÈGIM ESPECIAL TREBALLADORS AUTÒNOMS
A5: =Índex!A37 -> Règim Especial Treballadors Autònoms (RETA) | C5: =Índex!A7 -> 3r trimestre 2025
A6: =Índex!B28 -> Variació interanual llocs de treball assalariat. Baix Llobregat.
A7: ACTIVITATS QUE MÉS HAN AUGMENTAT L'AFILIACIÓ | B7: n | C7: Variació anual
C8: n | D8: %
A9: 73 Publicitat i estudis de mercat | B9: 790 | C9: 115 | D9: 0.17037037
A10: 86 Activitats sanitàries | B10: 2200 | C10: 115 | D10: 0.055155875
A11: 41 Construcció d'immobles | B11: 1780 | C11: 105 | D11: 0.062686567
A12: 68 Activitats immobiliàries | B12: 950 | C12: 105 | D12: 0.12426036
A13: 62 Serveis de tecnologies de la informació | B13: 1075 | C13: 85 | D13: 0.085858586
A14: 96 Altres activitats de serveis personals | B14: 2965 | C14: 85 | D14: 0.029513889
A15: 70 Activitats de les seus centrals; activitats de consultoria de gestió empresarial | B15: 565 | C15: 75 | D15: 0.15306122
A16: 59 Activitats de cinematografia, de vídeo i de programes de televisió; activitats d'enregistrament de so i edició musical | B16: 300 | C16: 45 | D16: 0.17647059
A17: 56 Serveis de menjar i begudes | B17: 4665 | C17: 40 | D17: 0.0086486486
A18: 85 Educació | B18: 1500 | C18: 40 | D18: 0.02739726
A19: ACTIVITATS QUE MÉS HAN DISMINUÏT L'AFILIACIÓ | B19: n | C19: Variació anual
C20: n | D20: %
A21: 46 Comerç a l'engròs i intermediaris del comerç, excepte vehicles de motor i motocicletes | B21: 2795 | C21: -105 | D21: -0.036206897
A22: 47 Comerç al detall, excepte el comerç de vehicles de motor i motocicletes | B22: 6145 | C22: -100 | D22: -0.01601281
A23: 47 Comerç al detall, excepte el comerç de vehicles de motor i motocicletes | B23: 6245 | C23: -100 | D23: -0.015760441
A24: 43 Activitats especialitzades de la construcció | B24: 4745 | C24: -70 | D24: -0.014537902
A25: 95 Reparació d'ordinadors, d'efectes personals i efectes domèstics | B25: 455 | C25: -50 | D25: -0.099009901
A26: 74 Altres activitats professionals, científiques i tècniques | B26: 1100 | C26: -45 | D26: -0.03930131
A27: 28 Fabricació de maquinària i equips ncaa | B27: 155 | C27: -30 | D27: -0.16216216
A28: 53 Activitats postals i de correus | B28: 240 | C28: -25 | D28: -0.094339623
A29: 01 Agricultura, ramaderia, caça i activitats dels serveis que s'hi relacionen | B29: 290 | C29: -10 | D29: -0.033333333
A30: 63 Serveis d'informació | B30: 150 | C30: -10 | D30: -0.0625
A32: Les dades de 2022 i 2021 provenen d'Idescat, a partir dels fitxers d'afiliacions i comptes de cotització de la Tresoreria General de la Seguretat Social. Dades provisionals.

Sheet DIN_RETA
B1: Fet! | G1: 0.003 | M1: variació | Q1: quan ordenis, millor copiïs les cel·les calculades abans
B3: 2022 | C3: 20.22 | D3: 2021 | G3: 2022 | H3: 20.22 | I3: 2021 | J3: var absoluta | K3: var relativa | N3: 2022 | O3: 20.22 | P3: 2021 | Q3: var absoluta | R3: º
A4: 1- Agricultura, ramaderia, caça i activitats dels serveis que s'hi relacionen | B4: 328 | C4: 0.0067261355 | D4: 360 | F4: 1- Agricultura, ramaderia, caça i activitats dels serveis que s'hi relacionen | G4: 328 | H4: 0.0067261355 | I4: 360 | J4: =G4-I4 -> -32 | K4: =J4/I4 -> -0.088888889 | M4: 86- Activitats sanitàries | N4: 2022 | O4: 0.041464165 | P4: 1916 | Q4: 106 | R4: 0.055323591
A5: 2- Silvicultura i explotació forestal | B5: 0 | C5: 0 | D5: 20 | F5: 10- Indústries de productes alimentaris | G5: 162 | H5: 0.0033220548 | I5: 208 | J5: =G5-I5 -> -46 | K5: =J5/I5 -> -0.22115385 | M5: 85- Educació | N5: 1410 | O5: 0.02891418 | P5: 1354 | Q5: 56 | R5: 0.041358936
A6: 3- Pesca i aqüicultura | B6: 0 | C6: 0 | D6: .. | F6: 18- Arts gràfiques i reproducció de suports enregistrats | G6: 326 | H6: 0.0066851225 | I6: 353 | J6: =G6-I6 -> -27 | K6: =J6/I6 -> -0.076487252 | M6: 41- Construcció d'immobles | N6: 1645 | O6: 0.03373321 | P6: 1606 | Q6: 39 | R6: 0.024283935
A7: 5- Extracció d'antracita, hulla i lignit | B7: 0 | C7: 0 | D7: 0 | F7: 25- Fabricació de productes metàl·lics, excepte maquinària i equips | G7: 673 | H7: 0.013800882 | I7: 711 | J7: =G7-I7 -> -38 | K7: =J7/I7 -> -0.053445851 | M7: 62- Serveis de tecnologies de la informació | N7: 896 | O7: 0.018373834 | P7: 865 | Q7: 31 | R7: 0.03583815
A8: 6- Extracció de petroli brut i de gas natural | B8: 0 | C8: 0 | D8: 0 | F8: 28- Fabricació de maquinària i equips ncaa | G8: 158 | H8: 0.0032400287 | I8: 199 | J8: =G8-I8 -> -41 | K8: =J8/I8 -> -0.20603015 | M8: 74- Altres activitats professionals, científiques i tècniques | N8: 1135 | O8: 0.02327489 | P8: 1109 | Q8: 26 | R8: 0.023444545
A9: 7- Extracció de minerals metàl·lics | B9: 0 | C9: 0 | D9: 0 | F9: 31- Fabricació de mobles | G9: 150 | H9: 0.0030759766 | I9: 182 | J9: =G9-I9 -> -32 | K9: =J9/I9 -> -0.17582418 | M9: 93- Activitats esportives, recreatives i d'entreteniment | N9: 463 | O9: 0.0094945145 | P9: 450 | Q9: 13 | R9: 0.028888889
A10: 8- Extracció de minerals no metàl·lics ni energètics | B10: 0 | C10: 0 | D10: 8 | F10: 33- Reparació i instal·lació de maquinària i equips | G10: 460 | H10: 0.009432995 | I10: 472 | J10: =G10-I10 -> -12 | K10: =J10/I10 -> -0.025423729 | M10: 79- Activitats de les agències de viatges, operadors turístics i altres serveis de reserves i activitats que s'hi relacionen | N10: 254 | O10: 0.0052086537 | P10: 247 | Q10: 7 | R10: 0.028340081
A11: 9- Activitats de suport a les indústries extractives | B11: 0 | C11: 0 | D11: .. | F11: 41- Construcció d'immobles | G11: 1645 | H11: 0.03373321 | I11: 1606 | J11: =G11-I11 -> 39 | K11: =J11/I11 -> 0.024283935 | M11: 96- Altres activitats de serveis personals | N11: 2901 | O11: 0.059489388 | P11: 2896 | Q11: 5 | R11: 0.0017265193
A12: 10- Indústries de productes alimentaris | B12: 162 | C12: 0.0033220548 | D12: 208 | F12: 42- Construcció d'obres d'enginyeria civil | G12: 176 | H12: 0.0036091459 | I12: 212 | J12: =G12-I12 -> -36 | K12: =J12/I12 -> -0.16981132 | M12: 72- Recerca i desenvolupament | N12: 211 | O12: 0.0043268738 | P12: 207 | Q12: 4 | R12: 0.019323671
A13: 11- Fabricació de begudes | B13: 0 | C13: 0 | D13: 15 | F13: 43- Activitats especialitzades de la construcció | G13: 4996 | H13: 0.10245053 | I13: 5120 | J13: =G13-I13 -> -124 | K13: =J13/I13 -> -0.02421875 | M13: 90- Activitats de creació, artístiques i d'espectacles | N13: 526 | O13: 0.010786425 | P13: 522 | Q13: 4 | R13: 0.0076628352
A14: 12- Indústries del tabac | B14: 0 | C14: 0 | D14: 0 | F14: 45- Venda i reparació de vehicles de motor i motocicletes | G14: 1193 | H14: 0.024464267 | I14: 1230 | J14: =G14-I14 -> -37 | K14: =J14/I14 -> -0.030081301 | M14: 73- Publicitat i estudis de mercat | N14: 645 | O14: 0.013226699 | P14: 642 | Q14: 3 | R14: 0.0046728972
A15: 13- Indústries tèxtils | B15: 37 | C15: 0.0007587409 | D15: 72 | F15: 46- Comerç a l'engròs i intermediaris del comerç, excepte vehicles de motor i motocicletes | G15: 3121 | H15: 0.06400082 | I15: 3215 | J15: =G15-I15 -> -94 | K15: =J15/I15 -> -0.029237947 | M15: 81- Serveis a edificis i activitats de jardineria | N15: 771 | O15: 0.01581052 | P15: 769 | Q15: 2 | R15: 0.0026007802
A16: 14- Confecció de peces de vestir | B16: 144 | C16: 0.0029529376 | D16: 162 | F16: 47- Comerç al detall, excepte el comerç de vehicles de motor i motocicletes | G16: 6928 | H16: 0.14206911 | I16: 7138 | J16: =G16-I16 -> -210 | K16: =J16/I16 -> -0.029420006 | M16: 68- Activitats immobiliàries | N16: 846 | O16: 0.017348508 | P16: 845 | Q16: 1 | R16: 0.001183432
A17: 15- Indústria del cuir i del calçat | B17: 0 | C17: 0 | D17: 16 | F17: 49- Transport terrestre; transport per canonades | G17: 5188 | H17: 0.10638778 | I17: 5337 | J17: =G17-I17 -> -149 | K17: =J17/I17 -> -0.027918306 | M17: 69- Activitats jurídiques i de comptabilitat | N17: 1098 | O17: 0.022516149 | P17: 1100 | Q17: -2 | R17: -0.0018181818
A18: 16- Indústria de la fusta i del suro, excepte mobles; cistelleria i esparteria | B18: 98 | C18: 0.0020096381 | D18: 145 | F18: 52- Emmagatzematge i activitats afins al transport | G18: 158 | H18: 0.0032400287 | I18: 185 | J18: =G18-I18 -> -27 | K18: =J18/I18 -> -0.14594595 | M18: 82- Activitats administratives d'oficina i altres activitats auxiliars a les empreses | N18: 744 | O18: 0.015256844 | P18: 746 | Q18: -2 | R18: -0.0026809651
A19: 17- Indústries del paper | B19: 0 | C19: 0 | D19: 35 | F19: 53- Activitats postals i de correus | G19: 207 | H19: 0.0042448477 | I19: 231 | J19: =G19-I19 -> -24 | K19: =J19/I19 -> -0.1038961 | M19: 33- Reparació i instal·lació de maquinària i equips | N19: 460 | O19: 0.009432995 | P19: 472 | Q19: -12 | R19: -0.025423729
A20: 18- Arts gràfiques i reproducció de suports enregistrats | B20: 326 | C20: 0.0066851225 | D20: 353 | F20: 56- Serveis de menjar i begudes | G20: 4471 | H20: 0.09168461 | I20: 4488 | J20: =G20-I20 -> -17 | K20: =J20/I20 -> -0.0037878788 | M20: 56- Serveis de menjar i begudes | N20: 4471 | O20: 0.09168461 | P20: 4488 | Q20: -17 | R20: -0.0037878788
A21: 19- Coqueries i refinació del petroli | B21: 0 | C21: 0 | D21: 0 | F21: 59- Activitats de cinematografia, de vídeo i de programes de televisió; activitats d'enregistrament de so i edició musical | G21: 172 | H21: 0.0035271199 | I21: 200 | J21: =G21-I21 -> -28 | K21: =J21/I21 -> -0.14 | M21: 70- Activitats de les seus centrals; activitats de consultoria de gestió empresarial | N21: 412 | O21: 0.0084486825 | P21: 435 | Q21: -23 | R21: -0.052873563
A22: 20- Indústries químiques | B22: 34 | C22: 0.00069722137 | D22: 65 | F22: 62- Serveis de tecnologies de la informació | G22: 896 | H22: 0.018373834 | I22: 865 | J22: =G22-I22 -> 31 | K22: =J22/I22 -> 0.03583815 | M22: 53- Activitats postals i de correus | N22: 207 | O22: 0.0042448477 | P22: 231 | Q22: -24 | R22: -0.1038961
A23: 21- Fabricació de productes farmacèutics | B23: 0 | C23: 0 | D23: .. | F23: 66- Activitats auxiliars de la mediació financera i d'assegurances | G23: 715 | H23: 0.014662155 | I23: 746 | J23: =G23-I23 -> -31 | K23: =J23/I23 -> -0.04155496 | M23: 18- Arts gràfiques i reproducció de suports enregistrats | N23: 326 | O23: 0.0066851225 | P23: 353 | Q23: -27 | R23: -0.076487252
A24: 22- Fabricació de productes de cautxú i matèries plàstiques | B24: 71 | C24: 0.0014559623 | D24: 110 | F24: 68- Activitats immobiliàries | G24: 846 | H24: 0.017348508 | I24: 845 | J24: =G24-I24 -> 1 | K24: =J24/I24 -> 0.001183432 | M24: 52- Emmagatzematge i activitats afins al transport | N24: 158 | O24: 0.0032400287 | P24: 185 | Q24: -27 | R24: -0.14594595
A25: 23- Fabricació d'altres productes minerals no metàl·lics | B25: 33 | C25: 0.00067671486 | D25: 89 | F25: 69- Activitats jurídiques i de comptabilitat | G25: 1098 | H25: 0.022516149 | I25: 1100 | J25: =G25-I25 -> -2 | K25: =J25/I25 -> -0.0018181818 | M25: 59- Activitats de cinematografia, de vídeo i de programes de televisió; activitats d'enregistrament de so i edició musical | N25: 172 | O25: 0.0035271199 | P25: 200 | Q25: -28 | R25: -0.14
A26: 24- Metal·lúrgia; fabricació de productes bàsics de ferro, acer i ferroaliatges | B26: 66 | C26: 0.0013534297 | D26: 103 | F26: 70- Activitats de les seus centrals; activitats de consultoria de gestió empresarial | G26: 412 | H26: 0.0084486825 | I26: 435 | J26: =G26-I26 -> -23 | K26: =J26/I26 -> -0.052873563 | M26: 77- Activitats de lloguer | N26: 279 | O26: 0.0057213165 | P26: 308 | Q26: -29 | R26: -0.094155844
A27: 25- Fabricació de productes metàl·lics, excepte maquinària i equips | B27: 673 | C27: 0.013800882 | D27: 711 | F27: 71- Serveis tècnics d'arquitectura i enginyeria; assajos i anàlisis tècnics | G27: 934 | H27: 0.019153081 | I27: 973 | J27: =G27-I27 -> -39 | K27: =J27/I27 -> -0.04008222 | M27: 66- Activitats auxiliars de la mediació financera i d'assegurances | N27: 715 | O27: 0.014662155 | P27: 746 | Q27: -31 | R27: -0.04155496
A28: 26- Fabricació de productes informàtics, electrònics i òptics | B28: 25 | C28: 0.00051266277 | D28: 74 | F28: 72- Recerca i desenvolupament | G28: 211 | H28: 0.0043268738 | I28: 207 | J28: =G28-I28 -> 4 | K28: =J28/I28 -> 0.019323671 | M28: 1- Agricultura, ramaderia, caça i activitats dels serveis que s'hi relacionen | N28: 328 | O28: 0.0067261355 | P28: 360 | Q28: -32 | R28: -0.088888889
A29: 27- Fabricació de materials i equips elèctrics | B29: 0 | C29: 0 | D29: 36 | F29: 73- Publicitat i estudis de mercat | G29: 645 | H29: 0.013226699 | I29: 642 | J29: =G29-I29 -> 3 | K29: =J29/I29 -> 0.0046728972 | M29: 31- Fabricació de mobles | N29: 150 | O29: 0.0030759766 | P29: 182 | Q29: -32 | R29: -0.17582418
A30: 28- Fabricació de maquinària i equips ncaa | B30: 158 | C30: 0.0032400287 | D30: 199 | F30: 74- Altres activitats professionals, científiques i tècniques | G30: 1135 | H30: 0.02327489 | I30: 1109 | J30: =G30-I30 -> 26 | K30: =J30/I30 -> 0.023444545 | M30: 42- Construcció d'obres d'enginyeria civil | N30: 176 | O30: 0.0036091459 | P30: 212 | Q30: -36 | R30: -0.16981132
A31: 29- Fabricació de vehicles de motor, remolcs i semiremolcs | B31: 5 | C31: 0.00010253255 | D31: 31 | F31: 77- Activitats de lloguer | G31: 279 | H31: 0.0057213165 | I31: 308 | J31: =G31-I31 -> -29 | K31: =J31/I31 -> -0.094155844 | M31: 45- Venda i reparació de vehicles de motor i motocicletes | N31: 1193 | O31: 0.024464267 | P31: 1230 | Q31: -37 | R31: -0.030081301
A32: 30- Fabricació d'altres materials de transport | B32: 5 | C32: 0.00010253255 | D32: 21 | F32: 79- Activitats de les agències de viatges, operadors turístics i altres serveis de reserves i activitats que s'hi relacionen | G32: 254 | H32: 0.0052086537 | I32: 247 | J32: =G32-I32 -> 7 | K32: =J32/I32 -> 0.028340081 | M32: 25- Fabricació de productes metàl·lics, excepte maquinària i equips | N32: 673 | O32: 0.013800882 | P32: 711 | Q32: -38 | R32: -0.053445851
A33: 31- Fabricació de mobles | B33: 150 | C33: 0.0030759766 | D33: 182 | F33: 81- Serveis a edificis i activitats de jardineria | G33: 771 | H33: 0.01581052 | I33: 769 | J33: =G33-I33 -> 2 | K33: =J33/I33 -> 0.0026007802 | M33: 71- Serveis tècnics d'arquitectura i enginyeria; assajos i anàlisis tècnics | N33: 934 | O33: 0.019153081 | P33: 973 | Q33: -39 | R33: -0.04008222
A34: 32- Indústries manufactureres diverses | B34: 99 | C34: 0.0020301446 | D34: 148 | F34: 82- Activitats administratives d'oficina i altres activitats auxiliars a les empreses | G34: 744 | H34: 0.015256844 | I34: 746 | J34: =G34-I34 -> -2 | K34: =J34/I34 -> -0.0026809651 | M34: 28- Fabricació de maquinària i equips ncaa | N34: 158 | O34: 0.0032400287 | P34: 199 | Q34: -41 | R34: -0.20603015
A35: 33- Reparació i instal·lació de maquinària i equips | B35: 460 | C35: 0.009432995 | D35: 472 | F35: 85- Educació | G35: 1410 | H35: 0.02891418 | I35: 1354 | J35: =G35-I35 -> 56 | K35: =J35/I35 -> 0.041358936 | M35: 10- Indústries de productes alimentaris | N35: 162 | O35: 0.0033220548 | P35: 208 | Q35: -46 | R35: -0.22115385
A36: 35- Subministrament d'energia elèctrica, gas, vapor i aire condicionat | B36: 0 | C36: 0 | D36: 20 | F36: 86- Activitats sanitàries | G36: 2022 | H36: 0.041464165 | I36: 1916 | J36: =G36-I36 -> 106 | K36: =J36/I36 -> 0.055323591 | M36: 62- Serveis de tecnologies de la informació | N36: 888 | O36: 0.017457634 | P36: 837 | Q36: =P36-N36 -> -51 | R36: =+Q36/P36 -> -0.0609319
A37: 36- Captació, potabilització i distribució d'aigua | B37: 0 | C37: 0 | D37: .. | F37: 90- Activitats de creació, artístiques i d'espectacles | G37: 526 | H37: 0.010786425 | I37: 522 | J37: =G37-I37 -> 4 | K37: =J37/I37 -> 0.0076628352 | M37: 85- Educació | N37: 1408 | O37: 0.027680572 | P37: 1353 | Q37: =P37-N37 -> -55 | R37: =+Q37/P37 -> -0.040650407
A38: 37- Recollida i tractament d'aigües residuals | B38: 0 | C38: 0 | D38: 10 | F38: 93- Activitats esportives, recreatives i d'entreteniment | G38: 463 | H38: 0.0094945145 | I38: 450 | J38: =G38-I38 -> 13 | K38: =J38/I38 -> 0.028888889 | M38: 95- Reparació d'ordinadors, d'efectes personals i efectes domèstics | N38: 634 | O38: 0.013001128 | P38: 690 | Q38: -56 | R38: -0.08115942
A39: 38- Activitats de recollida, tractament i eliminació de residus; activitats de valorització | B39: 0 | C39: 0 | D39: 33 | F39: 95- Reparació d'ordinadors, d'efectes personals i efectes domèstics | G39: 634 | H39: 0.013001128 | I39: 690 | J39: =G39-I39 -> -56 | K39: =J39/I39 -> -0.08115942 | M39: 96- Altres activitats de serveis personals | N39: 2941 | O39: 0.057818582 | P39: 2850 | Q39: =P39-N39 -> -91 | R39: =+Q39/P39 -> -0.031929825
A40: 39- Activitats de descontaminació i altres serveis de gestió de residus | B40: 0 | C40: 0 | D40: .. | F40: 96- Altres activitats de serveis personals | G40: 2901 | H40: 0.059489388 | I40: 2896 | J40: =G40-I40 -> 5 | K40: =J40/I40 -> 0.0017265193 | M40: 46- Comerç a l'engròs i intermediaris del comerç, excepte vehicles de motor i motocicletes | N40: 3121 | O40: 0.06400082 | P40: 3215 | Q40: -94 | R40: -0.029237947
A41: 41- Construcció d'immobles | B41: 1645 | C41: 0.03373321 | D41: 1606 | F41: Total | G41: 48765 | H41: 1 | I41: 50721 | J41: =G41-I41 -> -1956 | K41: =J41/I41 -> -0.038563908 | M41: 86- Activitats sanitàries | N41: 1991 | O41: 0.03914206 | P41: 1892 | Q41: =P41-N41 -> -99 | R41: =+Q41/P41 -> -0.052325581
A42: 42- Construcció d'obres d'enginyeria civil | B42: 176 | C42: 0.0036091459 | D42: 212 | F42: 51- Transport aeri | G42: 3121 | H42: 0.06400082 | I42: 3215 | J42: =G42-I42 -> -94 | K42: =J42/I42 -> -0.029237947 | M42: 43- Activitats especialitzades de la construcció | N42: 4996 | O42: 0.10245053 | P42: 5120 | Q42: -124 | R42: -0.02421875
A43: 43- Activitats especialitzades de la construcció | B43: 4996 | C43: 0.10245053 | D43: 5120 | F43: 5- Extracció d'antracita, hulla i lignit | G43: 4996 | H43: 0.10245053 | I43: 5120 | J43: =G43-I43 -> -124 | K43: =J43/I43 -> -0.02421875 | M43: 49- Transport terrestre; transport per canonades | N43: 5188 | O43: 0.10638778 | P43: 5337 | Q43: -149 | R43: -0.027918306
A44: 45- Venda i reparació de vehicles de motor i motocicletes | B44: 1193 | C44: 0.024464267 | D44: 1230 | F44: 53- Activitats postals i de correus | G44: 5188 | H44: 0.10638778 | I44: 5337 | J44: =G44-I44 -> -149 | K44: =J44/I44 -> -0.027918306 | M44: 47- Comerç al detall, excepte el comerç de vehicles de motor i motocicletes | N44: 6928 | O44: 0.14206911 | P44: 7138 | Q44: -210 | R44: -0.029420006
A45: 46- Comerç a l'engròs i intermediaris del comerç, excepte vehicles de motor i motocicletes | B45: 3121 | C45: 0.06400082 | D45: 3215 | F45: 52- Emmagatzematge i activitats afins al transport | G45: 6928 | H45: 0.14206911 | I45: 7138 | J45: =G45-I45 -> -210 | K45: =J45/I45 -> -0.029420006 | M45: Total | N45: 48765 | O45: 1 | P45: 50721 | Q45: -1956 | R45: -0.038563908
A46: 47- Comerç al detall, excepte el comerç de vehicles de motor i motocicletes | B46: 6928 | C46: 0.14206911 | D46: 7138 | F46: Total | G46: 48765 | H46: 1 | I46: 50721 | J46: =G46-I46 -> -1956 | K46: =J46/I46 -> -0.038563908
A47: 49- Transport terrestre; transport per canonades | B47: 5188 | C47: 0.10638778 | D47: 5337 | M47: Total | N47: 50866 | O47: 1 | P47: 50368 | Q47: =P47-N47 -> -498 | R47: =+Q47/P47 -> -0.00988723
A48: 50- Transport marítim i per vies de navegació interiors | B48: 0 | C48: 0 | D48: 5
A49: 51- Transport aeri | B49: 0 | C49: 0 | D49: 13
A50: 52- Emmagatzematge i activitats afins al transport | B50: 158 | C50: 0.0032400287 | D50: 185
A51: 53- Activitats postals i de correus | B51: 207 | C51: 0.0042448477 | D51: 231
A52: 55- Serveis d'allotjament | B52: 68 | C52: 0.0013944427 | D52: 100
A53: 56- Serveis de menjar i begudes | B53: 4471 | C53: 0.09168461 | D53: 4488
A54: 58- Edició | B54: 124 | C54: 0.0025428073 | D54: 169
A55: 59- Activitats de cinematografia, de vídeo i de programes de televisió; activitats d'enregistrament de so i edició musical | B55: 172 | C55: 0.0035271199 | D55: 200
A56: 60- Activitats d'emissió i programació de ràdio i televisió | B56: 0 | C56: 0 | D56: 13
A57: 61- Telecomunicacions | B57: 61 | C57: 0.0012508972 | D57: 91
A58: 62- Serveis de tecnologies de la informació | B58: 896 | C58: 0.018373834 | D58: 865
A59: 63- Serveis d'informació | B59: 145 | C59: 0.0029734441 | D59: 174
... A88: 96- Altres activitats de serveis personals | B88: 2901 | C88: 0.059489388 | D88: 2896
A89: 97- Activitats de les llars que donen ocupació a personal domèstic | B89: 0 | C89: 0 | D89: ..
A90: 98- Activitats de les llars que produeixen béns i serveis per a ús propi | B90: 0 | C90: 0 | D90: 0
A91: 99- Organismes extraterritorials | B91: 0 | C91: 0 | D91: ..
A92: Total | B92: 48765 | C92: =B92/$B$92 -> 1 | D92: 50721

Sheet TRETA3
A1: TORNAR A L'ÍNDEX | B1: Fet!
A3: =GRETA1!A3 -> LLOCS DE TREBALL. RÈGIM ESPECIAL TREBALLADORS AUTÒNOMS
A5: =Índex!A43 -> TRETA3 | C5: =Índex!A7 -> 3r trimestre 2025
A6: =Índex!B21 -> Dades municipals.
B8: Llocs de treball (RETA) | C8: % Baix Llobregat | D8: variació relativa (en %)
B9: Empreses | D9: 2024 | E9: 2019 | F9: 2008
A10: Abrera | B10: 645 | C10: 0.013064614 | D10: 0.015748031 | E10: 0.001552795 | F10: -0.14228723
A11: Begues | B11: 555 | C11: 0.011241645 | D11: 0.0090909091 | E11: -0.20714286 | F11: -0.07960199
A12: Castelldefels | B12: 4905 | C12: 0.099351833 | D12: 0.0030674847 | E12: -0.072077185 | F12: -0.044604597
A13: Castellví de Rosanes | B13: 140 | C13: 0.0028357302 | D13: 0.076923077 | E13: -0.13580247 | F13: -0.078947368
A14: Cervelló | B14: 635 | C14: 0.012862062 | D14: 0 | E14: -0.24673784 | F14: -0.1910828
A15: Collbató | B15: 300 | C15: 0.0060765647 | D15: 0.016949153 | E15: -0.27360775 | F15: -0.14285714
A16: Corbera de Llobregat | B16: 1000 | C16: 0.020255216 | D16: -0.0049751244 | E16: -0.25871016 | F16: -0.23430322
A17: Cornellà de Llobregat | B17: 4955 | C17: 0.10036459 | D17: 0.016410256 | E17: 0.17723925 | F17: 0.069270609
A18: Esparreguera | B18: 1340 | C18: 0.027141989 | D18: 0.007518797 | E18: 0.05015674 | F18: -0.097643098
A19: Esplugues de Llobregat | B19: 2925 | C19: 0.059246506 | D19: 0.0086206897 | E19: -0.049089727 | F19: -0.19775096
A20: Gavà | B20: 2985 | C20: 0.060461819 | D20: 0.013582343 | E20: 0.0081053698 | F20: -0.096276113
A21: Martorell | B21: 1490 | C21: 0.030180271 | D21: 0.024054983 | E21: 0.31161972 | F21: 0.019151847
... A40: Baix Llobregat | B40: 49370 | C40: 1 | D40: 0.0090955544 | E40: -0.014787172 | F40: -0.095837225
A42: Les dades de 2022 i 2021 provenen d'Idescat, a partir dels fitxers d'afiliacions i comptes de cotització de la Tresoreria General de la Seguretat Social. Dades provisionals.

Sheet T7S1
A1: TORNAR A L'ÍNDEX | B1: Fet!
A3: =Índex!A45 -> ANÀLISI SEGONS 7 SECTORS PRODUCTIUS
A5: =Índex!A47 -> T7S1 | B5: =Índex!A7 -> 3r trimestre 2025
A6: =Índex!B47 -> Llocs de treball segons àmbit territorial
A7: SUMA LLOCS TREBALL (RETA+RGSS)
B8: Baix Llobregat | D8: ATM | F8: Catalunya
B9: n | C9: % | D9: n | E9: % | F9: n | G9: %
A10: AGRICULTURA | B10: 450 | C10: 0.0012343816 | D10: 3000 | E10: 0.001175415 | F10: 31490 | G10: 0.0084037426
A11: CONSTRUCCIÓ | B11: 26345 | C11: 0.072266188 | D11: 140525 | E11: 0.055058399 | F11: 234315 | G11: 0.062531691
A12: COMERÇ | B12: 71420 | C12: 0.19591008 | D12: 422245 | E12: 0.1654377 | F12: 625330 | G12: 0.16688194
A13: INDÚSTRIA | B13: 51815 | C13: 0.14213219 | D13: 268225 | E13: 0.1050919 | F13: 469925 | G13: 0.12540898
A14: SERVEIS A LA CIUTADANIA | B14: 57465 | C14: 0.15763054 | D14: 539980 | E14: 0.21156687 | F14: 792385 | G14: 0.21146394
A15: SERVEIS AL CONSUMIDOR | B15: 43460 | C15: 0.11921384 | D15: 337025 | E15: 0.13204808 | F15: 515825 | G15: 0.13765832
A16: SERVEIS RELACIONATS AMB L’EMPRESA | B16: 113600 | C16: 0.31161279 | D16: 841290 | E16: 0.32962163 | F16: 1077870 | G16: 0.28765138
A17: Total | B17: 364555 | C17: 1 | D17: 2552290 | E17: 1 | F17: 3747140 | G17: 1
A18: Font: OCBL, a partir de les dades d'Estadística de l'ocupació assalariada i autònoma segons afiliacions a la Seguretat Social d'IDESCAT.

Sheet G7S1
A1: TORNAR A L'ÍNDEX
A3: =Índex!A45 -> ANÀLISI SEGONS 7 SECTORS PRODUCTIUS
A5: =Índex!A48 -> G7S1 | C5: =Índex!A7 -> 3r trimestre 2025
A6: =Índex!B48 -> Variació intertrimestral llocs de treball. Baix Llobregat.
A25: Font: OCBL, a partir de les dades d'Estadística de l'ocupació assalariada i autònoma segons afiliacions a la Seguretat Social d'IDESCAT.
B27: 3T 2025 | C27: var trimestral (%) | E27: 2T 2025
A28: Agricultura | B28: 450 | C28: =+B28/E28-1 -> -0.042553191 | E28: 470
A29: Construcció | B29: 26345 | C29: =+B29/E29-1 -> -0.015140187 | E29: 26750
A30: Comerç | B30: 71420 | C30: =+B30/E30-1 -> -0.0043217622 | E30: 71730
A31: Indústria | B31: 51815 | C31: =+B31/E31-1 -> -0.0077556492 | E31: 52220
A32: Serveis a la ciutadania | B32: 57465 | C32: =+B32/E32-1 -> 0.12753851 | E32: 50965
A33: Serveis al consumidor | B33: 43460 | C33: =+B33/E33-1 -> 0.024879142 | E33: 42405
A34: Serveis relacionats amb l'empresa | B34: 113600 | C34: =+B34/E34-1 -> 0.02066487 | E34: 111300
A35: Total llocs treball | B35: 364555 | C35: =+B35/E35-1 -> 0.024476949 | E35: 355845

Sheet T7S2
A1: TORNAR A L'ÍNDEX
A3: =Índex!A45 -> ANÀLISI SEGONS 7 SECTORS PRODUCTIUS
A5: =Índex!A49 -> T7S2 | C5: =Índex!A7 -> 3r trimestre 2025
A6: =Índex!B49 -> Llocs de treball segons municipi.
A8: Treballadors per activitats econòmiques | L8: Distribució dels llocs de treball segons sectors productius
A9: Municipi | B9: Agricultura | C9: Construcció | D9: Comerç | E9: Indústria | F9: Serveis a la ciutadania | G9: Serveis al consumidor | H9: Serveis relacionats amb l'empresa | I9: Total | L9: Municipi | M9: Agricultura | N9: Construcció | O9: Comerç | P9: Indústria | Q9: Serveis a la ciutadania | R9: Serveis al consumidor | S9: Serveis relacionats amb l'empresa
A10: Abrera | B10: 20 | C10: 490 | D10: 1057 | E10: 2658 | F10: 386 | G10: 436 | H10: 2130 | I10: 7177 | L10: Abrera | M10: =B10/$I10 -> 0.0027866797 | N10: =C10/$I10 -> 0.068273652 | O10: =D10/$I10 -> 0.14727602 | P10: =E10/$I10 -> 0.37034973 | Q10: =F10/$I10 -> 0.053782918 | R10: =G10/$I10 -> 0.060749617 | S10: =H10/$I10 -> 0.29678138
A11: Begues | B11: 34 | C11: 188 | D11: 272 | E11: 249 | F11: 280 | G11: 256 | H11: 426 | I11: 1705 | L11: Begues | M11: =B11/$I11 -> 0.019941349 | N11: =C11/$I11 -> 0.11026393 | O11: =D11/$I11 -> 0.15953079 | P11: =E11/$I11 -> 0.14604106 | Q11: =F11/$I11 -> 0.16422287 | R11: =G11/$I11 -> 0.15014663 | S11: =H11/$I11 -> 0.24985337
A12: Castelldefels | B12: 25 | C12: 1357 | D12: 3352 | E12: 1048 | F12: 2870 | G12: 5187 | H12: 5848 | I12: 19687 | L12: Castelldefels | M12: =B12/$I12 -> 0.0012698735 | N12: =C12/$I12 -> 0.068928735 | O12: =D12/$I12 -> 0.17026464 | P12: =E12/$I12 -> 0.053233098 | Q12: =F12/$I12 -> 0.14578148 | R12: =G12/$I12 -> 0.26347336 | S12: =H12/$I12 -> 0.29704881
A13: Castellví de Rosanes | B13: 5 | C13: 81 | D13: 160 | E13: 324 | F13: 165 | G13: 58 | H13: 731 | I13: 1524 | L13: Castellví de Rosanes | M13: =B13/$I13 -> 0.0032808399 | N13: =C13/$I13 -> 0.053149606 | O13: =D13/$I13 -> 0.10498688 | P13: =E13/$I13 -> 0.21259843 | Q13: =F13/$I13 -> 0.10826772 | R13: =G13/$I13 -> 0.038057743 | S13: =H13/$I13 -> 0.47965879
A14: Cervelló | B14: 10 | C14: 297 | D14: 728 | E14: 817 | F14: 333 | G14: 604 | H14: 729 | I14: 3518 | L14: Cervelló | M14: =B14/$I14 -> 0.0028425242 | N14: =C14/$I14 -> 0.084422968 | O14: =D14/$I14 -> 0.20693576 | P14: =E14/$I14 -> 0.23223422 | Q14: =F14/$I14 -> 0.094656055 | R14: =G14/$I14 -> 0.17168846 | S14: =H14/$I14 -> 0.20722001
A15: Collbató | B15: 20 | C15: 129 | D15: 198 | E15: 199 | F15: 168 | G15: 228 | H15: 262 | I15: 1204 | L15: Collbató | M15: =B15/$I15 -> 0.016611296 | N15: =C15/$I15 -> 0.10714286 | O15: =D15/$I15 -> 0.16445183 | P15: =E15/$I15 -> 0.16528239 | Q15: =F15/$I15 -> 0.13953488 | R15: =G15/$I15 -> 0.18936877 | S15: =H15/$I15 -> 0.21760797
A16: Corbera de Llobregat | B16: 21 | C16: 341 | D16: 437 | E16: 446 | F16: 594 | G16: 515 | H16: 861 | I16: 3215 | L16: Corbera de Llobregat | M16: =B16/$I16 -> 0.0065318818 | N16: =C16/$I16 -> 0.10606532 | O16: =D16/$I16 -> 0.13592535 | P16: =E16/$I16 -> 0.13872473 | Q16: =F16/$I16 -> 0.18475894 | R16: =G16/$I16 -> 0.16018663 | S16: =H16/$I16 -> 0.26780715
A17: Cornellà de Llobregat | B17: 25 | C17: 5539 | D17: 8925 | E17: 6067 | F17: 4114 | G17: 6328 | H17: 20695 | I17: 51693 | L17: Cornellà de Llobregat | M17: =B17/$I17 -> 0.00048362448 | N17: =C17/$I17 -> 0.10715184 | O17: =D17/$I17 -> 0.17265394 | P17: =E17/$I17 -> 0.11736599 | Q17: =F17/$I17 -> 0.079585244 | R17: =G17/$I17 -> 0.12241503 | S17: =H17/$I17 -> 0.40034434
A18: El Papiol | B18: 25 | C18: 423 | D18: 1356 | E18: 1438 | F18: 1267 | G18: 608 | H18: 1978 | I18: 7095 | L18: El Papiol | M18: =B18/$I18 -> 0.0035236082 | N18: =C18/$I18 -> 0.05961945 | O18: =D18/$I18 -> 0.19112051 | P18: =E18/$I18 -> 0.20267794 | Q18: =F18/$I18 -> 0.17857646 | R18: =G18/$I18 -> 0.085694151 | S18: =H18/$I18 -> 0.27878788
A19: El Prat de Llobregat | B19: 30 | C19: 968 | D19: 4369 | E19: 3348 | F19: 3773 | G19: 3868 | H19: 6634 | I19: 22990 | L19: El Prat de Llobregat | M19: =B19/$I19 -> 0.0013049152 | N19: =C19/$I19 -> 0.042105263 | O19: =D19/$I19 -> 0.19003915 | P19: =E19/$I19 -> 0.14562853 | Q19: =F19/$I19 -> 0.16411483 | R19: =G19/$I19 -> 0.16824706 | S19: =H19/$I19 -> 0.28856024
A20: Esparreguera | B20: 57 | C20: 1312 | D20: 3901 | E20: 2837 | F20: 2071 | G20: 2730 | H20: 5245 | I20: 18153 | L20: Esparreguera | M20: =B20/$I20 -> 0.0031399769 | N20: =C20/$I20 -> 0.072274555 | O20: =D20/$I20 -> 0.21489561 | P20: =E20/$I20 -> 0.15628271 | Q20: =F20/$I20 -> 0.11408583 | R20: =G20/$I20 -> 0.15038837 | S20: =H20/$I20 -> 0.28893296
A21: Esplugues de Llobregat | B21: 26 | C21: 734 | D21: 1270 | E21: 3047 | F21: 2805 | G21: 1121 | H21: 3705 | I21: 12708 | L21: Esplugues de Llobregat | M21: =B21/$I21 -> 0.0020459553 | N21: =C21/$I21 -> 0.057758892 | O21: =D21/$I21 -> 0.099937048 | P21: =E21/$I21 -> 0.23977022 | Q21: =F21/$I21 -> 0.2207271 | R21: =G21/$I21 -> 0.08821215 | S21: =H21/$I21 -> 0.29154863
... A40: Baix Llobregat | B40: 1082 | C40: 26707 | D40: 71908 | E40: 54246 | F40: 58040 | G40: 49101 | H40: 117415 | I40: 378499 | L40: BAIX LLOBREGAT | M40: =B40/$I40 -> 0.0028586601 | N40: =C40/$I40 -> 0.070560292 | O40: =D40/$I40 -> 0.18998201 | P40: =E40/$I40 -> 0.14331874 | Q40: =F40/$I40 -> 0.15334255 | R40: =G40/$I40 -> 0.12972557 | S40: =H40/$I40 -> 0.31021218
A41: Font: OCBL, a partir dels registres mensuals de treballadors en alta darrer dia del mes de l'INSS | L41: Font: OCBL, a partir dels registres mensuals de treballadors en alta darrer dia del mes de l'INSS
A45: Zona | B45: Agricultura | C45: Construcció | D45: Comerç | E45: Indústria | F45: Serveis a la ciutadania | G45: Serveis al consumidor | H45: Serveis relacionats amb l'empresa | I45: Total | L45: Zona | M45: Agricultura | N45: Construcció | O45: Comerç | P45: Indústria | Q45: Serveis a la ciutadania | R45: Serveis al consumidor | S45: Serveis relacionats amb l'empresa
A46: Centre | B46: =+B17+B21+B32+B33+B34 -> 127 | C46: =+C17+C21+C32+C33+C34 -> 8831 | D46: =+D17+D21+D32+D33+D34 -> 20826 | E46: =+E17+E21+E32+E33+E34 -> 15605 | F46: =+F17+F21+F32+F33+F34 -> 19542 | G46: =+G17+G21+G32+G33+G34 -> 17844 | H46: =+H17+H21+H32+H33+H34 -> 38157 | I46: =+I17+I21+I32+I33+I34 -> 120932 | L46: Centre | M46: =+B46/$I46 -> 0.001050177 | N46: =+C46/$I46 -> 0.07302451 | O46: =+D46/$I46 -> 0.17221248 | P46: =+E46/$I46 -> 0.12903946 | Q46: =+F46/$I46 -> 0.16159495 | R46: =+G46/$I46 -> 0.147554 | S46: =+H46/$I46 -> 0.31552443
A47: Delta | B47: =+B11+B12+B22+B19+B30+B39+B29 -> 516 | C47: =+C11+C12+C22+C19+C30+C39+C29 -> 8488 | D47: =+D11+D12+D22+D19+D30+D39+D29 -> 21462 | E47: =+E11+E12+E22+E19+E30+E39+E29 -> 12784 | F47: =+F11+F12+F22+F19+F30+F39+F29 -> 18347 | G47: =+G11+G12+G22+G19+G30+G39+G29 -> 17626 | H47: =+H11+H12+H22+H19+H30+H39+H29 -> 31382 | I47: =+I11+I12+I22+I19+I30+I39+I29 -> 110605 | L47: Delta | M47: =+B47/$I47 -> 0.0046652502 | N47: =+C47/$I47 -> 0.076741558 | O47: =+D47/$I47 -> 0.19404186 | P47: =+E47/$I47 -> 0.11558248 | Q47: =+F47/$I47 -> 0.16587858 | R47: =+G47/$I47 -> 0.15935988 | S47: =+H47/$I47 -> 0.28373039
A48: Nord | B48: =+B10+B13+B15+B20+B24+B26+B28+B31 -> 184 | C48: =+C10+C13+C15+C20+C24+C26+C28+C31 -> 4141 | D48: =+D10+D13+D15+D20+D24+D26+D28+D31 -> 9503 | E48: =+E10+E13+E15+E20+E24+E26+E28+E31 -> 13891 | F48: =+F10+F13+F15+F20+F24+F26+F28+F31 -> 5870 | G48: =+G10+G13+G15+G20+G24+G26+G28+G31 -> 5179 | H48: =+H10+H13+H15+H20+H24+H26+H28+H31 -> 12919 | I48: =+I10+I13+I15+I20+I24+I26+I28+I31 -> 51687 | L48: Nord | M48: =+B48/$I48 -> 0.0035598893 | N48: =+C48/$I48 -> 0.080116857 | O48: =+D48/$I48 -> 0.18385668 | P48: =+E48/$I48 -> 0.2687523 | Q48: =+F48/$I48 -> 0.11356821 | R48: =+G48/$I48 -> 0.10019928 | S48: =+H48/$I48 -> 0.2499468
A49: Vall Baixa | B49: =+B14+B16+B25+B27+B23+B18+B35+B36+B37+B38 -> 255 | C49: =+C14+C16+C25+C27+C23+C18+C35+C36+C37+C38 -> 5247 | D49: =+D14+D16+D25+D27+D23+D18+D35+D36+D37+D38 -> 20117 | E49: =+E14+E16+E25+E27+E23+E18+E35+E36+E37+E38 -> 11966 | F49: =+F14+F16+F25+F27+F23+F18+F35+F36+F37+F38 -> 14281 | G49: =+G14+G16+G25+G27+G23+G18+G35+G36+G37+G38 -> 8452 | H49: =+H14+H16+H25+H27+H23+H18+H35+H36+H37+H38 -> 34957 | I49: =+I14+I16+I25+I27+I23+I18+I35+I36+I37+I38 -> 95275 | L49: Vall Baixa | M49: =+B49/$I49 -> 0.0026764629 | N49: =+C49/$I49 -> 0.05507216 | O49: =+D49/$I49 -> 0.21114668 | P49: =+E49/$I49 -> 0.12559433 | Q49: =+F49/$I49 -> 0.14989242 | R49: =+G49/$I49 -> 0.088711624 | S49: =+H49/$I49 -> 0.36690632
A50: Total | B50: =+SUM(B46:B49) -> 1082 | C50: =+SUM(C46:C49) -> 26707 | D50: =+SUM(D46:D49) -> 71908 | E50: =+SUM(E46:E49) -> 54246 | F50: =+SUM(F46:F49) -> 58040 | G50: =+SUM(G46:G49) -> 49101 | H50: =+SUM(H46:H49) -> 117415 | I50: =+SUM(I46:I49) -> 378499 | L50: Total | M50: =+B50/$I50 -> 0.0028586601 | N50: =+C50/$I50 -> 0.070560292 | O50: =+D50/$I50 -> 0.18998201 | P50: =+E50/$I50 -> 0.14331874 | Q50: =+F50/$I50 -> 0.15334255 | R50: =+G50/$I50 -> 0.12972557 | S50: =+H50/$I50 -> 0.31021218
A51: Font: OCBL, a partir dels registres mensuals de treballadors en alta darrer dia del mes de l'INSS | L51: Font: OCBL, a partir dels registres mensuals de treballadors en alta darrer dia del mes de l'INSS
G54: Distribució dels llocs de treball segons sectors productius. Baix Llobregat.
G82: Font: OCBL, a partir dels registres mensuals de treballadors en alta darrer dia del mes de l'INSS

Sheet G7S2
A1: TORNAR A L'ÍNDEX | I1: BAIX LLOBREGAT
J2: Dones | K2: Homes | L2: Diferencial (D-H/D)%
A3: =Índex!A45 -> ANÀLISI SEGONS 7 SECTORS PRODUCTIUS | I3: AGRICULTURA | J3: 0.23844732 | K3: 0.76155268 | L3: -0.6868932
I4: CONSTRUCCIÓ | J4: 0.12865541 | K4: 0.87134459 | L4: -0.85234842
A5: =Índex!A50 -> G7S2 | C5: =Índex!A7 -> 3r trimestre 2025 | I5: COMERÇ | J5: 0.46247984 | K5: 0.53752016 | L5: -0.13960468
A6: =Índex!B50 -> Llocs de treball segons sexe. | I6: INDÚSTRIA | J6: 0.32889061 | K6: 0.67110939 | L6: -0.50992995
I7: SERVEIS A LA CIUTADANIA | J7: 0.71061924 | K7: 0.28938076 | L7: 1.4556548
A8: % dones segons sectors productius i àmbits territorials. | I8: SERVEIS AL CONSUMIDOR | J8: 0.55259567 | K8: 0.44740433 | L8: 0.23511471
B9: Baix Llobregat | C9: AMB | D9: Catalunya | I9: SERVEIS RELACIONATS AMB L’EMPRESA | J9: 0.40200145 | K9: 0.59799855 | L9: -0.32775515
A10: Agricultura | B10: 0.23844732 | C10: 0.22633003 | D10: 0.2199073 | I10: Total | J10: 0.45012866 | K10: 0.54987134 | L10: -0.18139276
A11: Construcció | B11: 0.12865541 | C11: 0.1462849 | D11: 0.13950866 | I11: AMB
A12: Comerç | B12: 0.46247984 | C12: 0.49587526 | D12: 0.49040154 | J12: Dones | K12: Homes | L12: Diferencial (D-H/D)%
A13: Indústria | B13: 0.32889061 | C13: 0.34037852 | D13: 0.3285695 | I13: AGRICULTURA | J13: 0.22633003 | K13: 0.77366997 | L13: -0.70745921
A14: Serveis a la ciutadania | B14: 0.71061924 | C14: 0.67453865 | D14: 0.50867414 | I14: CONSTRUCCIÓ | J14: 0.1462849 | K14: 0.8537151 | L14: -0.82864905
A15: Serveis al consumidor | B15: 0.55259567 | C15: 0.53432817 | D15: 0.54434433 | I15: COMERÇ | J15: 0.49587526 | K15: 0.50412474 | L15: -0.016363957
A16: Serveis relacionats a l'empresa | B16: 0.40200145 | C16: 0.44000095 | D16: 0.43451153 | I16: INDÚSTRIA | J16: 0.34037852 | K16: 0.65962148 | L16: -0.48397903
A17: Total | B17: 0.45012866 | C17: 0.49148853 | D17: 0.47444441 | I17: SERVEIS A LA CIUTADANIA | J17: 0.67453865 | K17: 0.32546135 | L17: 1.0725614
A18: Font: OCBL, a partir dels registres mensuals de treballadors en alta darrer dia del mes de l'INSS. | I18: SERVEIS AL CONSUMIDOR | J18: 0.53432817 | K18: 0.46567183 | L18: 0.14743501
A19: *Als registres amb secret estadístic (menys de 5 individus) se'ls hi ha assignat un 5. | I19: SERVEIS RELACIONATS AMB L’EMPRESA | J19: 0.44000095 | K19: 0.55999905 | L19: -0.21428269
I20: Total | J20: 0.49148853 | K20: 0.50851147 | L20: -0.033476025
A21: Llocs de treball segons sexe i sectors productius.
I22: CATALUNYA
J23: Dones | K23: Homes | L23: Diferencial (D-H/D)%
I24: AGRICULTURA | J24: 0.2199073 | K24: 0.7800927 | L24: -0.71810107
I25: CONSTRUCCIÓ | J25: 0.13950866 | K25: 0.86049134 | L25: -0.83787325
I26: COMERÇ | J26: 0.49040154 | K26: 0.50959846 | L26: -0.037670683
I27: INDÚSTRIA | J27: 0.3285695 | K27: 0.6714305 | L27: -0.51064258
I28: SERVEIS A LA CIUTADANIA | J28: 0.50867414 | K28: 0.49132586 | L28: 0.035309098
I29: SERVEIS AL CONSUMIDOR | J29: 0.54434433 | K29: 0.45565567 | L29: 0.19463964
I30: SERVEIS RELACIONATS AMB L’EMPRESA | J30: 0.43451153 | K30: 0.56548847 | L30: -0.23161734
I31: Total | J31: 0.47444441 | K31: 0.52555559 | L31: -0.097251697
A44: Font: OCBL, a partir dels registres mensuals de treballadors en alta darrer dia del mes de l'INSS.

Sheet T7S3
A1: TORNAR A L'ÍNDEX
A3: =Índex!A45 -> ANÀLISI SEGONS 7 SECTORS PRODUCTIUS
A5: =Índex!A51 -> T7S3 | C5: =Índex!A7 -> 3r trimestre 2025
A6: =Índex!B51 -> Diferencial segons sexe de les activitats econòmiques.
B8: % | C8: Absolut
A9: Agricultura | B9: -0.6868932 | C9: -566
A10: Construcció | B10: -0.85234842 | C10: -19835
A11: Comerç | B11: -0.13960468 | C11: -5396
A12: Indústria | B12: -0.50992995 | C12: -18564
A13: Serveis a la ciutadania | B13: 1.4556548 | C13: 24455
A14: Serveis al consumidor | B14: 0.23511471 | C14: 5165
A15: Serveis relacionats a l'empresa | B15: -0.32775515 | C15: -23013
A16: Font: OCBL, a partir dels registres mensuals de treballadors en alta darrer dia del mes de l'INSS.

Sheet TTC1
A1: TORNAR A L'ÍNDEX
A3: =Índex!A53 -> ÚS DE TECNOLOGIA i CONEIXEMENT
A5: =Índex!A55 -> TTC1 | C5: =Índex!A7 -> 3r trimestre 2025
A6: =Índex!B55 -> Llocs de treball segons ús de tecnologia i coneixement. Baix Llobregat i àmbits territorials.
B9: INDÚSTRIA | C9: SERVEIS
B10: Activitats de tecnologia alta i mitjana-alta | C10: Activitats basades en el coneixement
A11: Baix Llobregat | B11: 0.38060333 | C11: 0.41942648
A12: Àmbit Territorial Metropolità | B12: 0.40839641 | C12: 0.5102992
A13: Catalunya | B13: 0.32615843 | C13: 0.49173917
A14: Font: OCBL, a partir de les dades d'Estadística de l'ocupació assalariada i autònoma segons afiliacions a la Seguretat Social d'IDESCAT.
A19: % llocs de treball d'activitats d'indústria de tecnologia alta i mitjana alta i de serveis basades en el coneixement.
A34: Font: OCBL, a partir de les dades d'Estadística de l'ocupació assalariada i autònoma segons afiliacions a la Seguretat Social d'IDESCAT.

Sheet TTC2
A1: TORNAR A L'ÍNDEX
A3: =Índex!A53 -> ÚS DE TECNOLOGIA i CONEIXEMENT
A5: =Índex!A56 -> TTC2 | C5: =Índex!A7 -> 3r trimestre 2025
A6: =Índex!B56 -> Llocs de treball segons ús de tecnologia i coneixement. Dades municipals.
B8: INDÚSTRIA | C8: SERVEIS
B9: Activitats de tecnologia alta i mitjana-alta | C9: Activitats basades en el coneixement
A10: Abrera | B10: 0.58534743 | C10: 0.27583606
A11: Begues | B11: 0.14830508 | C11: 0.47054076
A12: Castelldefels | B12: 0.36192626 | C12: 0.40800189
A13: Castellví de Rosanes | B13: 0.2245509 | C13: 0.66847826
A14: Cervelló | B14: 0.62530713 | C14: 0.41406908
A15: Collbató | B15: 0.30653266 | C15: 0.44158879
A16: Corbera de Llobregat | B16: 0.57674419 | C16: 0.47585346
A17: Cornellà de Llobregat | B17: 0.41237453 | C17: 0.39796122
A18: El Papiol | B18: 0.31257862 | C18: 0.40711542
A19: El Prat de Llobregat | B19: 0.28882915 | C19: 0.50566017
A20: Esparreguera | B20: 0.47765177 | C20: 0.29520268
A21: Esplugues de Llobregat | B21: 0.4044556 | C21: 0.57435604
... A39: Viladecans | B39: 0.28206153 | C39: 0.43782906
A40: Font: OCBL, a partir dels registres mensuals de treballadors en alta darrer dia del mes de l'INSS.

Sheet Instamaps dones
A1: Codi_INE | B1: Municipi | C1: Agricultura | D1: Construcció | E1: Comerç | F1: Indústria | G1: Serveis a la ciutadania | H1: Serveis al consumidor | I1: Serveis relacionats amb empresa | J1: Total_Dones | L1: Fet!
A2: 08001 | B2: Abrera | C2: 0.3125 | D2: 0.15698925 | E2: 0.35707845 | F2: 0.2276511 | G2: 0.69553806 | H2: 0.58009709 | I2: 0.25573034 | J2: 0.27695111
A3: 08020 | B3: Begues | C3: 0.3125 | D3: 0.13812155 | E3: 0.4738806 | F3: 0.37339056 | G3: 0.62204724 | H3: 0.53571429 | I3: 0.41404358 | J3: 0.47560976
A4: 08056 | B4: Castelldefels | C4: 0.4 | D4: 0.14675516 | E4: 0.47570657 | F4: 0.23535354 | G4: 0.70886551 | H4: 0.51967494 | I4: 0.41138716 | J4: 0.4782711
A5: 08066 | B5: Castellví de Rosanes | C5: 0 | D5: 0.26153846 | E5: 0.40782123 | F5: 0.38244514 | G5: 0.69736842 | H5: 0.43076923 | I5: 0.2472119 | J5: 0.3585086
A6: 08068 | B6: Cervelló | C6: 0.5 | D6: 0.11522634 | E6: 0.31756757 | F6: 0.432703 | G6: 0.71052632 | H6: 0.65753425 | I6: 0.3379694 | J6: 0.43682796
A7: 08069 | B7: Collbató | C7: 0.25 | D7: 0.14285714 | E7: 0.49180328 | F7: 0.34078212 | G7: 0.64670659 | H7: 0.57627119 | I7: 0.41481481 | J7: 0.45985401
A8: 08072 | B8: Corbera de Llobregat | C8: 0.25 | D8: 0.10826211 | E8: 0.45111111 | F8: 0.470726 | G8: 0.72924188 | H8: 0.62523901 | I8: 0.35538262 | J8: 0.53254024
A9: 08073 | B9: Cornellà de Llobregat | C9: 0.23255814 | D9: 0.12028725 | E9: 0.4398193 | F9: 0.26254826 | G9: 0.71256765 | H9: 0.60129112 | I9: 0.4106914 | J9: 0.39583178
A10: 08158 | B10: El Papiol | C10: 0.4 | D10: 0.083526682 | E10: 0.47352722 | F10: 0.31301069 | G10: 0.67664671 | H10: 0.58190328 | I10: 0.34677905 | J10: 0.34526112
A11: 08169 | B11: El Prat de Llobregat | C11: 0.2 | D11: 0.12820513 | E11: 0.5095776 | F11: 0.45107604 | G11: 0.70612583 | H11: 0.56971938 | I11: 0.51358025 | J11: 0.45089712
A12: 08076 | B12: Esparreguera | C12: 0.17391304 | D12: 0.10618182 | E12: 0.45801527 | F12: 0.33517292 | G12: 0.69274909 | H12: 0.52687225 | I12: 0.39990433 | J12: 0.40012034 | M12: PES MUNICIPAL DELS LLOCS DE TREBALL OCUPATS PER DONES EL 2T 2022 (JUNY)
A13: 08077 | B13: Esplugues de Llobregat | C13: 0.3125 | D13: 0.10784314 | E13: 0.43414211 | F13: 0.26266996 | G13: 0.70727432 | H13: 0.54580521 | I13: 0.33378333 | J13: 0.54211071
A14: 08089 | B14: Gavà | C14: 0.32258065 | D14: 0.13018598 | E14: 0.3877822 | F14: 0.32123412 | G14: 0.74363636 | H14: 0.53863636 | I14: 0.34288538 | J14: 0.41533217
A15: 08905 | B15: La Palma de Cervelló | C15: 0.41666667 | D15: 0.10920771 | E15: 0.53043478 | F15: 0.32075472 | G15: 0.69795038 | H15: 0.59883721 | I15: 0.3920742 | J15: 0.4304419
A16: 08114 | B16: Martorell | C16: 0 | D16: 0.087912088 | E16: 0.37238095 | F16: 0.28543689 | G16: 0.73630137 | H16: 0.62041885 | I16: 0.35993976 | J16: 0.40648056
A17: 08123 | B17: Molins de Rei | C17: 0.5 | D17: 0.17575758 | E17: 0.43835616 | F17: 0.36594203 | G17: 0.58823529 | H17: 0.61764706 | I17: 0.42276423 | J17: 0.40494324
A18: 08147 | B18: Olesa de Montserrat | C18: 0.3125 | D18: 0.12886598 | E18: 0.28346457 | F18: 0.39823009 | G18: 0.57758621 | H18: 0.48305085 | I18: 0.3592233 | J18: 0.47406035
A19: 08157 | B19: Pallejà | C19: 0.13888889 | D19: 0.13235294 | E19: 0.57162038 | F19: 0.28657653 | G19: 0.75698372 | H19: 0.52449298 | I19: 0.37863337 | J19: 0.38751868
A20: 08196 | B20: Sant Andreu de la Barca | C20: 0.3125 | D20: 0.094869313 | E20: 0.39263804 | F20: 0.29772727 | G20: 0.81218457 | H20: 0.65576748 | I20: 0.40219092 | J20: 0.37602645
A21: 08200 | B21: Sant Boi de Llobregat | C21: 0.1497006 | D21: 0.083725988 | E21: 0.39216316 | F21: 0.3302653 | G21: 0.71933567 | H21: 0.56287806 | I21: 0.38893443 | J21: 0.45242955
A22: 08204 | B22: Sant Climent de Llobregat | C22: 0.25 | D22: 0.16806723 | E22: 0.48888889 | F22: 0.33103448 | G22: 0.60674157 | H22: 0.69026549 | I22: 0.3516129 | J22: 0.36859504
A23: 08208 | B23: Sant Esteve Sesrovires | C23: 0.29411765 | D23: 0.19607843 | E23: 0.33415842 | F23: 0.35259133 | G23: 0.23740458 | H23: 0.60691824 | I23: 0.29841897 | J23: 0.31707769
A24: 08211 | B24: Sant Feliu de Llobregat | C24: 0.30952381 | D24: 0.12885662 | E24: 0.48423851 | F24: 0.27713499 | G24: 0.68125439 | H24: 0.59513961 | I24: 0.41832964 | J24: 0.55222357
... A31: 08301 | B31: Viladecans | C31: 0.16049383 | D31: 0.11985527 | E31: 0.46617284 | F31: 0.36765271 | G31: 0.72199454 | H31: 0.6347359 | I31: 0.40609952 | J31: 0.47741487
