Workbook

Sheet Índex
A6: INFORME TRIMESTRAL ESTRUCTURA PRODUCTIVA
A7: 4t trimestre 2022
A9: CONTINGUT
A10: Fer click als vincles per anar als documents, taules i gràfics corresponents
A12: GG | B12: Variació interanual del conjunt de components de l'estructura productiva. Evolució recent de l'estructura productiva del Baix Llobregat.
A13: TG | B13: =[1]TG!A7 -> Posicionament comarcal en el context de l'àmbit territorial metropolità i Catalunya. Estructura productiva.
A15: EMPRESES
A17: GE1 | B17: Comptes de cotització segons àmbit territorial.
A18: GE2 | B18: Variació interanual comptes de cotització. Baix Llobregat.
A19: TE1 | B19: Activitats econòmiques més rellevants. Baix Llobregat.
A20: TE2 | B20: Dinamisme empresarial.
A21: TE3 | B21: Dades municipals.
A23: LLOCS DE TREBALL
A25: Règim General Seguretat Social (RGSS)
A27: GRGSS1 | B27: Llocs de treball assalariat segons àmbit territorial.
A28: GRGSS2 | B28: Variació interanual llocs de treball assalariat. Baix Llobregat.
A29: GRGSS3 | B29: Variació interanual llocs de treball assalariat per grandària del compte de cotització. Baix Llobregat.
A30: TRGSS1 | B30: Activitats econòmiques més rellevants. Baix Llobregat.
A31: TRGSS2 | B31: Dinamisme llocs de treball.
A32: TRGSS3 | B32: Dades municipals.
A33: TRGSS4 | B33: Dades municipals. Llocs de treball assalariat per grandària del compte de cotització.
A34: TRGSS5 | B34: Dades municipals. Relació entre població ocupada i llocs de treball.
A35: TRGSS6 | B35: Dades municipals. Llocs de treball assalariat ocupats per dones.
A37: Règim Especial Treballadors Autònoms (RETA)
A39: GRETA1 | B39: Llocs de treball autònom segons àmbit territorial.
A40: GRETA2 | B40: Variació interanual llocs de treball autònom. Baix Llobregat.
A41: TRETA1 | B41: Activitats econòmiques més rellevants. Baix Llobregat.
A42: TRETA2 | B42: Dinamisme llocs de treball.
A43: TRETA3 | B43: Dades municipals.
A45: ANÀLISI SEGONS 7 SECTORS PRODUCTIUS
A47: T7S1 | B47: Llocs de treball segons àmbit territorial
A48: G7S1 | B48: Variació intertrimestral llocs de treball. Baix Llobregat.
A49: T7S2 | B49: Llocs de treball segons municipi.
A50: G7S2 | B50: Llocs de treball segons sexe.
A51: T7S3 | B51: Diferencial segons sexe de les activitats econòmiques.
A53: ÚS DE TECNOLOGIA i CONEIXEMENT
A55: TTC1 | B55: Llocs de treball segons ús de tecnologia i coneixement. Baix Llobregat i àmbits territorials.
A56: TTC2 | B56: Llocs de treball segons ús de tecnologia i coneixement. Dades municipals.

Sheet GG
A1: TORNAR A L'ÍNDEX
A3: EMPRESES, LLOCS DE TREBALL, RGSS I RETA
A5: GG | C5: =Índex!A7 -> 4t trimestre 2022
A7: Variació interanual de l'estructura productiva. Baix Llobregat i àmbits territorials de referència
A30: Les dades de 2021 provenen d'Idescat, a partir dels fitxers d'afiliacions i comptes de cotització de la Tresoreria General de la Seguretat Social. Dades provisionals.
B32: Empreses | C32: Total llocs de treball | D32: RGSS | E32: RETA
A33: Baix Llobregat | B33: ='GE1'!C32 -> -0.0076397457 | C33: 0.035368181 | D33: =GRGSS1!C32 -> 0.042806015 | E33: =GRETA1!C32 -> -0.0075233835
A34: Àrea Metropolitana de Barcelona | B34: ='GE1'!C33 -> 0.001553938 | C34: 0.034299469 | D34: =GRGSS1!C33 -> 0.039674263 | E34: =GRETA1!C33 -> -0.00050810857
A35: Àmbit Territorial Metropolità | B35: ='GE1'!C34 -> 0.00041709299 | C35: 0.03057653 | D35: =GRGSS1!C34 -> 0.036228819 | E35: =GRETA1!C34 -> -0.0017724109
A36: Catalunya | B36: ='GE1'!C35 -> 0.0028684381 | C36: 0.028053528 | D36: =GRGSS1!C35 -> 0.033955493 | E36: =GRETA1!C35 -> -0.0020048151
A62: Les dades de 2021 provenen d'Idescat, a partir dels fitxers d'afiliacions i comptes de cotització de la Tresoreria General de la Seguretat Social. Dades provisionals.
B64: Empreses | C64: Total llocs de treball | D64: RGSS | E64: RETA
A65: Variació anual | B65: ='GE1'!C32 -> -0.0076397457 | C65: 0.035368181 | D65: =GRGSS1!C32 -> 0.042806015 | E65: =GRETA1!C32 -> -0.0075233835
A66: Variació 2019 | B66: ='GE1'!E32 -> -0.065633098 | C66: 0.048643828 | D66: =GRGSS1!E32 -> 0.063306931 | E66: =GRETA1!E32 -> -0.032219689

Sheet TG
A1: TORNAR A L'ÍNDEX | B1: Fet!
D2: =B20+B30 -> 344555
A3: =[2]GG!A3 -> EMPRESES, LLOCS DE TREBALL, RGSS I RETA | D3: =B25+B35 -> 1826185
A5: TG | B5: 4t trimestre 2022
A7: Posicionament comarcal en el context de l'àmbit territorial metropolità i Catalunya. Estructura productiva. | H7: Ocultar
B8: n | C8: % / Total ATM | D8: % / Total Catalunya | E8: Variació trimestral | H8: Trimestre anterior
A9: CENTRES DE COTITZACIÓ | E9: n | F9: % | H9: 3r 2022
A10: BAIX LLOBREGAT | B10: 20913 | C10: =B10/$B$16 -> 0.13623483 | D10: =B10/$B$17 -> 0.085696373 | E10: =B10-H10 -> 97 | F10: =E10/H10 -> 0.004659877 | H10: 20816
A11: Barcelonès | B11: 83317 | C11: =B11/$B$16 -> 0.54275701 | D11: =B11/$B$17 -> 0.34141274 | E11: =B11-H11 -> 344 | F11: =E11/H11 -> 0.004145927 | H11: 82973
A12: Maresme | B12: 11995 | C12: =B12/$B$16 -> 0.078139759 | D12: =B12/$B$17 -> 0.049152584 | E12: =B12-H12 -> -105 | F12: =E12/H12 -> -0.008677686 | H12: 12100
A13: Vallès Occidental | B13: 25356 | C13: =B13/$B$16 -> 0.16517814 | D13: =B13/$B$17 -> 0.1039027 | E13: =B13-H13 -> 201 | F13: =E13/H13 -> 0.0079904592 | H13: 25155
A14: Vallès Oriental | B14: 11795 | C14: =B14/$B$16 -> 0.076836887 | D14: =B14/$B$17 -> 0.048333033 | E14: =B14-H14 -> 27 | F14: =E14/H14 -> 0.0022943576 | H14: 11768
A15: Àrea Metropolitana de Barcelona (AMB) | B15: 110214 | C15: - | D15: =B15/B16 -> 0.71797377 | E15: =B15-H15 -> 482 | F15: =E15/H15 -> 0.00439252 | H15: 109732
A16: Àmbit Territorial Metropolità (ATM) | B16: 153507 | C16: - | D16: =B16/B17 -> 0.62903424 | E16: =B16-H16 -> 695 | F16: =E16/H16 -> 0.0045480721 | H16: 152812
A17: Catalunya | B17: 244036 | C17: - | D17: - | E17: =B17-H17 -> -930 | F17: =E17/H17 -> -0.0037964452 | H17: 244966
B18: n | C18: % / Total ATM | D18: % / Total Catalunya | E18: Variació trimestral | H18: n
A19: POBLACIÓ ASSALARIADA | E19: n | F19: %
A20: BAIX LLOBREGAT | B20: 295745 | C20: =B20/$B$26 -> 0.14371937 | D20: =B20/$B$27 -> 0.10053182 | E20: =B20-H20 -> 4615 | F20: =E20/H20 -> 0.015852025 | H20: 291130
A21: Barcelonès | B21: 1189595 | C21: =B21/$B$26 -> 0.57809208 | D21: =B21/$B$27 -> 0.40437588 | E21: =B21-H21 -> 19575 | F21: =E21/H21 -> 0.016730483 | H21: 1170020
A22: Maresme | B22: 104545 | C22: =B22/$B$26 -> 0.05080438 | D22: =B22/$B$27 -> 0.035537706 | E22: =B22-H22 -> -2265 | F22: =E22/H22 -> -0.02120588 | H22: 106810
A23: Vallès Occidental | B23: 342785 | C23: =B23/$B$26 -> 0.16657879 | D23: =B23/$B$27 -> 0.116522 | E23: =B23-H23 -> 5255 | F23: =E23/H23 -> 0.015568986 | H23: 337530
A24: Vallès Oriental | B24: 124055 | C24: =B24/$B$26 -> 0.060285403 | D24: =B24/$B$27 -> 0.042169688 | E24: =B24-H24 -> -935 | F24: =E24/H24 -> -0.0074805984 | H24: 124990
A25: Àrea Metropolitana de Barcelona (AMB) | B25: 1590135 | C25: - | D25: =B25/$B$27 -> 0.54053039 | E25: =B25-H25 -> 25045 | F25: =E25/H25 -> 0.016002275 | H25: 1565090
A26: Àmbit Territorial Metropolità (ATM) | B26: 2057795 | C26: - | D26: =B26/$B$27 -> 0.69950082 | E26: =B26-H26 -> 27315 | F26: =E26/H26 -> 0.013452484 | H26: 2030480
A27: Catalunya | B27: 2941805 | C27: - | D27: - | E27: =B27-H27 -> 10355 | F27: =E27/H27 -> 0.0035323816 | H27: 2931450
B28: n | C28: % / Total ATM | D28: % / Total Catalunya | E28: Variació trimestral | H28: n
A29: POBLACIÓ DEL RÈGIM AUTÒNOM | E29: n | F29: %
A30: BAIX LLOBREGAT | B30: 48810 | C30: =B30/$B$36 -> 0.14091867 | D30: =B30/$B$37 -> 0.087546073 | E30: =B30-H30 -> 230 | F30: =E30/H30 -> 0.0047344586 | H30: 48580
A31: Barcelonès | B31: 173065 | C31: =B31/$B$36 -> 0.49965355 | D31: =B31/$B$37 -> 0.31041101 | E31: =B31-H31 -> 1545 | F31: =E31/H31 -> 0.0090076959 | H31: 171520
A32: Maresme | B32: 33750 | C32: =B32/$B$36 -> 0.097439155 | D32: =B32/$B$37 -> 0.060534316 | E32: =B32-H32 -> 80 | F32: =E32/H32 -> 0.0023760024 | H32: 33670
A33: Vallès Occidental | B33: 61005 | C33: =B33/$B$36 -> 0.17612669 | D33: =B33/$B$37 -> 0.10941914 | E33: =B33-H33 -> 270 | F33: =E33/H33 -> 0.0044455421 | H33: 60735
A34: Vallès Oriental | B34: 29380 | C34: =B34/$B$36 -> 0.084822589 | D34: =B34/$B$37 -> 0.052696243 | E34: =B34-H34 -> 210 | F34: =E34/H34 -> 0.0071991772 | H34: 29170
A35: Àrea Metropolitana de Barcelona (AMB) | B35: 236050 | C35: - | D35: =B35/$B$37 -> 0.42338149 | E35: =B35-H35 -> 1845 | F35: =E35/H35 -> 0.007877714 | H35: 234205
A36: Àmbit Territorial Metropolità (ATM) | B36: 346370 | C36: - | D36: =B36/$B$37 -> 0.62125248 | E36: =B36-H36 -> 2695 | F36: =E36/H36 -> 0.0078417109 | H36: 343675
A37: Catalunya | B37: 557535 | C37: - | D37: - | E37: =B37-H37 -> 2265 | F37: =E37/H37 -> 0.0040790967 | H37: 555270
A38: Font: OCBL, a partir de les dades d'Estadística de l'ocupació assalariada i autònoma segons afiliacions a la Seguretat Social d'IDESCAT.
B41: =B30+B20 -> 344555

Sheet GE1
A1: TORNAR A L'ÍNDEX
A3: EMPRESES
A5: GE1 | C5: =Índex!A7 -> 4t trimestre 2022
A6: Comptes de cotització segons àmbit territorial.
A29: Les dades de 2021 provenen d'Idescat, a partir dels fitxers d'afiliacions i comptes de cotització de la Tresoreria General de la Seguretat Social. Dades provisionals.
B31: Empreses | C31: variació 2022-2021 | D31: variació 2022-2020 | E31: variació 2022-2019 | F31: variació 2022-2008
A32: Baix Llobregat | B32: 20913 | C32: -0.0076397457 | D32: 0.016625346 | E32: -0.065633098 | F32: -0.09050187
A33: Àrea Metropolitana de Barcelona | B33: 110214 | C33: 0.001553938 | D33: 0.023608738 | E33: -0.06906775 | F33: -0.081059899
A34: Àmbit Territorial Metropolità | B34: 153507 | C34: 0.00041709299 | D34: 0.023632496 | E34: -0.063918921 | F34: -0.13208646
A35: Catalunya | B35: 244036 | C35: 0.0028684381 | D35: 0.027303726 | E35: -0.054234004 | F35: -0.097947023

Sheet GE2
A1: TORNAR A L'ÍNDEX | B1: Fet!
A3: EMPRESES
A5: GE2 | C5: =Índex!A7 -> 4t trimestre 2022
A6: =Índex!B18 -> Variació interanual comptes de cotització. Baix Llobregat.
A29: Les dades de 2021 provenen d'Idescat, a partir dels fitxers d'afiliacions i comptes de cotització de la Tresoreria General de la Seguretat Social. Dades provisionals.
B31: Empreses | C31: Variació interanual
A32: 2016 | B32: 21840 | C32: =(B32-B40)/B40 -> 0.030480325
A33: 2017 | B33: 22022 | C33: =(B33-B32)/B32 -> 0.0083333333
A34: 2018 | B34: 22146 | C34: =(B34-B33)/B33 -> 0.0056307329
A35: 2019 | B35: 22382 | C35: =(B35-B34)/B34 -> 0.010656552
A36: 2020 | B36: 20571 | C36: =(B36-B35)/B35 -> -0.080913234
A37: 2021 | B37: 21074 | C37: =(B37-B36)/B36 -> 0.024451898
A38: 2022 | B38: 20913 | C38: =(B38-B37)/B37 -> -0.0076397457
A40: 2015 | B40: 21194

Sheet TE1
A1: TORNAR A L'ÍNDEX | B1: Fet!
A3: EMPRESES
A5: =Índex!A19 -> TE1 | C5: =Índex!A7 -> 4t trimestre 2022
A6: =Índex!B19 -> Activitats econòmiques més rellevants. Baix Llobregat.
D8: Variació
B9: 2022 | C9: %total | D9: 2021-2022 | E9: 2020-2022 | F9: 2019-2022 | G9: 2008-2022
A10: Total | B10: 20913 | D10: -0.0076397457 | E10: 0.016625346 | F10: -0.065633098 | G10: -0.09050187
A11: 47-Comerç al detall, excepte el comerç de vehicles de motor i motocicletes | B11: 2933 | C11: 0.14024769 | D11: -0.04244205 | E11: -0.022659114 | F11: -0.079120879 | G11: -0.11201938
A12: 56-Serveis de menjar i begudes | B12: 2029 | C12: 0.097020992 | D12: -0.01600388 | E12: 0.067332983 | F12: -0.054079254 | G12: 0.070712401
A13: 46-Comerç a l'engròs i intermediaris del comerç, excepte vehicles de motor i motocicletes | B13: 1978 | C13: 0.094582317 | D13: -0.00050530571 | E13: 0.0066157761 | F13: -0.11260655 | G13: -0.10941018
A14: 43-Activitats especialitzades de la construcció | B14: 1487 | C14: 0.071104098 | D14: -0.026832461 | E14: -0.0046854083 | F14: -0.065954774 | G14: -0.29792257
A15: 49-Transport terrestre; transport per canonades | B15: 1048 | C15: 0.05011237 | D15: 0.010607522 | E15: 0.044865404 | F15: -0.08150745 | G15: -0.26917713
A16: 41-Construcció d'immobles | B16: 874 | C16: 0.041792187 | D16: 0.029446408 | E16: 0.080346106 | F16: 0.063260341 | G16: -0.25743415
A17: 96-Altres activitats de serveis personals | B17: 868 | C17: 0.041505284 | D17: 0.021176471 | E17: 0.052121212 | F17: -0.032329989 | G17: 0.032104637
A18: 68-Activitats immobiliàries | B18: 697 | C18: 0.033328552 | D18: 0.031065089 | E18: 0.075617284 | F18: -0.011347518 | G18: 0.28360958
A19: 85-Educació | B19: 633 | C19: 0.030268254 | D19: -0.018604651 | E19: 0.0079617834 | F19: -0.070484581 | G19: 0.23874755
A20: 45-Venda i reparació de vehicles de motor i motocicletes | B20: 591 | C20: 0.028259934 | D20: -0.024752475 | E20: -0.057416268 | F20: -0.13088235 | G20: -0.16525424
A22: Les dades de 2021 provenen d'Idescat, a partir dels fitxers d'afiliacions i comptes de cotització de la Tresoreria General de la Seguretat Social. Dades provisionals.

Sheet TE2
A1: TORNAR A L'ÍNDEX | B1: Fet!
A3: ='TE1'!A3 -> EMPRESES
A5: =Índex!A20 -> TE2 | C5: =Índex!A7 -> 4t trimestre 2022
A6: =Índex!B20 -> Dinamisme empresarial.
A7: ACTIVITATS QUE MÉS HAN AUGMENTAT | B7: n | C7: Variació anual
C8: n | D8: %
A9: 41-Construcció d'immobles | B9: 874 | C9: 25 | D9: 0.029446408
A10: 68-Activitats immobiliàries | B10: 697 | C10: 21 | D10: 0.031065089
A11: 96-Altres activitats de serveis personals | B11: 868 | C11: 18 | D11: 0.021176471
A12: 86-Activitats sanitàries | B12: 556 | C12: 14 | D12: 0.025830258
A13: 49-Transport terrestre; transport per canonades | B13: 1048 | C13: 11 | D13: 0.010607522
A14: 64-Mediació financera, excepte assegurances i fons de pensions | B14: 57 | C14: 10 | D14: 0.21276596
A15: 81-Serveis a edificis i activitats de jardineria | B15: 451 | C15: 10 | D15: 0.022675737
A16: 38-Activitats de recollida, tractament i eliminació de residus; activitats de valorització | B16: 58 | C16: 7 | D16: 0.1372549
A17: 82-Activitats administratives d'oficina i altres activitats auxiliars a les empreses | B17: 309 | C17: 6 | D17: 0.01980198
A18: 32-Indústries manufactureres diverses | B18: 74 | C18: 5 | D18: 0.072463768
A19: ACTIVITATS QUE MÉS HAN DISMINUÏT | B19: n | C19: Variació anual
C20: n | D20: %
A21: 47-Comerç al detall, excepte el comerç de vehicles de motor i motocicletes | B21: 2933 | C21: -130 | D21: -0.04244205
A22: 43-Activitats especialitzades de la construcció | B22: 1487 | C22: -41 | D22: -0.026832461
A23: 56-Serveis de menjar i begudes | B23: 2029 | C23: -33 | D23: -0.01600388
A24: 25-Fabricació de productes metàl·lics, excepte maquinària i equips | B24: 503 | C24: -20 | D24: -0.038240918
A25: 45-Venda i reparació de vehicles de motor i motocicletes | B25: 591 | C25: -15 | D25: -0.024752475
A26: 77-Activitats de lloguer | B26: 161 | C26: -13 | D26: -0.074712644
A27: 69-Activitats jurídiques i de comptabilitat | B27: 465 | C27: -12 | D27: -0.025157233
A28: 85-Educació | B28: 633 | C28: -12 | D28: -0.018604651
A29: 62-Serveis de tecnologies de la informació | B29: 253 | C29: -11 | D29: -0.041666667
A30: 22-Fabricació de productes de cautxú i matèries plàstiques | B30: 120 | C30: -6 | D30: -0.047619048
A32: Les dades de 2021 provenen d'Idescat, a partir dels fitxers d'afiliacions i comptes de cotització de la Tresoreria General de la Seguretat Social. Dades provisionals.

Sheet DIN_Empreses
A1: Fet! | G1: 0.003 | M1: variació | Q1: quan ordenis, millor copiïs les cel·les calculades abans
B3: 2022 | C3: 20.22 | D3: 2021 | H3: 2022 | I3: 20.22 | J3: 2021 | N3: 2022 | O3: 20.22 | P3: 2021 | Q3: var absoluta | R3: var relativa
A4: 1- Agricultura, ramaderia, caça i activitats dels serveis que s'hi relacionen | B4: 25 | C4: 0.0011900228 | D4: 27 | G4: 10- Indústries de productes alimentaris | H4: 181 | I4: 0.0086157654 | J4: 181 | M4: 10- Indústries de productes alimentaris | N4: 2987 | O4: 0.14218393 | P4: 3055 | Q4: -68 | R4: -0.022258592
A5: 2- Silvicultura i explotació forestal | B5: 10 | C5: 0.00047600914 | D5: 8 | G5: 16- Indústria de la fusta i del suro, excepte mobles; cistelleria i esparteria | H5: 67 | I5: 0.0031892612 | J5: 69 | M5: 16- Indústria de la fusta i del suro, excepte mobles; cistelleria i esparteria | N5: 1534 | O5: 0.073019802 | P5: 1560 | Q5: -26 | R5: -0.016666667
A6: 3- Pesca i aqüicultura | B6: 0 | C6: 0 | D6: .. | G6: 18- Arts gràfiques i reproducció de suports enregistrats | H6: 184 | I6: 0.0087585682 | J6: 186 | M6: 18- Arts gràfiques i reproducció de suports enregistrats | N6: 598 | O6: 0.028465347 | P6: 614 | Q6: -16 | R6: -0.026058632
A7: 5- Extracció d'antracita, hulla i lignit | B7: 0 | C7: 0 | G7: 20- Indústries químiques | H7: 110 | I7: 0.0052361005 | J7: 116 | M7: 20- Indústries químiques | N7: 1969 | O7: 0.0937262 | P7: 1985 | Q7: -16 | R7: -0.0080604534
A8: 6- Extracció de petroli brut i de gas natural | B8: 0 | C8: 0 | G8: 22- Fabricació de productes de cautxú i matèries plàstiques | H8: 124 | I8: 0.0059025133 | J8: 125 | M8: 22- Fabricació de productes de cautxú i matèries plàstiques | N8: 860 | O8: 0.040936786 | P8: 869 | Q8: -9 | R8: -0.010356732
A9: 7- Extracció de minerals metàl·lics | B9: 0 | C9: 0 | D9: 0 | G9: 23- Fabricació d'altres productes minerals no metàl·lics | H9: 64 | I9: 0.0030464585 | J9: 64 | M9: 23- Fabricació d'altres productes minerals no metàl·lics | N9: 328 | O9: 0.0156131 | P9: 337 | Q9: -9 | R9: -0.026706231
A10: 8- Extracció de minerals no metàl·lics ni energètics | B10: 12 | C10: 0.00057121097 | D10: 12 | G10: 25- Fabricació de productes metàl·lics, excepte maquinària i equips | H10: 516 | I10: 0.024562072 | J10: 521 | M10: 25- Fabricació de productes metàl·lics, excepte maquinària i equips | N10: 98 | O10: 0.0046648896 | P10: 105 | Q10: -7 | R10: -0.066666667
A11: 9- Activitats de suport a les indústries extractives | B11: 0 | C11: 0 | D11: 0 | G11: 28- Fabricació de maquinària i equips ncaa | H11: 177 | I11: 0.0084253618 | J11: 180 | M11: 28- Fabricació de maquinària i equips ncaa | N11: 110 | O11: 0.0052361005 | P11: 116 | Q11: -6 | R11: -0.051724138
A12: 10- Indústries de productes alimentaris | B12: 181 | C12: 0.0086157654 | D12: 181 | G12: 31- Fabricació de mobles | H12: 88 | I12: 0.0041888804 | J12: 90 | M12: 31- Fabricació de mobles | N12: 169 | O12: 0.0080445545 | P12: 175 | Q12: -6 | R12: -0.034285714
A13: 11- Fabricació de begudes | B13: 18 | C13: 0.00085681645 | D13: 15 | G13: 32- Indústries manufactureres diverses | H13: 71 | I13: 0.0033796649 | J13: 72 | M13: 32- Indústries manufactureres diverses | N13: 516 | O13: 0.024562072 | P13: 521 | Q13: -5 | R13: -0.009596929
A14: 12- Indústries del tabac | B14: 0 | C14: 0 | G14: 33- Reparació i instal·lació de maquinària i equips | H14: 177 | I14: 0.0084253618 | J14: 174 | M14: 33- Reparació i instal·lació de maquinària i equips | N14: 160 | O14: 0.0076161462 | P14: 164 | Q14: -4 | R14: -0.024390244
A15: 13- Indústries tèxtils | B15: 51 | C15: 0.0024276466 | D15: 58 | G15: 41- Construcció d'immobles | H15: 860 | I15: 0.040936786 | J15: 869 | M15: 41- Construcció d'immobles | N15: 236 | O15: 0.011233816 | P15: 240 | Q15: -4 | R15: -0.016666667
A16: 14- Confecció de peces de vestir | B16: 52 | C16: 0.0024752475 | D16: 59 | G16: 42- Construcció d'obres d'enginyeria civil | H16: 72 | I16: 0.0034272658 | J16: 74 | M16: 42- Construcció d'obres d'enginyeria civil | N16: 177 | O16: 0.0084253618 | P16: 180 | Q16: -3 | R16: -0.016666667
A17: 15- Indústria del cuir i del calçat | B17: 4 | C17: 0.00019040366 | D17: 6 | G17: 43- Activitats especialitzades de la construcció | H17: 1534 | I17: 0.073019802 | J17: 1560 | M17: 43- Activitats especialitzades de la construcció | N17: 467 | O17: 0.022229627 | P17: 470 | Q17: -3 | R17: -0.0063829787
A18: 16- Indústria de la fusta i del suro, excepte mobles; cistelleria i esparteria | B18: 67 | C18: 0.0031892612 | D18: 69 | G18: 45- Venda i reparació de vehicles de motor i motocicletes | H18: 598 | I18: 0.028465347 | J18: 614 | M18: 45- Venda i reparació de vehicles de motor i motocicletes | N18: 100 | O18: 0.0047600914 | P18: 103 | Q18: -3 | R18: -0.029126214
A19: 17- Indústries del paper | B19: 46 | C19: 0.002189642 | D19: 46 | G19: 46- Comerç a l'engròs i intermediaris del comerç, excepte vehicles de motor i motocicletes | H19: 1969 | I19: 0.0937262 | J19: 1985 | M19: 46- Comerç a l'engròs i intermediaris del comerç, excepte vehicles de motor i motocicletes | N19: 67 | O19: 0.0031892612 | P19: 69 | Q19: -2 | R19: -0.028985507
A20: 18- Arts gràfiques i reproducció de suports enregistrats | B20: 184 | C20: 0.0087585682 | D20: 186 | G20: 47- Comerç al detall, excepte el comerç de vehicles de motor i motocicletes | H20: 2987 | I20: 0.14218393 | J20: 3055 | M20: 47- Comerç al detall, excepte el comerç de vehicles de motor i motocicletes | N20: 184 | O20: 0.0087585682 | P20: 186 | Q20: -2 | R20: -0.010752688
A21: 19- Coqueries i refinació del petroli | B21: 0 | C21: 0 | D21: 0 | G21: 49- Transport terrestre; transport per canonades | H21: 1037 | I21: 0.049362148 | J21: 1014 | M21: 49- Transport terrestre; transport per canonades | N21: 88 | O21: 0.0041888804 | P21: 90 | Q21: -2 | R21: -0.022222222
A22: 20- Indústries químiques | B22: 110 | C22: 0.0052361005 | D22: 116 | G22: 52- Emmagatzematge i activitats afins al transport | H22: 312 | I22: 0.014851485 | J22: 313 | M22: 52- Emmagatzematge i activitats afins al transport | N22: 72 | O22: 0.0034272658 | P22: 74 | Q22: -2 | R22: -0.027027027
A23: 21- Fabricació de productes farmacèutics | B23: 19 | C23: 0.00090441736 | D23: 19 | G23: 53- Activitats postals i de correus | H23: 71 | I23: 0.0033796649 | J23: 66 | M23: 53- Activitats postals i de correus | N23: 257 | O23: 0.012233435 | P23: 259 | Q23: -2 | R23: -0.0077220077
A24: 22- Fabricació de productes de cautxú i matèries plàstiques | B24: 124 | C24: 0.0059025133 | D24: 125 | G24: 55- Serveis d'allotjament | H24: 82 | I24: 0.0039032749 | J24: 81 | M24: 55- Serveis d'allotjament | N24: 75 | O24: 0.0035700685 | P24: 77 | Q24: -2 | R24: -0.025974026
A25: 23- Fabricació d'altres productes minerals no metàl·lics | B25: 64 | C25: 0.0030464585 | D25: 64 | G25: 56- Serveis de menjar i begudes | H25: 2098 | I25: 0.099866717 | J25: 2047 | M25: 56- Serveis de menjar i begudes | N25: 124 | O25: 0.0059025133 | P25: 125 | Q25: -1 | R25: -0.008
A26: 24- Metal·lúrgia; fabricació de productes bàsics de ferro, acer i ferroaliatges | B26: 38 | C26: 0.0018088347 | D26: 40 | G26: 62- Serveis de tecnologies de la informació | H26: 257 | I26: 0.012233435 | J26: 259 | M26: 62- Serveis de tecnologies de la informació | N26: 71 | O26: 0.0033796649 | P26: 72 | Q26: -1 | R26: -0.013888889
... A39: 38- Activitats de recollida, tractament i eliminació de residus; activitats de valorització | B39: 54 | C39: 0.0025704494 | D39: 51 | G39: 85- Educació | H39: 578 | I39: 0.027513328 | J39: 577 | M39: 85- Educació | N39: 396 | O39: 0.018849962 | P39: 389 | Q39: 7 | R39: 0.017994859
A40: 39- Activitats de descontaminació i altres serveis de gestió de residus | B40: 2 | C40: 9.5201828e-05 | D40: .. | G40: 86- Activitats sanitàries | H40: 557 | I40: 0.026513709 | J40: 539 | M40: 86- Activitats sanitàries | N40: 135 | O40: 0.0064261234 | P40: 123 | Q40: 12 | R40: 0.097560976
A41: 41- Construcció d'immobles | B41: 860 | C41: 0.040936786 | D41: 869 | G41: 87- Activitats de serveis socials amb allotjament | H41: 100 | I41: 0.0047600914 | J41: 103 | M41: 87- Activitats de serveis socials amb allotjament | N41: 201 | O41: 0.0095677837 | P41: 189 | Q41: 12 | R41: 0.063492063
A42: 42- Construcció d'obres d'enginyeria civil | B42: 72 | C42: 0.0034272658 | D42: 74 | G42: 88- Activitats de serveis socials sense allotjament | H42: 77 | I42: 0.0036652704 | J42: 74 | M42: 88- Activitats de serveis socials sense allotjament | N42: 318 | O42: 0.015137091 | P42: 300 | Q42: 18 | R42: 0.06
A43: 43- Activitats especialitzades de la construcció | B43: 1534 | C43: 0.073019802 | D43: 1560 | G43: 93- Activitats esportives, recreatives i d'entreteniment | H43: 396 | I43: 0.018849962 | J43: 389 | M43: 93- Activitats esportives, recreatives i d'entreteniment | N43: 557 | O43: 0.026513709 | P43: 539 | Q43: 18 | R43: 0.033395176
A44: 45- Venda i reparació de vehicles de motor i motocicletes | B44: 598 | C44: 0.028465347 | D44: 614 | G44: 94- Activitats associatives | H44: 201 | I44: 0.0095677837 | J44: 189 | M44: 94- Activitats associatives | N44: 1037 | O44: 0.049362148 | P44: 1014 | Q44: 23 | R44: 0.022682446
A45: 46- Comerç a l'engròs i intermediaris del comerç, excepte vehicles de motor i motocicletes | B45: 1969 | C45: 0.0937262 | D45: 1985 | G45: 95- Reparació d'ordinadors, d'efectes personals i efectes domèstics | H45: 88 | I45: 0.0041888804 | J45: 87 | M45: 95- Reparació d'ordinadors, d'efectes personals i efectes domèstics | N45: 867 | O45: 0.041269992 | P45: 839 | Q45: 28 | R45: 0.033373063
A46: 47- Comerç al detall, excepte el comerç de vehicles de motor i motocicletes | B46: 2987 | C46: 0.14218393 | D46: 3055 | G46: 96- Altres activitats de serveis personals | H46: 867 | I46: 0.041269992 | J46: 839 | M46: 96- Altres activitats de serveis personals | N46: 689 | O46: 0.03279703 | P46: 660 | Q46: 29 | R46: 0.043939394
A47: 49- Transport terrestre; transport per canonades | B47: 1037 | C47: 0.049362148 | D47: 1014 | G47: 97- Activitats de les llars que donen ocupació a personal domèstic | H47: 98 | I47: 0.0046648896 | J47: 105 | M47: 97- Activitats de les llars que donen ocupació a personal domèstic | N47: 2098 | O47: 0.099866717 | P47: 2047 | Q47: 51 | R47: 0.024914509
A48: 50- Transport marítim i per vies de navegació interiors | B48: 1 | C48: 4.7600914e-05 | D48: .. | G48: Total | H48: 21008 | I48: 1 | J48: 20952 | M48: Total | N48: 21008 | O48: 1 | P48: 20952 | Q48: 56 | R48: 0.0026727759
A49: 51- Transport aeri | B49: 27 | C49: 0.0012852247 | D49: 21
A50: 52- Emmagatzematge i activitats afins al transport | B50: 312 | C50: 0.014851485 | D50: 313
A51: 53- Activitats postals i de correus | B51: 71 | C51: 0.0033796649 | D51: 66
A52: 55- Serveis d'allotjament | B52: 82 | C52: 0.0039032749 | D52: 81
A53: 56- Serveis de menjar i begudes | B53: 2098 | C53: 0.099866717 | D53: 2047
A54: 58- Edició | B54: 35 | C54: 0.001666032 | D54: 39
A55: 59- Activitats de cinematografia, de vídeo i de programes de televisió; activitats d'enregistrament de so i edició musical | B55: 61 | C55: 0.0029036558 | D55: 42
A56: 60- Activitats d'emissió i programació de ràdio i televisió | B56: 7 | C56: 0.0003332064 | D56: 6
A57: 61- Telecomunicacions | B57: 40 | C57: 0.0019040366 | D57: 43
A58: 62- Serveis de tecnologies de la informació | B58: 257 | C58: 0.012233435 | D58: 259
A59: 63- Serveis d'informació | B59: 55 | C59: 0.0026180503 | D59: 52
A60: 64- Mediació financera, excepte assegurances i fons de pensions | B60: 54 | C60: 0.0025704494 | D60: 52
... A89: 97- Activitats de les llars que donen ocupació a personal domèstic | B89: 98 | C89: 0.0046648896 | D89: 105
A90: 98- Activitats de les llars que produeixen béns i serveis per a ús propi | B90: 0 | C90: 0
A91: 99- Organismes extraterritorials | B91: 1 | C91: 4.7600914e-05 | D91: ..
A92: Total | B92: 21008 | C92: 1 | D92: 20952

Sheet TE3
A1: TORNAR A L'ÍNDEX | B1: Fet!
A3: EMPRESES
A5: =[3]Índex!A18 -> TE3 | C5: =Índex!A7 -> 4t trimestre 2022
A6: =[3]Índex!B18 -> Dades municipals.
B8: Empreses | C8: % Baix Llobregat | D8: variació relativa (en %)
B9: Empreses | D9: 2021 | E9: 2020 | F9: 2019 | G9: 2008
A10: Abrera | B10: 401 | C10: =B10/$B$40 -> 0.019174676 | D10: =($B46-C46)/C46 -> 0.010075567 | E10: =($B46-D46)/D46 -> 0.0050125313 | F10: =($B46-E46)/E46 -> -0.080275229 | G10: =($B46-F46)/F46 -> -0.014742015
A11: Begues | B11: 142 | C11: =B11/$B$40 -> 0.0067900349 | D11: =($B47-C47)/C47 -> 0 | E11: =($B47-D47)/D47 -> 0.059701493 | F11: =($B47-E47)/E47 -> -0.02739726 | G11: =($B47-F47)/F47 -> -0.040540541
A12: Castelldefels | B12: 1733 | C12: =B12/$B$40 -> 0.082867116 | D12: =($B48-C48)/C48 -> -0.0080137378 | E12: =($B48-D48)/D48 -> 0.047129909 | F12: =($B48-E48)/E48 -> -0.029131653 | G12: =($B48-F48)/F48 -> -0.0045950603
A13: Castellví de Rosanes | B13: 68 | C13: =B13/$B$40 -> 0.003251566 | D13: =($B49-C49)/C49 -> 0.079365079 | E13: =($B49-D49)/D49 -> 0.19298246 | F13: =($B49-E49)/E49 -> 0.03030303 | G13: =($B49-F49)/F49 -> -0.26086957
A14: Cervelló | B14: 241 | C14: =B14/$B$40 -> 0.011523932 | D14: =($B50-C50)/C50 -> 0.0041666667 | E14: =($B50-D50)/D50 -> -0.020325203 | F14: =($B50-E50)/E50 -> -0.073076923 | G14: =($B50-F50)/F50 -> 0.016877637
A15: Collbató | B15: 78 | C15: =B15/$B$40 -> 0.0037297375 | D15: =($B51-C51)/C51 -> -0.071428571 | E15: =($B51-D51)/D51 -> -0.071428571 | F15: =($B51-E51)/E51 -> -0.15217391 | G15: =($B51-F51)/F51 -> -0.093023256
A16: Corbera de Llobregat | B16: 232 | C16: =B16/$B$40 -> 0.011093578 | D16: =($B52-C52)/C52 -> 0.0086956522 | E16: =($B52-D52)/D52 -> 0.054545455 | F16: =($B52-E52)/E52 -> -0.0085470085 | G16: =($B52-F52)/F52 -> -0.18596491
A17: Cornellà de Llobregat | B17: 2373 | C17: =B17/$B$40 -> 0.11347009 | D17: =($B53-C53)/C53 -> -0.014534884 | E17: =($B53-D53)/D53 -> 0.012804097 | F17: =($B53-E53)/E53 -> -0.06501182 | G17: =($B53-F53)/F53 -> -0.079875921
A18: El Papiol | B18: 201 | C18: =B18/$B$40 -> 0.0096112466 | D18: =($B54-C54)/C54 -> -0.014705882 | E18: =($B54-D54)/D54 -> -0.042857143 | F18: =($B54-E54)/E54 -> -0.11061947 | G18: =($B54-F54)/F54 -> -0.21484375
A19: El Prat de Llobregat | B19: 1755 | C19: =B19/$B$40 -> 0.083919093 | D19: =($B55-C55)/C55 -> 0.015625 | E19: =($B55-D55)/D55 -> 0.039076377 | F19: =($B55-E55)/E55 -> -0.071919619 | G19: =($B55-F55)/F55 -> -0.017357223
A20: Esparreguera | B20: 568 | C20: =B20/$B$40 -> 0.02716014 | D20: =($B56-C56)/C56 -> 0.0035335689 | E20: =($B56-D56)/D56 -> 0.019748654 | F20: =($B56-E56)/E56 -> -0.02739726 | G20: =($B56-F56)/F56 -> -0.14842579
A21: Esplugues de Llobregat | B21: 1205 | C21: =B21/$B$40 -> 0.057619662 | D21: =($B57-C57)/C57 -> -0.004954583 | E21: =($B57-D57)/D57 -> 0.027280477 | F21: =($B57-E57)/E57 -> -0.06152648 | G21: =($B57-F57)/F57 -> -0.17182131
... A40: BAIX LLOBREGAT | B40: 20913 | C40: =B40/$B$40 -> 1 | D40: =($B76-C76)/C76 -> -0.0076397457 | E40: =($B76-D76)/D76 -> 0.016625346 | F40: =($B76-E76)/E76 -> -0.065633098 | G40: =($B76-F76)/F76 -> -0.09050187
A42: Les dades de 2021 provenen d'Idescat, a partir dels fitxers d'afiliacions i comptes de cotització de la Tresoreria General de la Seguretat Social. Dades provisionals.
B44: empreses
B45: 2022 | C45: 2021 | D45: 2020 | E45: 2019 | F45: 2008
A46: Abrera | B46: 401 | C46: 397 | D46: 399 | E46: 436 | F46: 407
A47: Begues | B47: 142 | C47: 142 | D47: 134 | E47: 146 | F47: 148
A48: Castelldefels | B48: 1733 | C48: 1747 | D48: 1655 | E48: 1785 | F48: 1741
A49: Castellví de Rosanes | B49: 68 | C49: 63 | D49: 57 | E49: 66 | F49: 92
A50: Cervelló | B50: 241 | C50: 240 | D50: 246 | E50: 260 | F50: 237
A51: Collbató | B51: 78 | C51: 84 | D51: 84 | E51: 92 | F51: 86
A52: Corbera de Llobregat | B52: 232 | C52: 230 | D52: 220 | E52: 234 | F52: 285
A53: Cornellà de Llobregat | B53: 2373 | C53: 2408 | D53: 2343 | E53: 2538 | F53: 2579
A54: El Papiol | B54: 201 | C54: 204 | D54: 210 | E54: 226 | F54: 256
A55: El Prat de Llobregat | B55: 1755 | C55: 1728 | D55: 1689 | E55: 1891 | F55: 1786
A56: Esparreguera | B56: 568 | C56: 566 | D56: 557 | E56: 584 | F56: 667
A57: Esplugues de Llobregat | B57: 1205 | C57: 1211 | D57: 1173 | E57: 1284 | F57: 1455
... A76: BAIX LLOBREGAT | B76: 20913 | C76: 21074 | D76: 20571 | E76: 22382 | F76: 22994
A78: Zona | B78: 2022 2T | C78: 2021 2T | D78: 2020 2T | E78: 20219 2T | F78: 2008 2T | G78: 2008-2022 | H78: 2019-2022 | I78: 2020-2022 | J78: 2021-2022 | K78: Zona Centre: Cornellà de Llobregat, Esplugues de Llobregat, Sant Joan Despí, Sant Feliu de Llobregat i Sant Just Desvern.
A79: Centre | B79: =+B53+B57+B69+B70+B68 -> 6151 | C79: =+C53+C57+C69+C70+C68 -> 6211 | D79: =+D53+D57+D69+D70+D68 -> 6087 | E79: =+E53+E57+E69+E70+E68 -> 6612 | F79: =+F53+F57+F69+F70+F68 -> 6866 | G79: =($B79-F79)/F79 -> -0.10413632 | H79: =($B79-E79)/E79 -> -0.069721718 | I79: =($B79-D79)/D79 -> 0.010514211 | J79: =($B79-C79)/C79 -> -0.0096602801 | K79: Zona Delta: Begues, Castelldefels, El Prat de Llobregat, Gavà, Sant Boi de Llobregat, Sant Climent de Llobregat i Viladecans.
A80: Delta | B80: =+B47+B48+B55+B58+B65+B66+B75 -> 8266 | C80: =+C47+C48+C55+C58+C65+C66+C75 -> 8328 | D80: =+D47+D48+D55+D58+D65+D66+D75 -> 8078 | E80: =+E47+E48+E55+E58+E65+E66+E75 -> 8847 | F80: =+F47+F48+F55+F58+F65+F66+F75 -> 8878 | G80: =($B80-F80)/F80 -> -0.068934445 | H80: =($B80-E80)/E80 -> -0.065671979 | I80: =($B80-D80)/D80 -> 0.023273087 | J80: =($B80-C80)/C80 -> -0.0074447646 | K80: Zona Nord: Abrera, Castellví de Rosanes, Collbató, Esparreguera, Martorell, Olesa de Montserrat, Sant Andreu de la Barca i Sant Esteve Sesrovires.
A81: Nord | B81: =+B46+B49+B51+B56+B60+B62+B67+B64 -> 3373 | C81: =+C46+C49+C51+C56+C60+C62+C67+C64 -> 3376 | D81: =+D46+D49+D51+D56+D60+D62+D67+D64 -> 3348 | E81: =+E46+E49+E51+E56+E60+E62+E67+E64 -> 3621 | F81: =+F46+F49+F51+F56+F60+F62+F67+F64 -> 3759 | G81: =($B81-F81)/F81 -> -0.10268688 | H81: =($B81-E81)/E81 -> -0.068489368 | I81: =($B81-D81)/D81 -> 0.0074671446 | J81: =($B81-C81)/C81 -> -0.00088862559 | K81: Zona Vall Baixa: Cervelló, Corbera de Llobregat, El Papiol, La Palma de Cervelló, Molins de Rei, Pallejà, Sant Vicenç dels Horts, Santa Coloma de Cervelló, Torrelles de Llobregat i Vallirana.
A82: Vall Baixa | B82: =+B50+B52+B54+B59+B61+B63+B71+B72+B73+B74 -> 3123 | C82: =+C50+C52+C54+C59+C61+C63+C71+C72+C73+C74 -> 3159 | D82: =+D50+D52+D54+D59+D61+D63+D71+D72+D73+D74 -> 3058 | E82: =+E50+E52+E54+E59+E61+E63+E71+E72+E73+E74 -> 3302 | F82: =+F50+F52+F54+F59+F61+F63+F71+F72+F73+F74 -> 3491 | G82: =($B82-F82)/F82 -> -0.10541392 | H82: =($B82-E82)/E82 -> -0.05420957 | I82: =($B82-D82)/D82 -> 0.021255723 | J82: =($B82-C82)/C82 -> -0.011396011
A83: Total | B83: =SUM(B79:B82) -> 20913 | C83: =SUM(C79:C82) -> 21074 | D83: =SUM(D79:D82) -> 20571 | E83: =SUM(E79:E82) -> 22382 | F83: =SUM(F79:F82) -> 22994 | G83: =($B83-F83)/F83 -> -0.09050187 | H83: =($B83-E83)/E83 -> -0.065633098 | I83: =($B83-D83)/D83 -> 0.016625346 | J83: =($B83-C83)/C83 -> -0.0076397457

Sheet GRGSS1
A1: TORNAR A L'ÍNDEX | B1: Fet!
A3: LLOCS DE TREBALL. RÈGIM GENERAL SEGURETAT SOCIAL
A5: GRGSS1 | C5: =Índex!A7 -> 4t trimestre 2022
A6: Llocs de treball del RGSS segons àmbit territorial.
A29: Les dades de 2021 provenen d'Idescat, a partir dels fitxers d'afiliacions i comptes de cotització de la Tresoreria General de la Seguretat Social. Dades provisionals.
B31: RGSS | C31: variació 2022-2021 | D31: variació 2022-2020 | E31: variació 2022-2019 | F31: variació 2022-2008
A32: Baix Llobregat | B32: 295745 | C32: 0.042806015 | D32: 0.086239509 | E32: 0.063306931 | F32: 0.24082217
A33: Àrea Metropolitana de Barcelona | B33: 1590135 | C33: 0.039674263 | D33: 0.085905596 | E33: 0.053456734 | F33: 0.15468738
A34: Àmbit Territorial Metropolità | B34: 2057795 | C34: 0.036228819 | D34: 0.082002166 | E34: 0.051500556 | F34: 0.10474427
A35: Catalunya | B35: 2941805 | C35: 0.033955493 | D35: 0.083011206 | E35: 0.054632661 | F35: 0.13627822

Sheet GRGSS2
A1: TORNAR A L'ÍNDEX | B1: Fet!
A3: LLOCS DE TREBALL. RÈGIM GENERAL SEGURETAT SOCIAL.
A5: GRGSS2 | C5: =Índex!A7 -> 4t trimestre 2022
A6: =Índex!B28 -> Variació interanual llocs de treball assalariat. Baix Llobregat.
A29: Les dades de 2021 provenen d'Idescat, a partir dels fitxers d'afiliacions i comptes de cotització de la Tresoreria General de la Seguretat Social. Dades provisionals.
B31: Llocs de treball RGSS | C31: Variació interanual
A32: 2016 | B32: 237205 | C32: =(B32-B40)/B40 -> 0.065654047
A33: 2017 | B33: 250631 | C33: =(B33-B32)/B32 -> 0.056600831
A34: 2018 | B34: 261369 | C34: =(B34-B33)/B33 -> 0.042843862
A35: 2019 | B35: 278137 | C35: =(B35-B34)/B34 -> 0.06415451
A36: 2020 | B36: 272265 | C36: =(B36-B35)/B35 -> -0.021111898
A37: 2021 | B37: 283605 | C37: =(B37-B36)/B36 -> 0.041650598
A38: 2022 | B38: 295745 | C38: =(B38-B37)/B37 -> 0.042806015
A40: 2015 | B40: 222591

Sheet GRGSS3
A1: TORNAR A L'ÍNDEX | B1: Fet!
A3: LLOCS DE TREBALL. RÈGIM GENERAL SEGURETAT SOCIAL
A5: GRGSS3 | C5: =Índex!A7 -> 4t trimestre 2022
A6: Llocs de treball del RGSS per grandària del compte de cotització
A29: Les dades de 2021 provenen d'Idescat, a partir dels fitxers d'afiliacions i comptes de cotització de la Tresoreria General de la Seguretat Social. Dades provisionals.
B31: variació 2022-2021 | C31: variació 2022-2020 | D31: variació 2022-2019 | E31: variació 2022-2008
A32: Fins a 50 treballadors | B32: 0.0067697845 | C32: 0.040933859 | D32: -0.014751266 | E32: -0.033021391
A33: De 51 a 250 treballadors | B33: 0.059299724 | C33: 0.11053612 | D33: 0.10598793 | E33: 0.21038699
A34: 251 i més treballadors | B34: 0.075210292 | C34: 0.1247412 | D34: 0.1353187 | E34: 0.94164251
A35: Total | B35: 0.042806015 | C35: 0.086239509 | D35: 0.063306931 | E35: 0.24082217

Sheet TRGSS1
A1: TORNAR A L'ÍNDEX | C1: Fet!
A3: LLOCS DE TREBALL. RÈGIM GENERAL SEGURETAT SOCIAL.
A5: =Índex!A30 -> TRGSS1 | C5: =Índex!A7 -> 4t trimestre 2022
A6: =Índex!B30 -> Activitats econòmiques més rellevants. Baix Llobregat.
D8: Variació
B9: 2022 | C9: %total | D9: 2021-2022 | E9: 2020-2022 | F9: 2019-2022 | G9: 2008-2022
A10: Total | B10: 295745 | D10: 0.042806015 | E10: 0.086239509 | F10: 0.063306931 | G10: 0.24082217
A11: 46-Comerç a l'engròs i intermediaris del comerç, excepte vehicles de motor i motocicletes | B11: 29125 | C11: 0.09848011 | D11: 0.042039356 | E11: 0.071954361 | F11: 0.068376068 | G11: 0.16686699
A12: 47-Comerç al detall, excepte el comerç de vehicles de motor i motocicletes | B12: 25990 | C12: 0.087879761 | D12: -0.0034509202 | E12: 0.0017344382 | F12: 0.16239546 | G12: 0.31714981
A13: 56-Serveis de menjar i begudes | B13: 17400 | C13: 0.058834469 | D13: 0.030195382 | E13: 0.24241342 | F13: 0.06259542 | G13: 0.36107635
A14: 84-Administració pública, Defensa i Seguretat Social obligatòria | B14: 16580 | C14: 0.05606181 | D14: 0.014377485 | E14: 0.033343721 | F14: 0.076134225 | G14: 0.72618428
A15: 52-Emmagatzematge i activitats afins al transport | B15: 14185 | C15: 0.047963617 | D15: 0.069355447 | E15: 0.14441307 | F15: 0.21384563 | G15: 0.77379017
A16: 85-Educació | B16: 13045 | C16: 0.044108945 | D16: 0.056703119 | E16: 0.10785563 | F16: 0.08455271 | G16: 0.48137633
A17: 43-Activitats especialitzades de la construcció | B17: 12910 | C17: 0.043652471 | D17: 0.018942384 | E17: 0.05603272 | F17: 0.061415769 | G17: -0.16076188
A18: 81-Serveis a edificis i activitats de jardineria | B18: 11385 | C18: 0.038496002 | D18: 0.096820809 | E18: 0.11617647 | F18: 0.10630648 | G18: 0.57056146
A19: 86-Activitats sanitàries | B19: 9935 | C19: 0.033593129 | D19: 0.025283798 | E19: 0.055231014 | F19: 0.082008277 | G19: 0.53034504
A20: 25-Fabricació de productes metàl·lics, excepte maquinària i equips | B20: 7045 | C20: 0.023821197 | D20: 0.016594517 | E20: 0.039852399 | F20: -0.0062067993 | G20: -0.25536413
A23: Les dades de 2022 i 2021 provenen d'Idescat, a partir dels fitxers d'afiliacions i comptes de cotització de la Tresoreria General de la Seguretat Social. Dades provisionals.

Sheet TRGSS2
A1: TORNAR A L'ÍNDEX | B1: Fet!
A3: =TRGSS1!A3 -> LLOCS DE TREBALL. RÈGIM GENERAL SEGURETAT SOCIAL.
A5: =Índex!A31 -> TRGSS2 | C5: =Índex!A7 -> 4t trimestre 2022
A6: =Índex!B31 -> Dinamisme llocs de treball.
A7: ACTIVITATS QUE MÉS HAN AUGMENTAT L'AFILIACIÓ | B7: n | C7: Variació anual
C8: n | D8: %
A9: 46- Comerç a l'engròs i intermediaris del comerç, excepte vehicles de motor i motocicletes | B9: 29125 | C9: 1175 | D9: 0.042039356
A10: 81- Serveis a edificis i activitats de jardineria | B10: 11385 | C10: 1005 | D10: 0.096820809
A11: 52- Emmagatzematge i activitats afins al transport | B11: 14185 | C11: 920 | D11: 0.069355447
A12: 80- Activitats de seguretat i investigació | B12: 6230 | C12: 800 | D12: 0.14732965
A13: 85- Educació | B13: 13045 | C13: 700 | D13: 0.056703119
A14: 62- Serveis de tecnologies de la informació | B14: 5270 | C14: 650 | D14: 0.14069264
A15: 51- Transport aeri | B15: 6725 | C15: 645 | D15: 0.10608553
A16: 87- Activitats de serveis socials amb allotjament | B16: 4535 | C16: 575 | D16: 0.14520202
A17: 88- Activitats de serveis socials sense allotjament | B17: 6135 | C17: 570 | D17: 0.10242588
A18: 41- Construcció d'immobles | B18: 4875 | C18: 510 | D18: 0.11683849
A19: ACTIVITATS QUE MÉS HAN DISMINUÏT L'AFILIACIÓ | B19: n | C19: Variació anual
C20: n | D20: %
A21: 20- Indústries químiques | B21: 4365 | C21: -150 | D21: -0.033222591
A22: 29- Fabricació de vehicles de motor, remolcs i semiremolcs | B22: 4415 | C22: -120 | D22: -0.02646086
A23: 96- Altres activitats de serveis personals | B23: 2605 | C23: -110 | D23: -0.040515654
A24: 47- Comerç al detall, excepte el comerç de vehicles de motor i motocicletes | B24: 25990 | C24: -90 | D24: -0.0034509202
A25: 53- Activitats postals i de correus | B25: 1215 | C25: -60 | D25: -0.047058824
A26: 13- Indústries tèxtils | B26: 755 | C26: -55 | D26: -0.067901235
A27: 22- Fabricació de productes de cautxú i matèries plàstiques | B27: 2610 | C27: -40 | D27: -0.01509434
A28: 42- Construcció d'obres d'enginyeria civil | B28: 1380 | C28: -20 | D28: -0.014285714
A29: 68- Activitats immobiliàries | B29: 2390 | C29: -20 | D29: -0.0082987552
A32: Les dades de 2022 i 2021 provenen d'Idescat, a partir dels fitxers d'afiliacions i comptes de cotització de la Tresoreria General de la Seguretat Social. Dades provisionals.

Sheet DIN_RGSS
G1: 0.003 | M1: variació | Q1: quan ordenis, millor copiïs les cel·les calculades abans
B3: 2022 | C3: 20.22 | D3: 2021 | H3: 2022 | I3: 20.22 | J3: 2021 | N3: 2022 | O3: 20.22 | P3: 2021 | Q3: var absoluta | R3: var relativa
A4: 1- Agricultura, ramaderia, caça i activitats dels serveis que s'hi relacionen | B4: 100 | C4: =B4/$B$92 -> 0.00035244154 | D4: 95 | G4: 10- Indústries de productes alimentaris | H4: 5795 | I4: 0.020423987 | J4: 5785 | M4: 88- Activitats de serveis socials sense allotjament | N4: 2675 | O4: 0.0094278112 | P4: 3115 | Q4: -440 | R4: -0.14125201
A5: 2- Silvicultura i explotació forestal | B5: 60 | C5: =B5/$B$92 -> 0.00021146492 | D5: 70 | G5: 11- Fabricació de begudes | H5: 1495 | I5: 0.005269001 | J5: 1405 | M5: 29- Fabricació de vehicles de motor, remolcs i semiremolcs | N5: 4435 | O5: 0.015630782 | P5: 4745 | Q5: -310 | R5: -0.065331928
A6: 3- Pesca i aqüicultura | B6: 0 | C6: =B6/$B$92 -> 0 | D6: 5 | G6: 17- Indústries del paper | H6: 1015 | I6: 0.0035772816 | J6: 930 | M6: 20- Indústries químiques | N6: 4660 | O6: 0.016423776 | P6: 4920 | Q6: -260 | R6: -0.052845528
A7: 5- Extracció d'antracita, hulla i lignit | B7: 0 | C7: =B7/$B$92 -> 0 | D7: 0 | G7: 18- Arts gràfiques i reproducció de suports enregistrats | H7: 3340 | I7: 0.011771547 | J7: 3180 | M7: 47- Comerç al detall, excepte el comerç de vehicles de motor i motocicletes | N7: 25895 | O7: 0.091264736 | P7: 26110 | Q7: -215 | R7: -0.008234393
A8: 6- Extracció de petroli brut i de gas natural | B8: 0 | C8: =B8/$B$92 -> 0 | D8: 0 | G8: 20- Indústries químiques | H8: 4660 | I8: 0.016423776 | J8: 4920 | M8: 53- Activitats postals i de correus | N8: 1185 | O8: 0.0041764322 | P8: 1360 | Q8: -175 | R8: -0.12867647
A9: 7- Extracció de minerals metàl·lics | B9: 0 | C9: =B9/$B$92 -> 0 | D9: 0 | G9: 21- Fabricació de productes farmacèutics | H9: 3240 | I9: 0.011419106 | J9: 3195 | M9: 68- Activitats immobiliàries | N9: 2395 | O9: 0.0084409749 | P9: 2470 | Q9: -75 | R9: -0.030364372
A10: 8- Extracció de minerals no metàl·lics ni energètics | B10: 140 | C10: =B10/$B$92 -> 0.00049341815 | D10: 130 | G10: 22- Fabricació de productes de cautxú i matèries plàstiques | H10: 2680 | I10: 0.0094454332 | J10: 2635 | M10: 45- Venda i reparació de vehicles de motor i motocicletes | N10: 4860 | O10: 0.017128659 | P10: 4900 | Q10: -40 | R10: -0.0081632653
A11: 9- Activitats de suport a les indústries extractives | B11: 0 | C11: =B11/$B$92 -> 0 | D11: 0 | G11: 23- Fabricació d'altres productes minerals no metàl·lics | H11: 1075 | I11: 0.0037887465 | J11: 995 | M11: 10- Indústries de productes alimentaris | N11: 5795 | O11: 0.020423987 | P11: 5785 | Q11: 10 | R11: 0.0017286085
A12: 10- Indústries de productes alimentaris | B12: 5795 | C12: =B12/$B$92 -> 0.020423987 | D12: 5785 | G12: 25- Fabricació de productes metàl·lics, excepte maquinària i equips | H12: 7145 | I12: 0.025181948 | J12: 7075 | M12: 21- Fabricació de productes farmacèutics | N12: 3240 | O12: 0.011419106 | P12: 3195 | Q12: 45 | R12: 0.014084507
A13: 11- Fabricació de begudes | B13: 1495 | C13: =B13/$B$92 -> 0.005269001 | D13: 1405 | G13: 26- Fabricació de productes informàtics, electrònics i òptics | H13: 950 | I13: 0.0033481946 | J13: 865 | M13: 22- Fabricació de productes de cautxú i matèries plàstiques | N13: 2680 | O13: 0.0094454332 | P13: 2635 | Q13: 45 | R13: 0.017077799
A14: 12- Indústries del tabac | B14: 0 | C14: =B14/$B$92 -> 0 | D14: 0 | G14: 27- Fabricació de materials i equips elèctrics | H14: 2630 | I14: 0.0092692125 | J14: 2260 | M14: 42- Construcció d'obres d'enginyeria civil | N14: 1425 | O14: 0.0050222919 | P14: 1380 | Q14: 45 | R14: 0.032608696
A15: 13- Indústries tèxtils | B15: 800 | C15: =B15/$B$92 -> 0.0028195323 | D15: 865 | G15: 28- Fabricació de maquinària i equips ncaa | H15: 3480 | I15: 0.012264966 | J15: 3360 | M15: 64- Mediació financera, excepte assegurances i fons de pensions | N15: 1550 | O15: 0.0054628439 | P15: 1495 | Q15: 55 | R15: 0.036789298
... A55: 59- Activitats de cinematografia, de vídeo i de programes de televisió; activitats d'enregistrament de so i edició musical | B55: 870 | C55: =B55/$B$92 -> 0.0030662414 | D55: 795 | G55: Total | H55: 283735 | I55: 1 | J55: 271720 | M55: Total | N55: 283735 | O55: 1 | P55: 271720 | Q55: 12015 | R55: 0.044218313
A56: 60- Activitats d'emissió i programació de ràdio i televisió | B56: 2340 | C56: =B56/$B$92 -> 0.008247132 | D56: 2250
A57: 61- Telecomunicacions | B57: 305 | C57: =B57/$B$92 -> 0.0010749467 | D57: 290
A58: 62- Serveis de tecnologies de la informació | B58: 5010 | C58: =B58/$B$92 -> 0.017657321 | D58: 4405
A59: 63- Serveis d'informació | B59: 425 | C59: =B59/$B$92 -> 0.0014978765 | D59: 690
A60: 64- Mediació financera, excepte assegurances i fons de pensions | B60: 1550 | C60: =B60/$B$92 -> 0.0054628439 | D60: 1495
A61: 65- Assegurances, reassegurances i fons de pensions, excepte la Seguretat Social obligatòria | B61: 475 | C61: =B61/$B$92 -> 0.0016740973 | D61: 505
A62: 66- Activitats auxiliars de la mediació financera i d'assegurances | B62: 525 | C62: =B62/$B$92 -> 0.0018503181 | D62: 540
A63: 68- Activitats immobiliàries | B63: 2395 | C63: =B63/$B$92 -> 0.0084409749 | D63: 2470
A64: 69- Activitats jurídiques i de comptabilitat | B64: 4410 | C64: =B64/$B$92 -> 0.015542672 | D64: 4245
A65: 70- Activitats de les seus centrals; activitats de consultoria de gestió empresarial | B65: 1265 | C65: =B65/$B$92 -> 0.0044583855 | D65: 1140
A66: 71- Serveis tècnics d'arquitectura i enginyeria; assajos i anàlisis tècnics | B66: 5875 | C66: =B66/$B$92 -> 0.02070594 | D66: 5590
A67: 72- Recerca i desenvolupament | B67: 1250 | C67: =B67/$B$92 -> 0.0044055192 | D67: 1110
... A92: Total | B92: 283735 | C92: =B92/$B$92 -> 1 | D92: 271720

Sheet TRGSS3
A1: TORNAR A L'ÍNDEX | B1: Fet!
A3: =TRGSS1!A3 -> LLOCS DE TREBALL. RÈGIM GENERAL SEGURETAT SOCIAL.
A5: =Índex!A32 -> TRGSS3 | C5: =Índex!A7 -> 4t trimestre 2022
A6: =Índex!B21 -> Dades municipals.
B8: Llocs de treball (RGSS) | C8: % Baix Llobregat | D8: variació relativa (en %)
B9: Empreses | D9: 2021 | E9: 2020 | F9: 2019 | G9: 2008
A10: Abrera | B10: 6495 | C10: 0.021812723 | D10: -0.0023041475 | E10: -0.015909091 | F10: -0.092623638 | G10: 0.066152331
A11: Begues | B11: 610 | C11: 0.002048616 | D11: 0.0082644628 | E11: -0.0081300813 | F11: -0.046875 | G11: 0.051724138
A12: Castelldefels | B12: 12255 | C12: 0.041157031 | D12: 0.041206457 | E12: 0.11358473 | F12: 0.04005771 | G12: 0.24859908
A13: Castellví de Rosanes | B13: 1080 | C13: 0.0036270579 | D13: 0.13089005 | E13: 0.20670391 | F13: 0.065088757 | G13: 0.41546527
A14: Cervelló | B14: 2235 | C14: 0.0075059947 | D14: 0.032332564 | E14: 0.051764706 | F14: 0.0049460432 | G14: 0.29715612
A15: Collbató | B15: 470 | C15: 0.0015784418 | D15: 0.02173913 | E15: 0.068181818 | F15: 0.02173913 | G15: -0.071146245
A16: Corbera de Llobregat | B16: 1265 | C16: 0.0042483594 | D16: -0.062962963 | E16: -0.041666667 | F16: -0.099002849 | G16: -0.025423729
A17: Cornellà de Llobregat | B17: 41960 | C17: 0.14091791 | D17: 0.038228381 | E17: 0.12917115 | F17: 0.13938143 | G17: 0.42469102
A18: El Papiol | B18: 1910 | C18: 0.006414519 | D18: 0.010582011 | E18: 0.082152975 | F18: 0.082152975 | G18: -0.0591133
A19: El Prat de Llobregat | B19: 53790 | C19: 0.18064763 | D19: 0.062938445 | E19: 0.097979179 | F19: 0.064768993 | G19: 0.63301861
A20: Esparreguera | B20: 5355 | C20: 0.017984162 | D20: 0.18736142 | E20: 0.18604651 | F20: 0.14938828 | G20: 0.063977747
A21: Esplugues de Llobregat | B21: 19225 | C21: 0.064564988 | D21: -0.010805248 | E21: 0.078541374 | F21: 0.063564948 | G21: 0.14271279
... A40: BAIX LLOBREGAT | B40: 297762 | C40: 1 | D40: 0.042525629 | E40: 0.085553874 | F40: 0.062843559 | G40: 0.2388477
A42: Les dades de 2021 provenen d'Idescat, a partir dels fitxers d'afiliacions i comptes de cotització de la Tresoreria General de la Seguretat Social. Dades provisionals.
A46: Zona | B46: 2022 2T | C46: 2021 2T | D46: 2020 2T | E46: 20219 2T | F46: 2008 2T | G46: 2008-2022 | H46: 2019-2022 | I46: 2020-2022 | J46: 2021-2022 | K46: Zona Centre: Cornellà de Llobregat, Esplugues de Llobregat, Sant Joan Despí, Sant Feliu de Llobregat i Sant Just Desvern.
A47: Centre | B47: 100805 | C47: 97150 | D47: 90475 | E47: 91197 | F47: 81894 | G47: 0.23092046 | H47: 0.10535434 | I47: 0.11417519 | J47: 0.037622234 | K47: Zona Delta: Begues, Castelldefels, El Prat de Llobregat, Gavà, Sant Boi de Llobregat, Sant Climent de Llobregat i Viladecans.
A48: Delta | B48: 116130 | C48: 109995 | D48: 103623 | E48: 106196 | F48: 94310 | G48: 0.23136465 | H48: 0.093544013 | I48: 0.12069714 | J48: 0.055775263 | K48: Zona Nord: Abrera, Castellví de Rosanes, Collbató, Esparreguera, Martorell, Olesa de Montserrat, Sant Andreu de la Barca i Sant Esteve Sesrovires.
A49: Nord | B49: 40990 | C49: 39210 | D49: 38073 | E49: 39386 | F49: 42711 | G49: -0.040294069 | H49: 0.040725131 | I49: 0.076615975 | J49: 0.045396583 | K49: Zona Vall Baixa: Cervelló, Corbera de Llobregat, El Papiol, La Palma de Cervelló, Molins de Rei, Pallejà, Sant Vicenç dels Horts, Santa Coloma de Cervelló, Torrelles de Llobregat i Vallirana.
A50: Vall Baixa | B50: 25810 | C50: 25365 | D50: 24319 | E50: 25085 | F50: 28597 | G50: -0.097457775 | H50: 0.028901734 | I50: 0.061310087 | J50: 0.01754386
A51: Total | B51: 283735 | C51: 271720 | D51: 256490 | E51: 261864 | F51: 247512 | G51: 0.14634846 | H51: 0.083520453 | I51: 0.10622246 | J51: 0.044218313

Sheet TRGSS4
A1: TORNAR A L'ÍNDEX | B1: Fet!
A3: =TRGSS1!A3 -> LLOCS DE TREBALL. RÈGIM GENERAL SEGURETAT SOCIAL.
A5: =Índex!A33 -> TRGSS4 | C5: =Índex!A7 -> 4t trimestre 2022
A6: =Índex!B33 -> Dades municipals. Llocs de treball assalariat per grandària del compte de cotització.
B8: Fins a 50 treballadors | C8: De 51 a 250 treballadors | D8: 251 i més treballadors | E8: % Baix Llobregat | H8: variació anual relativa (en %)
C9: De 51 a 250 treballadors | E9: Fins a 50 treballadors | F9: De 51 a 250 treballadors | G9: 251 i més treballadors | H9: Fins a 50 treballadors | I9: De 51 a 250 treballadors | J9: 251 i més treballadors
A10: Abrera | B10: 2990 | C10: 2595 | D10: 915 | E10: 0.025450057 | F10: 0.032246039 | G10: 0.0093572634 | H10: 0.029259897 | I10: -0.042435424 | J10: 0.028089888
A11: Begues | B11: 615 | C11: 0 | D11: 0 | E11: 0.0052347108 | F11: 0 | G11: 0 | H11: 0.016528926 | I11: - | J11: -
A12: Castelldefels | B12: 8575 | C12: 2695 | D12: 990 | E12: 0.072988041 | F12: 0.033488661 | G12: 0.010124252 | H12: 0.017200474 | I12: 0.24768519 | J12: -0.16101695
A13: Castellví de Rosanes | B13: 570 | C13: 120 | D13: 390 | E13: 0.0048516832 | F13: 0.0014911463 | G13: 0.0039883418 | H13: 0.096153846 | I13: 0.090909091 | J13: 0.2
A14: Cervelló | B14: 1350 | C14: 885 | D14: 0 | E14: 0.011490829 | F14: 0.010997204 | G14: 0 | H14: 0.018867925 | I14: 0.053571429 | J14: -
A15: Collbató | B15: 470 | C15: 0 | D15: 0 | E15: 0.0040005107 | F15: 0 | G15: 0 | H15: 0.02173913 | I15: - | J15: -
A16: Corbera de Llobregat | B16: 980 | C16: 285 | D16: 0 | E16: 0.0083414904 | F16: 0.0035414725 | G16: 0 | H16: -0.024875622 | I16: -0.17391304 | J16: -
A17: Cornellà de Llobregat | B17: 14075 | C17: 10445 | D17: 17440 | E17: 0.11980253 | F17: 0.12979186 | G17: 0.17835046 | H17: -0.0063536887 | I17: 0.10822281 | J17: 0.036552749
A18: Esparreguera | B18: 3105 | C18: 1670 | D18: 580 | E18: 0.026428906 | F18: 0.020751786 | G18: 0.0059313801 | H18: 0.050761421 | I18: 0.28461538 | J18: 1.2745098
A19: Esplugues de Llobregat | B19: 5940 | C19: 6230 | D19: 7060 | E19: 0.050559646 | F19: 0.077415346 | G19: 0.072199213 | H19: -0.034146341 | I19: 0.10657194 | J19: -0.077726976
A20: Gavà | B20: 6800 | C20: 4905 | D20: 1135 | E20: 0.057879729 | F20: 0.060950606 | G20: 0.011607097 | H20: 0 | I20: 0 | J20: 0.31976744
A21: Martorell | B21: 4130 | C21: 2660 | D21: 3410 | E21: 0.035153424 | F21: 0.033053743 | G21: 0.034872424 | H21: 0.04556962 | I21: 0.064 | J21: 0.047619048
A22: Molins de Rei | B22: 4900 | C22: 2085 | D22: 0 | E22: 0.041707452 | F22: 0.025908667 | G22: 0 | H22: -0.018036072 | I22: 0.071979434 | J22: -
A23: Olesa de Montserrat | B23: 2280 | C23: 1560 | D23: 0 | E23: 0.019406733 | F23: 0.019384902 | G23: 0 | H23: -0.012987013 | I23: 0.094736842 | J23: -
A24: Pallejà | B24: 1775 | C24: 840 | D24: 0 | E24: 0.015108312 | F24: 0.010438024 | G24: 0 | H24: 0.011396011 | I24: 0.18309859 | J24: -
A25: Palma de Cervelló, la | B25: 515 | C25: 0 | D25: 0 | E25: 0.0043835383 | F25: 0 | G25: 0 | H25: -0.019047619 | I25: -1 | J25: -
A26: Papiol, el | B26: 1205 | C26: 440 | D26: 270 | E26: 0.010256629 | F26: 0.0054675365 | G26: 0.0027611597 | H26: 0.061674009 | I26: -0.41721854 | J26: -
A27: Prat de Llobregat, el | B27: 10590 | C27: 10535 | D27: 32665 | E27: 0.090139167 | F27: 0.13091022 | G27: 0.33404919 | H27: 0.027656477 | I27: 0.017382907 | J27: 0.090651085
A28: Sant Andreu de la Barca | B28: 4505 | C28: 2280 | D28: 4490 | E28: 0.038345321 | F28: 0.02833178 | G28: 0.045917063 | H28: -0.028047465 | I28: 0.12871287 | J28: 0.11970075
A29: Sant Boi de Llobregat | B29: 10440 | C29: 7865 | D29: 5730 | E29: 0.088862408 | F29: 0.097732215 | G29: 0.058597944 | H29: -0.0080760095 | I29: 0.18627451 | J29: 0.035230352
A30: Sant Climent de Llobregat | B30: 455 | C30: 70 | D30: 0 | E30: 0.0038728348 | F30: 0.00086983535 | G30: 0 | H30: 0.011111111 | I30: 0 | J30: -
A31: Sant Esteve Sesrovires | B31: 1930 | C31: 1985 | D31: 1325 | E31: 0.016427629 | F31: 0.024666045 | G31: 0.013550136 | H31: 0.048913043 | I31: -0.019753086 | J31: 0.0076045627
A32: Sant Feliu de Llobregat | B32: 5660 | C32: 3740 | D32: 6290 | E32: 0.048176363 | F32: 0.04647406 | G32: 0.064324794 | H32: 0.026291931 | I32: 0.047619048 | J32: 0.016155089
A33: Sant Joan Despí | B33: 5080 | C33: 3735 | D33: 4745 | E33: 0.043239562 | F33: 0.046411929 | G33: 0.048524825 | H33: 0.0089374379 | I33: 0.13353566 | J33: 0.025945946
A34: Sant Just Desvern | B34: 5230 | C34: 4710 | D34: 4435 | E34: 0.044516321 | F34: 0.058527493 | G34: 0.045354604 | H34: 0.064089522 | I34: 0.029508197 | J34: 0.15194805
A35: Sant Vicenç dels Horts | B35: 2985 | C35: 3115 | D35: 310 | E35: 0.025407499 | F35: 0.038707673 | G35: 0.0031702204 | H35: -0.058359621 | I35: 0.10854093 | J35: -0.015873016
A36: Santa Coloma de Cervelló | B36: 885 | C36: 780 | D36: 320 | E36: 0.0075328765 | F36: 0.0096924511 | G36: 0.0032724856 | H36: -0.038043478 | I36: 0.1641791 | J36: 0.10344828
A37: Torrelles de Llobregat | B37: 530 | C37: 60 | D37: 0 | E37: 0.0045112142 | F37: 0.00074557316 | G37: 0 | H37: -0.036363636 | I37: - | J37: -
A38: Vallirana | B38: 1655 | C38: 145 | D38: 0 | E38: 0.014086905 | F38: 0.0018018018 | G38: 0 | H38: 0.088815789 | I38: -0.35555556 | J38: -
A39: Viladecans | B39: 7295 | C39: 4045 | D39: 5290 | E39: 0.062093033 | F39: 0.050264057 | G39: 0.054098277 | H39: -0.0040955631 | I39: -0.16940452 | J39: 0.46740638
A40: BAIX LLOBREGAT | B40: 117485 | C40: 80475 | D40: 97785 | E40: 1 | F40: 1 | G40: 1 | H40: 0.0067697845 | I40: 0.059299724 | J40: 0.075210292
A42: Les dades de 2021 provenen d'Idescat, a partir dels fitxers d'afiliacions i comptes de cotització de la Tresoreria General de la Seguretat Social. Dades provisionals.

Sheet TRGS5
A1: TORNAR A L'ÍNDEX | B1: Fet!
A3: =TRGSS1!A3 -> LLOCS DE TREBALL. RÈGIM GENERAL SEGURETAT SOCIAL.
A5: =Índex!A34 -> TRGSS5 | C5: =Índex!A7 -> 4t trimestre 2022
A6: =Índex!B34 -> Dades municipals. Relació entre població ocupada i llocs de treball.
B9: P. Règim General resident al municipi | C9: P. Règim General treballant al municipi | D9: Diferència residents-treballant (abs) | E9: Diferència residents-treballant (%)
A11: Abrera | B11: 5837 | C11: 6495 | D11: =+B11-C11 -> -658 | E11: =+D11/B11 -> -0.11272914
A12: Begues | B12: 3495 | C12: 610 | D12: =+B12-C12 -> 2885 | E12: =+D12/B12 -> 0.82546495
A13: Castelldefels | B13: 29624 | C13: 12255 | D13: =+B13-C13 -> 17369 | E13: =+D13/B13 -> 0.58631515
A14: Castellví de Rosanes | B14: 971 | C14: 1080 | D14: =+B14-C14 -> -109 | E14: =+D14/B14 -> -0.11225541
A15: Cervelló | B15: 4408 | C15: 2235 | D15: =+B15-C15 -> 2173 | E15: =+D15/B15 -> 0.49296733
A16: Collbató | B16: 2286 | C16: 470 | D16: =+B16-C16 -> 1816 | E16: =+D16/B16 -> 0.7944007
A17: Corbera de Llobregat | B17: 7192 | C17: 1265 | D17: =+B17-C17 -> 5927 | E17: =+D17/B17 -> 0.82411012
A18: Cornellà de Llobregat | B18: 38372 | C18: 41960 | D18: =+B18-C18 -> -3588 | E18: =+D18/B18 -> -0.093505681
A19: El Papiol | B19: 2071 | C19: 1910 | D19: =+B19-C19 -> 161 | E19: =+D19/B19 -> 0.077740222
A20: El Prat de Llobregat | B20: 28306 | C20: 53790 | D20: =+B20-C20 -> -25484 | E20: =+D20/B20 -> -0.90030382
A21: Esparreguera | B21: 9865 | C21: 5355 | D21: =+B21-C21 -> 4510 | E21: =+D21/B21 -> 0.45717182
A22: Esplugues de Llobregat | B22: 19286 | C22: 19225 | D22: =+B22-C22 -> 61 | E22: =+D22/B22 -> 0.0031629161
... A41: BAIX LLOBREGAT | B41: 369391 | C41: 295745 | D41: =+B41-C41 -> 73646 | E41: =+D41/B41 -> 0.1993714
A42: Font: OCBL a partir de dades d'IDESCAT, afiliacions segons residència padronal i compte de cotització. Les dades corresponen al quart trimestre.

Sheet TRGSS6
A1: TORNAR A L'ÍNDEX | B1: Fet!
A3: =TRGSS1!A3 -> LLOCS DE TREBALL. RÈGIM GENERAL SEGURETAT SOCIAL.
A5: =Índex!A35 -> TRGSS6 | C5: =Índex!A7 -> 4t trimestre 2022
A6: =Índex!B35 -> Dades municipals. Llocs de treball assalariat ocupats per dones.
B8: Llocs de treball ocupats per dones | C8: % total llocs de treball
C9: De 51 a 250 treballadors
A10: Abrera | B10: 1824 | C10: 0.2777524
A11: Begues | B11: 341 | C11: 0.46712329
A12: Castelldefels | B12: 6103 | C12: 0.49437019
A13: Castellví de Rosanes | B13: 401 | C13: 0.35964126
A14: Cervelló | B14: 1071 | C14: 0.45808383
A15: Collbató | B15: 255 | C15: 0.46703297
A16: Corbera de Llobregat | B16: 738 | C16: 0.53672727
A17: Cornellà de Llobregat | B17: 17292 | C17: 0.4117535
A18: Esparreguera | B18: 2475 | C18: 0.45421178
A19: Esplugues de Llobregat | B19: 10302 | C19: 0.53400373
A20: Gavà | B20: 5527 | C20: 0.4283168
A21: Martorell | B21: 4160 | C21: 0.404276
... A40: BAIX LLOBREGAT | B40: 135943 | C40: 0.45625959
A42: Les dades de 2021 provenen d'Idescat, a partir dels fitxers d'afiliacions i comptes de cotització de la Tresoreria General de la Seguretat Social. Dades provisionals.
D48: 287516
D49: =D48-B40 -> 151573

Sheet GRETA1
A1: TORNAR A L'ÍNDEX | B1: Fet!
A3: LLOCS DE TREBALL. RÈGIM ESPECIAL TREBALLADORS AUTÒNOMS
A5: GRETA1 | C5: =Índex!A7 -> 4t trimestre 2022
A6: Llocs de treball del RETA segons àmbit territorial.
A29: Les dades de 2021 provenen d'Idescat, a partir dels fitxers d'afiliacions i comptes de cotització de la Tresoreria General de la Seguretat Social. Dades provisionals.
B31: RETA | C31: variació 2022-2021 | D31: variació 2022-2020 | E31: variació 2022-2019 | F31: variació 2022-2008
A32: Baix Llobregat | B32: 48810 | C32: -0.0075233835 | D32: 0.0065992988 | E32: -0.032219689 | F32: -0.094198864
A33: Àrea Metropolitana de Barcelona | B33: 236050 | C33: -0.00050810857 | D33: 0.017347269 | E33: 0.052760681 | F33: 0.052000606
A34: Àmbit Territorial Metropolità | B34: 346370 | C34: -0.0017724109 | D34: 0.016209714 | E34: 0.029934315 | F34: -0.040457207
A35: Catalunya | B35: 557535 | C35: -0.0020048151 | D35: 0.015537199 | E35: 0.014048464 | F35: -0.032940405

Sheet GRETA2
A1: TORNAR A L'ÍNDEX | B1: Fet!
A3: LLOCS DE TREBALL. RÈGIM ESPECIAL TREBALLADORS AUTÒNOMS
A5: =Índex!A40 -> GRETA2 | C5: =Índex!A7 -> 4t trimestre 2022
A6: =Índex!B40 -> Variació interanual llocs de treball autònom. Baix Llobregat.
A29: Les dades de 2022 i 2021 provenen d'Idescat, a partir dels fitxers d'afiliacions i comptes de cotització de la Tresoreria General de la Seguretat Social. Dades provisionals.
B31: Llocs de treball RETA | C31: Variació interanual
A32: 2016 | B32: 50535 | C32: =(B32-B40)/B40 -> 0.0016054228
A33: 2017 | B33: 50171 | C33: =(B33-B32)/B32 -> -0.0072029287
A34: 2018 | B34: 50534 | C34: =(B34-B33)/B33 -> 0.0072352554
A35: 2019 | B35: 50435 | C35: =(B35-B34)/B34 -> -0.0019590771
A36: 2020 | B36: 48490 | C36: =(B36-B35)/B35 -> -0.038564489
A37: 2021 | B37: 49180 | C37: =(B37-B36)/B36 -> 0.014229738
A38: 2022 | B38: 48810 | C38: =(B38-B37)/B37 -> -0.0075233835
A40: 2015 | B40: 50454

Sheet TRETA1
A1: TORNAR A L'ÍNDEX | C1: Fet!
A3: =[1]GRETA1!A3 -> LLOCS DE TREBALL. RÈGIM ESPECIAL TREBALLADORS AUTÒNOMS
A5: =[1]Índex!A36 -> TRETA1 | C5: =Índex!A7 -> 4t trimestre 2022
A6: =Índex!B41 -> Activitats econòmiques més rellevants. Baix Llobregat.
D8: Variació
B9: 2022 | C9: %total | D9: 2021-2022 | E9: 2020-2022 | F9: 2019-2022 | G9: 2008-2022
A10: Total | B10: 48810 | D10: -0.0075233835 | E10: 0.0065992988 | F10: -0.032219689 | G10: -0.094198864
A11: 47-Comerç al detall, excepte el comerç de vehicles de motor i motocicletes | B11: 6500 | C11: 0.13316943 | D11: -0.026946108 | E11: -0.03201787 | F11: -0.095211581 | G11: -0.20693021
A12: 49-Transport terrestre; transport per canonades | B12: 5145 | C12: 0.10540873 | D12: -0.032894737 | E12: -0.048983364 | F12: -0.041720991 | G12: -0.20417633
A13: 43-Activitats especialitzades de la construcció | B13: 4830 | C13: 0.098955132 | D13: -0.022267206 | E13: -0.028169014 | F13: -0.059213089 | G13: -0.32277061
A14: 56-Serveis de menjar i begudes | B14: 4650 | C14: 0.095267363 | D14: -0.0064102564 | E14: 0.0021551724 | F14: 0.015727392 | G14: -0.019814503
A15: 46-Comerç a l'engròs i intermediaris del comerç, excepte vehicles de motor i motocicletes | B15: 2975 | C15: 0.060950625 | D15: -0.019769357 | E15: -0.014900662 | F15: -0.071762871 | G15: -0.078376704
A16: 96-Altres activitats de serveis personals | B16: 2770 | C16: 0.056750666 | D16: 0.0054446461 | E16: 0.069498069 | F16: 0.0010842067 | G16: 0.27708621
A17: 86-Activitats sanitàries | B17: 2030 | C17: 0.041589838 | D17: 0.038363171 | E17: 0.13407821 | F17: 0.12465374 | G17: 0.94444444
A18: 41-Construcció d'immobles | B18: 1570 | C18: 0.03216554 | D18: 0.022801303 | E18: 0.050167224 | F18: 0.065852003 | G18: -0.14627515
A19: 85-Educació | B19: 1450 | C19: 0.029707027 | D19: 0.054545455 | E19: 0.11538462 | F19: 0.053013798 | G19: 0.61290323
A20: 45-Venda i reparació de vehicles de motor i motocicletes | B20: 1175 | C20: 0.024072936 | D20: -0.032921811 | E20: -0.020833333 | F20: -0.05165456 | G20: -0.17369902
A23: Les dades de 2022 i 2021 provenen d'Idescat, a partir dels fitxers d'afiliacions i comptes de cotització de la Tresoreria General de la Seguretat Social. Dades provisionals.

Sheet TRETA2
A1: TORNAR A L'ÍNDEX | B1: Fet!
A3: =[3]TRETA1!A3 -> LLOCS DE TREBALL. RÈGIM ESPECIAL TREBALLADORS AUTÒNOMS
A5: =[3]Índex!A37 -> TRETA2 | C5: =Índex!A7 -> 4t trimestre 2022
A6: =[3]Índex!B28 -> Dinamisme llocs de treball.
A7: ACTIVITATS QUE MÉS HAN AUGMENTAT L'AFILIACIÓ | B7: n | C7: Variació anual
C8: n | D8: %
A9: 85-Educació | B9: 1450 | C9: 75 | D9: 0.054545455
A10: 86-Activitats sanitàries | B10: 2030 | C10: 75 | D10: 0.038363171
A11: 59-Activitats de cinematografia, de vídeo i de programes de televisió; activitats d'enregistrament de so i edició musical | B11: 230 | C11: 40 | D11: 0.21052632
A12: 41-Construcció d'immobles | B12: 1570 | C12: 35 | D12: 0.022801303
A13: 74-Altres activitats professionals, científiques i tècniques | B13: 1135 | C13: 35 | D13: 0.031818182
A14: 62-Serveis de tecnologies de la informació | B14: 910 | C14: 30 | D14: 0.034090909
A15: 72-Recerca i desenvolupament | B15: 240 | C15: 30 | D15: 0.14285714
A16: 73-Publicitat i estudis de mercat | B16: 630 | C16: 30 | D16: 0.05
A17: 79-Activitats de les agències de viatges, operadors turístics i altres serveis de reserves i activitats que s'hi relacionen | B17: 230 | C17: 20 | D17: 0.095238095
A18: 69-Activitats jurídiques i de comptabilitat | B18: 965 | C18: 15 | D18: 0.015789474
A19: ACTIVITATS QUE MÉS HAN DISMINUÏT L'AFILIACIÓ | B19: n | C19: Variació anual
C20: n | D20: %
A21: 47-Comerç al detall, excepte el comerç de vehicles de motor i motocicletes | B21: 6500 | C21: -180 | D21: -0.026946108
A22: 49-Transport terrestre; transport per canonades | B22: 5145 | C22: -175 | D22: -0.032894737
A23: 43-Activitats especialitzades de la construcció | B23: 4830 | C23: -110 | D23: -0.022267206
A24: 46-Comerç a l'engròs i intermediaris del comerç, excepte vehicles de motor i motocicletes | B24: 2975 | C24: -60 | D24: -0.019769357
A25: 45-Venda i reparació de vehicles de motor i motocicletes | B25: 1175 | C25: -40 | D25: -0.032921811
A26: 95-Reparació d'ordinadors, d'efectes personals i efectes domèstics | B26: 560 | C26: -40 | D26: -0.066666667
A27: 56-Serveis de menjar i begudes | B27: 4650 | C27: -30 | D27: -0.0064102564
A28: 25-Fabricació de productes metàl·lics, excepte maquinària i equips | B28: 675 | C28: -20 | D28: -0.028776978
A29: 1-Agricultura, ramaderia, caça i activitats dels serveis que s'hi relacionen | B29: 335 | C29: -15 | D29: -0.042857143
A30: 28-Fabricació de maquinària i equips ncaa | B30: 200 | C30: -15 | D30: -0.069767442
A32: Les dades de 2022 i 2021 provenen d'Idescat, a partir dels fitxers d'afiliacions i comptes de cotització de la Tresoreria General de la Seguretat Social. Dades provisionals.

Sheet DIN_RETA
B1: Fet! | G1: 0.003 | M1: variació | Q1: quan ordenis, millor copiïs les cel·les calculades abans
B3: 2022 | C3: 20.22 | D3: 2021 | G3: 2022 | H3: 20.22 | I3: 2021 | J3: var absoluta | K3: var relativa | N3: 2022 | O3: 20.22 | P3: 2021 | Q3: var absoluta | R3: º
A4: 1- Agricultura, ramaderia, caça i activitats dels serveis que s'hi relacionen | B4: 328 | C4: 0.0067261355 | D4: 360 | F4: 1- Agricultura, ramaderia, caça i activitats dels serveis que s'hi relacionen | G4: 328 | H4: 0.0067261355 | I4: 360 | J4: =G4-I4 -> -32 | K4: =J4/I4 -> -0.088888889 | M4: 86- Activitats sanitàries | N4: 2022 | O4: 0.041464165 | P4: 1916 | Q4: 106 | R4: 0.055323591
A5: 2- Silvicultura i explotació forestal | B5: 0 | C5: 0 | D5: 20 | F5: 10- Indústries de productes alimentaris | G5: 162 | H5: 0.0033220548 | I5: 208 | J5: =G5-I5 -> -46 | K5: =J5/I5 -> -0.22115385 | M5: 85- Educació | N5: 1410 | O5: 0.02891418 | P5: 1354 | Q5: 56 | R5: 0.041358936
A6: 3- Pesca i aqüicultura | B6: 0 | C6: 0 | D6: .. | F6: 18- Arts gràfiques i reproducció de suports enregistrats | G6: 326 | H6: 0.0066851225 | I6: 353 | J6: =G6-I6 -> -27 | K6: =J6/I6 -> -0.076487252 | M6: 41- Construcció d'immobles | N6: 1645 | O6: 0.03373321 | P6: 1606 | Q6: 39 | R6: 0.024283935
A7: 5- Extracció d'antracita, hulla i lignit | B7: 0 | C7: 0 | D7: 0 | F7: 25- Fabricació de productes metàl·lics, excepte maquinària i equips | G7: 673 | H7: 0.013800882 | I7: 711 | J7: =G7-I7 -> -38 | K7: =J7/I7 -> -0.053445851 | M7: 62- Serveis de tecnologies de la informació | N7: 896 | O7: 0.018373834 | P7: 865 | Q7: 31 | R7: 0.03583815
A8: 6- Extracció de petroli brut i de gas natural | B8: 0 | C8: 0 | D8: 0 | F8: 28- Fabricació de maquinària i equips ncaa | G8: 158 | H8: 0.0032400287 | I8: 199 | J8: =G8-I8 -> -41 | K8: =J8/I8 -> -0.20603015 | M8: 74- Altres activitats professionals, científiques i tècniques | N8: 1135 | O8: 0.02327489 | P8: 1109 | Q8: 26 | R8: 0.023444545
A9: 7- Extracció de minerals metàl·lics | B9: 0 | C9: 0 | D9: 0 | F9: 31- Fabricació de mobles | G9: 150 | H9: 0.0030759766 | I9: 182 | J9: =G9-I9 -> -32 | K9: =J9/I9 -> -0.17582418 | M9: 93- Activitats esportives, recreatives i d'entreteniment | N9: 463 | O9: 0.0094945145 | P9: 450 | Q9: 13 | R9: 0.028888889
A10: 8- Extracció de minerals no metàl·lics ni energètics | B10: 0 | C10: 0 | D10: 8 | F10: 33- Reparació i instal·lació de maquinària i equips | G10: 460 | H10: 0.009432995 | I10: 472 | J10: =G10-I10 -> -12 | K10: =J10/I10 -> -0.025423729 | M10: 79- Activitats de les agències de viatges, operadors turístics i altres serveis de reserves i activitats que s'hi relacionen | N10: 254 | O10: 0.0052086537 | P10: 247 | Q10: 7 | R10: 0.028340081
A11: 9- Activitats de suport a les indústries extractives | B11: 0 | C11: 0 | D11: .. | F11: 41- Construcció d'immobles | G11: 1645 | H11: 0.03373321 | I11: 1606 | J11: =G11-I11 -> 39 | K11: =J11/I11 -> 0.024283935 | M11: 96- Altres activitats de serveis personals | N11: 2901 | O11: 0.059489388 | P11: 2896 | Q11: 5 | R11: 0.0017265193
A12: 10- Indústries de productes alimentaris | B12: 162 | C12: 0.0033220548 | D12: 208 | F12: 42- Construcció d'obres d'enginyeria civil | G12: 176 | H12: 0.0036091459 | I12: 212 | J12: =G12-I12 -> -36 | K12: =J12/I12 -> -0.16981132 | M12: 72- Recerca i desenvolupament | N12: 211 | O12: 0.0043268738 | P12: 207 | Q12: 4 | R12: 0.019323671
A13: 11- Fabricació de begudes | B13: 0 | C13: 0 | D13: 15 | F13: 43- Activitats especialitzades de la construcció | G13: 4996 | H13: 0.10245053 | I13: 5120 | J13: =G13-I13 -> -124 | K13: =J13/I13 -> -0.02421875 | M13: 90- Activitats de creació, artístiques i d'espectacles | N13: 526 | O13: 0.010786425 | P13: 522 | Q13: 4 | R13: 0.0076628352
A14: 12- Indústries del tabac | B14: 0 | C14: 0 | D14: 0 | F14: 45- Venda i reparació de vehicles de motor i motocicletes | G14: 1193 | H14: 0.024464267 | I14: 1230 | J14: =G14-I14 -> -37 | K14: =J14/I14 -> -0.030081301 | M14: 73- Publicitat i estudis de mercat | N14: 645 | O14: 0.013226699 | P14: 642 | Q14: 3 | R14: 0.0046728972
A15: 13- Indústries tèxtils | B15: 37 | C15: 0.0007587409 | D15: 72 | F15: 46- Comerç a l'engròs i intermediaris del comerç, excepte vehicles de motor i motocicletes | G15: 3121 | H15: 0.06400082 | I15: 3215 | J15: =G15-I15 -> -94 | K15: =J15/I15 -> -0.029237947 | M15: 81- Serveis a edificis i activitats de jardineria | N15: 771 | O15: 0.01581052 | P15: 769 | Q15: 2 | R15: 0.0026007802
A16: 14- Confecció de peces de vestir | B16: 144 | C16: 0.0029529376 | D16: 162 | F16: 47- Comerç al detall, excepte el comerç de vehicles de motor i motocicletes | G16: 6928 | H16: 0.14206911 | I16: 7138 | J16: =G16-I16 -> -210 | K16: =J16/I16 -> -0.029420006 | M16: 68- Activitats immobiliàries | N16: 846 | O16: 0.017348508 | P16: 845 | Q16: 1 | R16: 0.001183432
A17: 15- Indústria del cuir i del calçat | B17: 0 | C17: 0 | D17: 16 | F17: 49- Transport terrestre; transport per canonades | G17: 5188 | H17: 0.10638778 | I17: 5337 | J17: =G17-I17 -> -149 | K17: =J17/I17 -> -0.027918306 | M17: 69- Activitats jurídiques i de comptabilitat | N17: 1098 | O17: 0.022516149 | P17: 1100 | Q17: -2 | R17: -0.0018181818
A18: 16- Indústria de la fusta i del suro, excepte mobles; cistelleria i esparteria | B18: 98 | C18: 0.0020096381 | D18: 145 | F18: 52- Emmagatzematge i activitats afins al transport | G18: 158 | H18: 0.0032400287 | I18: 185 | J18: =G18-I18 -> -27 | K18: =J18/I18 -> -0.14594595 | M18: 82- Activitats administratives d'oficina i altres activitats auxiliars a les empreses | N18: 744 | O18: 0.015256844 | P18: 746 | Q18: -2 | R18: -0.0026809651
A19: 17- Indústries del paper | B19: 0 | C19: 0 | D19: 35 | F19: 53- Activitats postals i de correus | G19: 207 | H19: 0.0042448477 | I19: 231 | J19: =G19-I19 -> -24 | K19: =J19/I19 -> -0.1038961 | M19: 33- Reparació i instal·lació de maquinària i equips | N19: 460 | O19: 0.009432995 | P19: 472 | Q19: -12 | R19: -0.025423729
A20: 18- Arts gràfiques i reproducció de suports enregistrats | B20: 326 | C20: 0.0066851225 | D20: 353 | F20: 56- Serveis de menjar i begudes | G20: 4471 | H20: 0.09168461 | I20: 4488 | J20: =G20-I20 -> -17 | K20: =J20/I20 -> -0.0037878788 | M20: 56- Serveis de menjar i begudes | N20: 4471 | O20: 0.09168461 | P20: 4488 | Q20: -17 | R20: -0.0037878788
A21: 19- Coqueries i refinació del petroli | B21: 0 | C21: 0 | D21: 0 | F21: 59- Activitats de cinematografia, de vídeo i de programes de televisió; activitats d'enregistrament de so i edició musical | G21: 172 | H21: 0.0035271199 | I21: 200 | J21: =G21-I21 -> -28 | K21: =J21/I21 -> -0.14 | M21: 70- Activitats de les seus centrals; activitats de consultoria de gestió empresarial | N21: 412 | O21: 0.0084486825 | P21: 435 | Q21: -23 | R21: -0.052873563
A22: 20- Indústries químiques | B22: 34 | C22: 0.00069722137 | D22: 65 | F22: 62- Serveis de tecnologies de la informació | G22: 896 | H22: 0.018373834 | I22: 865 | J22: =G22-I22 -> 31 | K22: =J22/I22 -> 0.03583815 | M22: 53- Activitats postals i de correus | N22: 207 | O22: 0.0042448477 | P22: 231 | Q22: -24 | R22: -0.1038961
A23: 21- Fabricació de productes farmacèutics | B23: 0 | C23: 0 | D23: .. | F23: 66- Activitats auxiliars de la mediació financera i d'assegurances | G23: 715 | H23: 0.014662155 | I23: 746 | J23: =G23-I23 -> -31 | K23: =J23/I23 -> -0.04155496 | M23: 18- Arts gràfiques i reproducció de suports enregistrats | N23: 326 | O23: 0.0066851225 | P23: 353 | Q23: -27 | R23: -0.076487252
A24: 22- Fabricació de productes de cautxú i matèries plàstiques | B24: 71 | C24: 0.0014559623 | D24: 110 | F24: 68- Activitats immobiliàries | G24: 846 | H24: 0.017348508 | I24: 845 | J24: =G24-I24 -> 1 | K24: =J24/I24 -> 0.001183432 | M24: 52- Emmagatzematge i activitats afins al transport | N24: 158 | O24: 0.0032400287 | P24: 185 | Q24: -27 | R24: -0.14594595
A25: 23- Fabricació d'altres productes minerals no metàl·lics | B25: 33 | C25: 0.00067671486 | D25: 89 | F25: 69- Activitats jurídiques i de comptabilitat | G25: 1098 | H25: 0.022516149 | I25: 1100 | J25: =G25-I25 -> -2 | K25: =J25/I25 -> -0.0018181818 | M25: 59- Activitats de cinematografia, de vídeo i de programes de televisió; activitats d'enregistrament de so i edició musical | N25: 172 | O25: 0.0035271199 | P25: 200 | Q25: -28 | R25: -0.14
A26: 24- Metal·lúrgia; fabricació de productes bàsics de ferro, acer i ferroaliatges | B26: 66 | C26: 0.0013534297 | D26: 103 | F26: 70- Activitats de les seus centrals; activitats de consultoria de gestió empresarial | G26: 412 | H26: 0.0084486825 | I26: 435 | J26: =G26-I26 -> -23 | K26: =J26/I26 -> -0.052873563 | M26: 77- Activitats de lloguer | N26: 279 | O26: 0.0057213165 | P26: 308 | Q26: -29 | R26: -0.094155844
A27: 25- Fabricació de productes metàl·lics, excepte maquinària i equips | B27: 673 | C27: 0.013800882 | D27: 711 | F27: 71- Serveis tècnics d'arquitectura i enginyeria; assajos i anàlisis tècnics | G27: 934 | H27: 0.019153081 | I27: 973 | J27: =G27-I27 -> -39 | K27: =J27/I27 -> -0.04008222 | M27: 66- Activitats auxiliars de la mediació financera i d'assegurances | N27: 715 | O27: 0.014662155 | P27: 746 | Q27: -31 | R27: -0.04155496
A28: 26- Fabricació de productes informàtics, electrònics i òptics | B28: 25 | C28: 0.00051266277 | D28: 74 | F28: 72- Recerca i desenvolupament | G28: 211 | H28: 0.0043268738 | I28: 207 | J28: =G28-I28 -> 4 | K28: =J28/I28 -> 0.019323671 | M28: 1- Agricultura, ramaderia, caça i activitats dels serveis que s'hi relacionen | N28: 328 | O28: 0.0067261355 | P28: 360 | Q28: -32 | R28: -0.088888889
A29: 27- Fabricació de materials i equips elèctrics | B29: 0 | C29: 0 | D29: 36 | F29: 73- Publicitat i estudis de mercat | G29: 645 | H29: 0.013226699 | I29: 642 | J29: =G29-I29 -> 3 | K29: =J29/I29 -> 0.0046728972 | M29: 31- Fabricació de mobles | N29: 150 | O29: 0.0030759766 | P29: 182 | Q29: -32 | R29: -0.17582418
A30: 28- Fabricació de maquinària i equips ncaa | B30: 158 | C30: 0.0032400287 | D30: 199 | F30: 74- Altres activitats professionals, científiques i tècniques | G30: 1135 | H30: 0.02327489 | I30: 1109 | J30: =G30-I30 -> 26 | K30: =J30/I30 -> 0.023444545 | M30: 42- Construcció d'obres d'enginyeria civil | N30: 176 | O30: 0.0036091459 | P30: 212 | Q30: -36 | R30: -0.16981132
A31: 29- Fabricació de vehicles de motor, remolcs i semiremolcs | B31: 5 | C31: 0.00010253255 | D31: 31 | F31: 77- Activitats de lloguer | G31: 279 | H31: 0.0057213165 | I31: 308 | J31: =G31-I31 -> -29 | K31: =J31/I31 -> -0.094155844 | M31: 45- Venda i reparació de vehicles de motor i motocicletes | N31: 1193 | O31: 0.024464267 | P31: 1230 | Q31: -37 | R31: -0.030081301
A32: 30- Fabricació d'altres materials de transport | B32: 5 | C32: 0.00010253255 | D32: 21 | F32: 79- Activitats de les agències de viatges, operadors turístics i altres serveis de reserves i activitats que s'hi relacionen | G32: 254 | H32: 0.0052086537 | I32: 247 | J32: =G32-I32 -> 7 | K32: =J32/I32 -> 0.028340081 | M32: 25- Fabricació de productes metàl·lics, excepte maquinària i equips | N32: 673 | O32: 0.013800882 | P32: 711 | Q32: -38 | R32: -0.053445851
A33: 31- Fabricació de mobles | B33: 150 | C33: 0.0030759766 | D33: 182 | F33: 81- Serveis a edificis i activitats de jardineria | G33: 771 | H33: 0.01581052 | I33: 769 | J33: =G33-I33 -> 2 | K33: =J33/I33 -> 0.0026007802 | M33: 71- Serveis tècnics d'arquitectura i enginyeria; assajos i anàlisis tècnics | N33: 934 | O33: 0.019153081 | P33: 973 | Q33: -39 | R33: -0.04008222
A34: 32- Indústries manufactureres diverses | B34: 99 | C34: 0.0020301446 | D34: 148 | F34: 82- Activitats administratives d'oficina i altres activitats auxiliars a les empreses | G34: 744 | H34: 0.015256844 | I34: 746 | J34: =G34-I34 -> -2 | K34: =J34/I34 -> -0.0026809651 | M34: 28- Fabricació de maquinària i equips ncaa | N34: 158 | O34: 0.0032400287 | P34: 199 | Q34: -41 | R34: -0.20603015
A35: 33- Reparació i instal·lació de maquinària i equips | B35: 460 | C35: 0.009432995 | D35: 472 | F35: 85- Educació | G35: 1410 | H35: 0.02891418 | I35: 1354 | J35: =G35-I35 -> 56 | K35: =J35/I35 -> 0.041358936 | M35: 10- Indústries de productes alimentaris | N35: 162 | O35: 0.0033220548 | P35: 208 | Q35: -46 | R35: -0.22115385
A36: 35- Subministrament d'energia elèctrica, gas, vapor i aire condicionat | B36: 0 | C36: 0 | D36: 20 | F36: 86- Activitats sanitàries | G36: 2022 | H36: 0.041464165 | I36: 1916 | J36: =G36-I36 -> 106 | K36: =J36/I36 -> 0.055323591 | M36: 62- Serveis de tecnologies de la informació | N36: 888 | O36: 0.017457634 | P36: 837 | Q36: =P36-N36 -> -51 | R36: =+Q36/P36 -> -0.0609319
A37: 36- Captació, potabilització i distribució d'aigua | B37: 0 | C37: 0 | D37: .. | F37: 90- Activitats de creació, artístiques i d'espectacles | G37: 526 | H37: 0.010786425 | I37: 522 | J37: =G37-I37 -> 4 | K37: =J37/I37 -> 0.0076628352 | M37: 85- Educació | N37: 1408 | O37: 0.027680572 | P37: 1353 | Q37: =P37-N37 -> -55 | R37: =+Q37/P37 -> -0.040650407
A38: 37- Recollida i tractament d'aigües residuals | B38: 0 | C38: 0 | D38: 10 | F38: 93- Activitats esportives, recreatives i d'entreteniment | G38: 463 | H38: 0.0094945145 | I38: 450 | J38: =G38-I38 -> 13 | K38: =J38/I38 -> 0.028888889 | M38: 95- Reparació d'ordinadors, d'efectes personals i efectes domèstics | N38: 634 | O38: 0.013001128 | P38: 690 | Q38: -56 | R38: -0.08115942
A39: 38- Activitats de recollida, tractament i eliminació de residus; activitats de valorització | B39: 0 | C39: 0 | D39: 33 | F39: 95- Reparació d'ordinadors, d'efectes personals i efectes domèstics | G39: 634 | H39: 0.013001128 | I39: 690 | J39: =G39-I39 -> -56 | K39: =J39/I39 -> -0.08115942 | M39: 96- Altres activitats de serveis personals | N39: 2941 | O39: 0.057818582 | P39: 2850 | Q39: =P39-N39 -> -91 | R39: =+Q39/P39 -> -0.031929825
A40: 39- Activitats de descontaminació i altres serveis de gestió de residus | B40: 0 | C40: 0 | D40: .. | F40: 96- Altres activitats de serveis personals | G40: 2901 | H40: 0.059489388 | I40: 2896 | J40: =G40-I40 -> 5 | K40: =J40/I40 -> 0.0017265193 | M40: 46- Comerç a l'engròs i intermediaris del comerç, excepte vehicles de motor i motocicletes | N40: 3121 | O40: 0.06400082 | P40: 3215 | Q40: -94 | R40: -0.029237947
A41: 41- Construcció d'immobles | B41: 1645 | C41: 0.03373321 | D41: 1606 | F41: Total | G41: 48765 | H41: 1 | I41: 50721 | J41: =G41-I41 -> -1956 | K41: =J41/I41 -> -0.038563908 | M41: 86- Activitats sanitàries | N41: 1991 | O41: 0.03914206 | P41: 1892 | Q41: =P41-N41 -> -99 | R41: =+Q41/P41 -> -0.052325581
A42: 42- Construcció d'obres d'enginyeria civil | B42: 176 | C42: 0.0036091459 | D42: 212 | F42: 51- Transport aeri | G42: 3121 | H42: 0.06400082 | I42: 3215 | J42: =G42-I42 -> -94 | K42: =J42/I42 -> -0.029237947 | M42: 43- Activitats especialitzades de la construcció | N42: 4996 | O42: 0.10245053 | P42: 5120 | Q42: -124 | R42: -0.02421875
A43: 43- Activitats especialitzades de la construcció | B43: 4996 | C43: 0.10245053 | D43: 5120 | F43: 5- Extracció d'antracita, hulla i lignit | G43: 4996 | H43: 0.10245053 | I43: 5120 | J43: =G43-I43 -> -124 | K43: =J43/I43 -> -0.02421875 | M43: 49- Transport terrestre; transport per canonades | N43: 5188 | O43: 0.10638778 | P43: 5337 | Q43: -149 | R43: -0.027918306
A44: 45- Venda i reparació de vehicles de motor i motocicletes | B44: 1193 | C44: 0.024464267 | D44: 1230 | F44: 53- Activitats postals i de correus | G44: 5188 | H44: 0.10638778 | I44: 5337 | J44: =G44-I44 -> -149 | K44: =J44/I44 -> -0.027918306 | M44: 47- Comerç al detall, excepte el comerç de vehicles de motor i motocicletes | N44: 6928 | O44: 0.14206911 | P44: 7138 | Q44: -210 | R44: -0.029420006
A45: 46- Comerç a l'engròs i intermediaris del comerç, excepte vehicles de motor i motocicletes | B45: 3121 | C45: 0.06400082 | D45: 3215 | F45: 52- Emmagatzematge i activitats afins al transport | G45: 6928 | H45: 0.14206911 | I45: 7138 | J45: =G45-I45 -> -210 | K45: =J45/I45 -> -0.029420006 | M45: Total | N45: 48765 | O45: 1 | P45: 50721 | Q45: -1956 | R45: -0.038563908
A46: 47- Comerç al detall, excepte el comerç de vehicles de motor i motocicletes | B46: 6928 | C46: 0.14206911 | D46: 7138 | F46: Total | G46: 48765 | H46: 1 | I46: 50721 | J46: =G46-I46 -> -1956 | K46: =J46/I46 -> -0.038563908
A47: 49- Transport terrestre; transport per canonades | B47: 5188 | C47: 0.10638778 | D47: 5337 | M47: Total | N47: 50866 | O47: 1 | P47: 50368 | Q47: =P47-N47 -> -498 | R47: =+Q47/P47 -> -0.00988723
A48: 50- Transport marítim i per vies de navegació interiors | B48: 0 | C48: 0 | D48: 5
A49: 51- Transport aeri | B49: 0 | C49: 0 | D49: 13
A50: 52- Emmagatzematge i activitats afins al transport | B50: 158 | C50: 0.0032400287 | D50: 185
A51: 53- Activitats postals i de correus | B51: 207 | C51: 0.0042448477 | D51: 231
A52: 55- Serveis d'allotjament | B52: 68 | C52: 0.0013944427 | D52: 100
A53: 56- Serveis de menjar i begudes | B53: 4471 | C53: 0.09168461 | D53: 4488
A54: 58- Edició | B54: 124 | C54: 0.0025428073 | D54: 169
A55: 59- Activitats de cinematografia, de vídeo i de programes de televisió; activitats d'enregistrament de so i edició musical | B55: 172 | C55: 0.0035271199 | D55: 200
A56: 60- Activitats d'emissió i programació de ràdio i televisió | B56: 0 | C56: 0 | D56: 13
A57: 61- Telecomunicacions | B57: 61 | C57: 0.0012508972 | D57: 91
A58: 62- Serveis de tecnologies de la informació | B58: 896 | C58: 0.018373834 | D58: 865
A59: 63- Serveis d'informació | B59: 145 | C59: 0.0029734441 | D59: 174
... A88: 96- Altres activitats de serveis personals | B88: 2901 | C88: 0.059489388 | D88: 2896
A89: 97- Activitats de les llars que donen ocupació a personal domèstic | B89: 0 | C89: 0 | D89: ..
A90: 98- Activitats de les llars que produeixen béns i serveis per a ús propi | B90: 0 | C90: 0 | D90: 0
A91: 99- Organismes extraterritorials | B91: 0 | C91: 0 | D91: ..
A92: Total | B92: 48765 | C92: =B92/$B$92 -> 1 | D92: 50721

Sheet TRETA3
A1: TORNAR A L'ÍNDEX | B1: Fet!
A3: =GRETA1!A3 -> LLOCS DE TREBALL. RÈGIM ESPECIAL TREBALLADORS AUTÒNOMS
A5: =Índex!A43 -> TRETA3 | C5: =Índex!A7 -> 4t trimestre 2022
A6: =Índex!B21 -> Dades municipals.
B8: Llocs de treball (RETA) | C8: % Baix Llobregat | D8: variació relativa (en %)
B9: Empreses | D9: 2021 | E9: 2020 | F9: 2019 | G9: 2008
A10: Abrera | B10: 625 | C10: 0.012297824 | D10: 0.016260163 | E10: 0.0080645161 | F10: -0.026479751 | G10: -0.15540541
A11: Begues | B11: 530 | C11: 0.010428555 | D11: 0.019230769 | E11: 0.070707071 | F11: -0.25770308 | G11: -0.13256956
A12: Castelldefels | B12: 4730 | C12: 0.09306993 | D12: 0.012847966 | E12: 0.033879781 | F12: -0.11207058 | G12: -0.070178887
A13: Castellví de Rosanes | B13: 130 | C13: 0.0025579473 | D13: 0 | E13: 0 | F13: -0.22619048 | G13: -0.097222222
A14: Cervelló | B14: 655 | C14: 0.012888119 | D14: -0.02238806 | E14: 0.0234375 | F14: -0.24277457 | G14: -0.17088608
A15: Collbató | B15: 290 | C15: 0.0057061902 | D15: 0 | E15: 0.054545455 | F15: -0.29951691 | G15: -0.17142857
A16: Corbera de Llobregat | B16: 980 | C16: 0.019282988 | D16: -0.015075377 | E16: -0.0050761421 | F16: -0.28414901 | G16: -0.24788949
A17: Cornellà de Llobregat | B17: 4805 | C17: 0.094545669 | D17: -0.016376663 | E17: -0.011316872 | F17: 0.13943562 | G17: 0.05743838
A18: El Papiol | B18: 380 | C18: 0.0074770769 | D18: -0.012987013 | E18: 0.027027027 | F18: 0.055555556 | G18: 0.06741573
A19: El Prat de Llobregat | B19: 3025 | C19: 0.059521467 | D19: -0.02733119 | E19: -0.011437908 | F19: 0.04889043 | G19: -0.068657635
A20: Esparreguera | B20: 1335 | C20: 0.026268152 | D20: -0.014760148 | E20: -0.018382353 | F20: 0.042154567 | G20: -0.093686354
A21: Esplugues de Llobregat | B21: 2950 | C21: 0.058045728 | D21: -0.010067114 | E21: 0.013745704 | F21: -0.045616305 | G21: -0.17827298
... A39: Viladecans | B39: 3670 | C39: 0.072212821 | D39: 0.0013642565 | E39: -0.0013605442 | F39: -0.023156774 | G39: -0.13869984
A40: BAIX LLOBREGAT | B40: =SUM(B10:B39) -> 48800 | C40: 1 | D40: -0.0074021992 | E40: 0.0060774028 | F40: -0.031112975 | G40: -0.090743192
A42: Les dades de 2022 i 2021 provenen d'Idescat, a partir dels fitxers d'afiliacions i comptes de cotització de la Tresoreria General de la Seguretat Social. Dades provisionals.
A44: Zona | B44: 2022 2T | C44: 2021 2T | D44: 2020 2T | E44: 20219 2T | F44: 2008 2T | G44: 2008-2022 | H44: 2019-2022 | I44: 2020-2022 | J44: 2021-2022 | K44: Zona Centre: Cornellà de Llobregat, Esplugues de Llobregat, Sant Joan Despí, Sant Feliu de Llobregat i Sant Just Desvern.
A45: Centre | B45: 13910 | C45: 13930 | D45: 13815 | E45: 13952 | F45: 15314 | G45: -0.091680815 | H45: -0.0030103211 | I45: 0.0068765834 | J45: -0.0014357502 | K45: Zona Delta: Begues, Castelldefels, El Prat de Llobregat, Gavà, Sant Boi de Llobregat, Sant Climent de Llobregat i Viladecans.
A46: Delta | B46: 19590 | C46: 19515 | D46: 20004 | E46: 20255 | F46: 22478 | G46: -0.12848118 | H46: -0.0328314 | I46: -0.020695861 | J46: 0.0038431975 | K46: Zona Nord: Abrera, Castellví de Rosanes, Collbató, Esparreguera, Martorell, Olesa de Montserrat, Sant Andreu de la Barca i Sant Esteve Sesrovires.
A47: Nord | B47: 7180 | C47: 7190 | D47: 6766 | E47: 6867 | F47: 7817 | G47: -0.081489062 | H47: 0.045580312 | I47: 0.061188294 | J47: -0.0013908206 | K47: Zona Vall Baixa: Cervelló, Corbera de Llobregat, El Papiol, La Palma de Cervelló, Molins de Rei, Pallejà, Sant Vicenç dels Horts, Santa Coloma de Cervelló, Torrelles de Llobregat i Vallirana.
A48: Vall Baixa | B48: 8285 | C48: 8315 | D48: 9290 | E48: 9438 | F48: 9739 | G48: -0.14929664 | H48: -0.12216571 | I48: -0.10818084 | J48: -0.0036079375
A49: Total | B49: 48965 | C49: 48950 | D49: 49875 | E49: 50512 | F49: 55348 | G49: -0.11532485 | H49: -0.030626386 | I49: -0.018245614 | J49: 0.00030643514

Sheet T7S1
A1: TORNAR A L'ÍNDEX | B1: Fet!
A3: =Índex!A45 -> ANÀLISI SEGONS 7 SECTORS PRODUCTIUS
A5: =Índex!A47 -> T7S1 | B5: =Índex!A7 -> 4t trimestre 2022
A6: =Índex!B47 -> Llocs de treball segons àmbit territorial
A7: SUMA LLOCS TREBALL (RETA+RGSS)
B8: Baix Llobregat | D8: ATM | F8: Catalunya
B9: n | C9: % | D9: n | E9: % | F9: n | G9: %
A10: AGRICULTURA | B10: 495 | C10: =B10/$B$17 -> 0.0014366774 | D10: 3000 | E10: =D10/$D$17 -> 0.0012478345 | F10: 31370 | G10: =F10/$F$17 -> 0.0089645604
A11: CONSTRUCCIÓ | B11: 25740 | C11: =B11/$B$17 -> 0.074707223 | D11: 130450 | E11: =D11/$D$17 -> 0.054260003 | F11: 220340 | G11: =F11/$F$17 -> 0.062966249
A12: COMERÇ | B12: 70725 | C12: =B12/$B$17 -> 0.20527072 | D12: 414050 | E12: =D12/$D$17 -> 0.17222196 | F12: 608455 | G12: =F12/$F$17 -> 0.17387732
A13: INDÚSTRIA | B13: 51775 | C13: =B13/$B$17 -> 0.15027065 | D13: 262450 | E13: =D13/$D$17 -> 0.10916472 | F13: 456035 | G13: =F13/$F$17 -> 0.13032048
A14: SERVEIS A LA CIUTADANIA | B14: 53855 | C14: =B14/$B$17 -> 0.15630759 | D14: 510180 | E14: =D14/$D$17 -> 0.21220673 | F14: 742900 | G14: =F14/$F$17 -> 0.21229748
A15: SERVEIS AL CONSUMIDOR | B15: 42400 | C15: =B15/$B$17 -> 0.12306085 | D15: 314500 | E15: =D15/$D$17 -> 0.13081465 | F15: 462495 | G15: =F15/$F$17 -> 0.13216654
A16: SERVEIS RELACIONATS AMB L’EMPRESA | B16: 99555 | C16: =B16/$B$17 -> 0.28894629 | D16: 769535 | E16: =D16/$D$17 -> 0.3200841 | F16: 977740 | G16: =F16/$F$17 -> 0.27940737
A17: Total | B17: =SUM(B10:B16) -> 344545 | C17: 1 | D17: =SUM(D10:D16) -> 2404165 | E17: 1 | F17: =SUM(F10:F16) -> 3499335 | G17: 1
A18: Font: OCBL, a partir de les dades d'Estadística de l'ocupació assalariada i autònoma segons afiliacions a la Seguretat Social d'IDESCAT.

Sheet G7S1
A1: TORNAR A L'ÍNDEX | B1: Fet!
A3: =Índex!A45 -> ANÀLISI SEGONS 7 SECTORS PRODUCTIUS
A5: =Índex!A48 -> G7S1 | C5: =Índex!A7 -> 4t trimestre 2022
A6: =Índex!B48 -> Variació intertrimestral llocs de treball. Baix Llobregat.
A25: Font: OCBL, a partir de les dades d'Estadística de l'ocupació assalariada i autònoma segons afiliacions a la Seguretat Social d'IDESCAT.
B27: 4T 2022 | C27: var trimestral (%) | E27: 3T 2022
A28: Agricultura | B28: 495 | C28: =+B28/E28-1 -> 0.010204082 | E28: 490
A29: Construcció | B29: 25740 | C29: =+B29/E29-1 -> 0.00546875 | E29: 25600
A30: Comerç | B30: 70725 | C30: =+B30/E30-1 -> 0.0076221684 | E30: 70190
A31: Indústria | B31: 51775 | C31: =+B31/E31-1 -> -0.0041354107 | E31: 51990
A32: Serveis a la ciutadania | B32: 53850 | C32: =+B32/E32-1 -> 0.04807318 | E32: 51380
A33: Serveis al consumidor | B33: 42400 | C33: =+B33/E33-1 -> 0.016420952 | E33: 41715
A34: Serveis relacionats amb l'empresa | B34: 99555 | C34: =+B34/E34-1 -> 0.012561025 | E34: 98320
A35: Total llocs treball | B35: =SUM(B28:B34) -> 344540 | C35: =+B35/E35-1 -> 0.014218009 | E35: 339710

Sheet T7S2
A1: TORNAR A L'ÍNDEX | B1: Fet!
A3: =Índex!A45 -> ANÀLISI SEGONS 7 SECTORS PRODUCTIUS
A5: =Índex!A49 -> T7S2 | C5: =Índex!A7 -> 4t trimestre 2022
A6: =Índex!B49 -> Llocs de treball segons municipi.
A8: Treballadors per activitats econòmiques | L8: Distribució dels llocs de treball segons sectors productius
A9: Municipi | B9: Agricultura | C9: Construcció | D9: Comerç | E9: Indústria | F9: Serveis a la ciutadania | G9: Serveis al consumidor | H9: Serveis relacionats amb l'empresa | I9: Total | L9: Municipi | M9: Agricultura | N9: Construcció | O9: Comerç | P9: Indústria | Q9: Serveis a la ciutadania | R9: Serveis al consumidor | S9: Serveis relacionats amb l'empresa
A10: Abrera | B10: 20 | C10: 477 | D10: 1041 | E10: 2749 | F10: 379 | G10: 404 | H10: 2272 | I10: 7342 | L10: Abrera | M10: =VLOOKUP($L10,$A:$I,MATCH(M$9,$A$9:$I$9,0),0)/VLOOKUP($L10,$A:$I,9,0) -> 0.0027240534 | N10: =VLOOKUP($L10,$A:$I,MATCH(N$9,$A$9:$I$9,0),0)/VLOOKUP($L10,$A:$I,9,0) -> 0.064968673 | O10: =VLOOKUP($L10,$A:$I,MATCH(O$9,$A$9:$I$9,0),0)/VLOOKUP($L10,$A:$I,9,0) -> 0.14178698 | P10: =VLOOKUP($L10,$A:$I,MATCH(P$9,$A$9:$I$9,0),0)/VLOOKUP($L10,$A:$I,9,0) -> 0.37442114 | Q10: =VLOOKUP($L10,$A:$I,MATCH(Q$9,$A$9:$I$9,0),0)/VLOOKUP($L10,$A:$I,9,0) -> 0.051620812 | R10: =VLOOKUP($L10,$A:$I,MATCH(R$9,$A$9:$I$9,0),0)/VLOOKUP($L10,$A:$I,9,0) -> 0.055025879 | S10: =VLOOKUP($L10,$A:$I,MATCH(S$9,$A$9:$I$9,0),0)/VLOOKUP($L10,$A:$I,9,0) -> 0.30945247
A11: Begues | B11: 27 | C11: 178 | D11: 269 | E11: 240 | F11: 257 | G11: 255 | H11: 412 | I11: 1638 | L11: Begues | M11: =VLOOKUP($L11,$A:$I,MATCH(M$9,$A$9:$I$9,0),0)/VLOOKUP($L11,$A:$I,9,0) -> 0.016483516 | N11: =VLOOKUP($L11,$A:$I,MATCH(N$9,$A$9:$I$9,0),0)/VLOOKUP($L11,$A:$I,9,0) -> 0.10866911 | O11: =VLOOKUP($L11,$A:$I,MATCH(O$9,$A$9:$I$9,0),0)/VLOOKUP($L11,$A:$I,9,0) -> 0.16422466 | P11: =VLOOKUP($L11,$A:$I,MATCH(P$9,$A$9:$I$9,0),0)/VLOOKUP($L11,$A:$I,9,0) -> 0.14652015 | Q11: =VLOOKUP($L11,$A:$I,MATCH(Q$9,$A$9:$I$9,0),0)/VLOOKUP($L11,$A:$I,9,0) -> 0.15689866 | R11: =VLOOKUP($L11,$A:$I,MATCH(R$9,$A$9:$I$9,0),0)/VLOOKUP($L11,$A:$I,9,0) -> 0.15567766 | S11: =VLOOKUP($L11,$A:$I,MATCH(S$9,$A$9:$I$9,0),0)/VLOOKUP($L11,$A:$I,9,0) -> 0.25152625
A12: Castelldefels | B12: 20 | C12: 1329 | D12: 3255 | E12: 1039 | F12: 2719 | G12: 4457 | H12: 4990 | I12: 17809 | L12: Castelldefels | M12: =VLOOKUP($L12,$A:$I,MATCH(M$9,$A$9:$I$9,0),0)/VLOOKUP($L12,$A:$I,9,0) -> 0.0011230277 | N12: =VLOOKUP($L12,$A:$I,MATCH(N$9,$A$9:$I$9,0),0)/VLOOKUP($L12,$A:$I,9,0) -> 0.07462519 | O12: =VLOOKUP($L12,$A:$I,MATCH(O$9,$A$9:$I$9,0),0)/VLOOKUP($L12,$A:$I,9,0) -> 0.18277276 | P12: =VLOOKUP($L12,$A:$I,MATCH(P$9,$A$9:$I$9,0),0)/VLOOKUP($L12,$A:$I,9,0) -> 0.058341288 | Q12: =VLOOKUP($L12,$A:$I,MATCH(Q$9,$A$9:$I$9,0),0)/VLOOKUP($L12,$A:$I,9,0) -> 0.15267561 | R12: =VLOOKUP($L12,$A:$I,MATCH(R$9,$A$9:$I$9,0),0)/VLOOKUP($L12,$A:$I,9,0) -> 0.25026672 | S12: =VLOOKUP($L12,$A:$I,MATCH(S$9,$A$9:$I$9,0),0)/VLOOKUP($L12,$A:$I,9,0) -> 0.28019541
A13: Castellví de Rosanes | B13: 5 | C13: 70 | D13: 176 | E13: 339 | F13: 175 | G13: 57 | H13: 602 | I13: 1424 | L13: Castellví de Rosanes | M13: =VLOOKUP($L13,$A:$I,MATCH(M$9,$A$9:$I$9,0),0)/VLOOKUP($L13,$A:$I,9,0) -> 0.003511236 | N13: =VLOOKUP($L13,$A:$I,MATCH(N$9,$A$9:$I$9,0),0)/VLOOKUP($L13,$A:$I,9,0) -> 0.049157303 | O13: =VLOOKUP($L13,$A:$I,MATCH(O$9,$A$9:$I$9,0),0)/VLOOKUP($L13,$A:$I,9,0) -> 0.12359551 | P13: =VLOOKUP($L13,$A:$I,MATCH(P$9,$A$9:$I$9,0),0)/VLOOKUP($L13,$A:$I,9,0) -> 0.2380618 | Q13: =VLOOKUP($L13,$A:$I,MATCH(Q$9,$A$9:$I$9,0),0)/VLOOKUP($L13,$A:$I,9,0) -> 0.12289326 | R13: =VLOOKUP($L13,$A:$I,MATCH(R$9,$A$9:$I$9,0),0)/VLOOKUP($L13,$A:$I,9,0) -> 0.04002809 | S13: =VLOOKUP($L13,$A:$I,MATCH(S$9,$A$9:$I$9,0),0)/VLOOKUP($L13,$A:$I,9,0) -> 0.42275281
A14: Cervelló | B14: 5 | C14: 266 | D14: 626 | E14: 882 | F14: 368 | G14: 478 | H14: 702 | I14: 3327 | L14: Cervelló | M14: =VLOOKUP($L14,$A:$I,MATCH(M$9,$A$9:$I$9,0),0)/VLOOKUP($L14,$A:$I,9,0) -> 0.0015028554 | N14: =VLOOKUP($L14,$A:$I,MATCH(N$9,$A$9:$I$9,0),0)/VLOOKUP($L14,$A:$I,9,0) -> 0.079951909 | O14: =VLOOKUP($L14,$A:$I,MATCH(O$9,$A$9:$I$9,0),0)/VLOOKUP($L14,$A:$I,9,0) -> 0.1881575 | P14: =VLOOKUP($L14,$A:$I,MATCH(P$9,$A$9:$I$9,0),0)/VLOOKUP($L14,$A:$I,9,0) -> 0.2651037 | Q14: =VLOOKUP($L14,$A:$I,MATCH(Q$9,$A$9:$I$9,0),0)/VLOOKUP($L14,$A:$I,9,0) -> 0.11061016 | R14: =VLOOKUP($L14,$A:$I,MATCH(R$9,$A$9:$I$9,0),0)/VLOOKUP($L14,$A:$I,9,0) -> 0.14367298 | S14: =VLOOKUP($L14,$A:$I,MATCH(S$9,$A$9:$I$9,0),0)/VLOOKUP($L14,$A:$I,9,0) -> 0.2110009
A15: Collbató | B15: 10 | C15: 142 | D15: 187 | E15: 188 | F15: 169 | G15: 164 | H15: 272 | I15: 1132 | L15: Collbató | M15: =VLOOKUP($L15,$A:$I,MATCH(M$9,$A$9:$I$9,0),0)/VLOOKUP($L15,$A:$I,9,0) -> 0.0088339223 | N15: =VLOOKUP($L15,$A:$I,MATCH(N$9,$A$9:$I$9,0),0)/VLOOKUP($L15,$A:$I,9,0) -> 0.1254417 | O15: =VLOOKUP($L15,$A:$I,MATCH(O$9,$A$9:$I$9,0),0)/VLOOKUP($L15,$A:$I,9,0) -> 0.16519435 | P15: =VLOOKUP($L15,$A:$I,MATCH(P$9,$A$9:$I$9,0),0)/VLOOKUP($L15,$A:$I,9,0) -> 0.16607774 | Q15: =VLOOKUP($L15,$A:$I,MATCH(Q$9,$A$9:$I$9,0),0)/VLOOKUP($L15,$A:$I,9,0) -> 0.14929329 | R15: =VLOOKUP($L15,$A:$I,MATCH(R$9,$A$9:$I$9,0),0)/VLOOKUP($L15,$A:$I,9,0) -> 0.14487633 | S15: =VLOOKUP($L15,$A:$I,MATCH(S$9,$A$9:$I$9,0),0)/VLOOKUP($L15,$A:$I,9,0) -> 0.24028269
A16: Corbera de Llobregat | B16: 20 | C16: 330 | D16: 441 | E16: 421 | F16: 540 | G16: 399 | H16: 735 | I16: 2886 | L16: Corbera de Llobregat | M16: =VLOOKUP($L16,$A:$I,MATCH(M$9,$A$9:$I$9,0),0)/VLOOKUP($L16,$A:$I,9,0) -> 0.0069300069 | N16: =VLOOKUP($L16,$A:$I,MATCH(N$9,$A$9:$I$9,0),0)/VLOOKUP($L16,$A:$I,9,0) -> 0.11434511 | O16: =VLOOKUP($L16,$A:$I,MATCH(O$9,$A$9:$I$9,0),0)/VLOOKUP($L16,$A:$I,9,0) -> 0.15280665 | P16: =VLOOKUP($L16,$A:$I,MATCH(P$9,$A$9:$I$9,0),0)/VLOOKUP($L16,$A:$I,9,0) -> 0.14587665 | Q16: =VLOOKUP($L16,$A:$I,MATCH(Q$9,$A$9:$I$9,0),0)/VLOOKUP($L16,$A:$I,9,0) -> 0.18711019 | R16: =VLOOKUP($L16,$A:$I,MATCH(R$9,$A$9:$I$9,0),0)/VLOOKUP($L16,$A:$I,9,0) -> 0.13825364 | S16: =VLOOKUP($L16,$A:$I,MATCH(S$9,$A$9:$I$9,0),0)/VLOOKUP($L16,$A:$I,9,0) -> 0.25467775
A17: Cornellà de Llobregat | B17: 37 | C17: 5418 | D17: 9541 | E17: 5616 | F17: 3153 | G17: 5786 | H17: 16838 | I17: 46389 | L17: Cornellà de Llobregat | M17: =VLOOKUP($L17,$A:$I,MATCH(M$9,$A$9:$I$9,0),0)/VLOOKUP($L17,$A:$I,9,0) -> 0.00079760288 | N17: =VLOOKUP($L17,$A:$I,MATCH(N$9,$A$9:$I$9,0),0)/VLOOKUP($L17,$A:$I,9,0) -> 0.11679493 | O17: =VLOOKUP($L17,$A:$I,MATCH(O$9,$A$9:$I$9,0),0)/VLOOKUP($L17,$A:$I,9,0) -> 0.20567376 | P17: =VLOOKUP($L17,$A:$I,MATCH(P$9,$A$9:$I$9,0),0)/VLOOKUP($L17,$A:$I,9,0) -> 0.12106318 | Q17: =VLOOKUP($L17,$A:$I,MATCH(Q$9,$A$9:$I$9,0),0)/VLOOKUP($L17,$A:$I,9,0) -> 0.067968699 | R17: =VLOOKUP($L17,$A:$I,MATCH(R$9,$A$9:$I$9,0),0)/VLOOKUP($L17,$A:$I,9,0) -> 0.12472784 | S17: =VLOOKUP($L17,$A:$I,MATCH(S$9,$A$9:$I$9,0),0)/VLOOKUP($L17,$A:$I,9,0) -> 0.36297398
A18: El Papiol | B18: 30 | C18: 204 | D18: 617 | E18: 782 | F18: 105 | G18: 218 | H18: 548 | I18: 2504 | L18: Esparreguera | M18: =VLOOKUP($L18,$A:$I,MATCH(M$9,$A$9:$I$9,0),0)/VLOOKUP($L18,$A:$I,9,0) -> 0.0014522219 | N18: =VLOOKUP($L18,$A:$I,MATCH(N$9,$A$9:$I$9,0),0)/VLOOKUP($L18,$A:$I,9,0) -> 0.062445542 | O18: =VLOOKUP($L18,$A:$I,MATCH(O$9,$A$9:$I$9,0),0)/VLOOKUP($L18,$A:$I,9,0) -> 0.19997096 | P18: =VLOOKUP($L18,$A:$I,MATCH(P$9,$A$9:$I$9,0),0)/VLOOKUP($L18,$A:$I,9,0) -> 0.23177462 | Q18: =VLOOKUP($L18,$A:$I,MATCH(Q$9,$A$9:$I$9,0),0)/VLOOKUP($L18,$A:$I,9,0) -> 0.18080163 | R18: =VLOOKUP($L18,$A:$I,MATCH(R$9,$A$9:$I$9,0),0)/VLOOKUP($L18,$A:$I,9,0) -> 0.086407203 | S18: =VLOOKUP($L18,$A:$I,MATCH(S$9,$A$9:$I$9,0),0)/VLOOKUP($L18,$A:$I,9,0) -> 0.23714784
A19: El Prat de Llobregat | B19: 33 | C19: 1642 | D19: 14284 | E19: 3975 | F19: 6355 | G19: 3317 | H19: 27179 | I19: 56785 | L19: Esplugues de Llobregat | M19: =VLOOKUP($L19,$A:$I,MATCH(M$9,$A$9:$I$9,0),0)/VLOOKUP($L19,$A:$I,9,0) -> 0.00049006504 | N19: =VLOOKUP($L19,$A:$I,MATCH(N$9,$A$9:$I$9,0),0)/VLOOKUP($L19,$A:$I,9,0) -> 0.038492382 | O19: =VLOOKUP($L19,$A:$I,MATCH(O$9,$A$9:$I$9,0),0)/VLOOKUP($L19,$A:$I,9,0) -> 0.20083757 | P19: =VLOOKUP($L19,$A:$I,MATCH(P$9,$A$9:$I$9,0),0)/VLOOKUP($L19,$A:$I,9,0) -> 0.15704357 | Q19: =VLOOKUP($L19,$A:$I,MATCH(Q$9,$A$9:$I$9,0),0)/VLOOKUP($L19,$A:$I,9,0) -> 0.16435 | R19: =VLOOKUP($L19,$A:$I,MATCH(R$9,$A$9:$I$9,0),0)/VLOOKUP($L19,$A:$I,9,0) -> 0.17606701 | S19: =VLOOKUP($L19,$A:$I,MATCH(S$9,$A$9:$I$9,0),0)/VLOOKUP($L19,$A:$I,9,0) -> 0.26271942
A20: Esparreguera | B20: 10 | C20: 430 | D20: 1377 | E20: 1596 | F20: 1245 | G20: 595 | H20: 1633 | I20: 6886 | L20: Gavà | M20: =VLOOKUP($L20,$A:$I,MATCH(M$9,$A$9:$I$9,0),0)/VLOOKUP($L20,$A:$I,9,0) -> 0.0026122652 | N20: =VLOOKUP($L20,$A:$I,MATCH(N$9,$A$9:$I$9,0),0)/VLOOKUP($L20,$A:$I,9,0) -> 0.087075507 | O20: =VLOOKUP($L20,$A:$I,MATCH(O$9,$A$9:$I$9,0),0)/VLOOKUP($L20,$A:$I,9,0) -> 0.23473069 | P20: =VLOOKUP($L20,$A:$I,MATCH(P$9,$A$9:$I$9,0),0)/VLOOKUP($L20,$A:$I,9,0) -> 0.16730937 | Q20: =VLOOKUP($L20,$A:$I,MATCH(Q$9,$A$9:$I$9,0),0)/VLOOKUP($L20,$A:$I,9,0) -> 0.12576191 | R20: =VLOOKUP($L20,$A:$I,MATCH(R$9,$A$9:$I$9,0),0)/VLOOKUP($L20,$A:$I,9,0) -> 0.12582411 | S20: =VLOOKUP($L20,$A:$I,MATCH(S$9,$A$9:$I$9,0),0)/VLOOKUP($L20,$A:$I,9,0) -> 0.25668615
A21: Esplugues de Llobregat | B21: 11 | C21: 864 | D21: 4508 | E21: 3525 | F21: 3689 | G21: 3952 | H21: 5897 | I21: 22446 | L21: Martorell | M21: =VLOOKUP($L21,$A:$I,MATCH(M$9,$A$9:$I$9,0),0)/VLOOKUP($L21,$A:$I,9,0) -> 0.0022404136 | N21: =VLOOKUP($L21,$A:$I,MATCH(N$9,$A$9:$I$9,0),0)/VLOOKUP($L21,$A:$I,9,0) -> 0.062128393 | O21: =VLOOKUP($L21,$A:$I,MATCH(O$9,$A$9:$I$9,0),0)/VLOOKUP($L21,$A:$I,9,0) -> 0.10521327 | P21: =VLOOKUP($L21,$A:$I,MATCH(P$9,$A$9:$I$9,0),0)/VLOOKUP($L21,$A:$I,9,0) -> 0.27462301 | Q21: =VLOOKUP($L21,$A:$I,MATCH(Q$9,$A$9:$I$9,0),0)/VLOOKUP($L21,$A:$I,9,0) -> 0.20129255 | R21: =VLOOKUP($L21,$A:$I,MATCH(R$9,$A$9:$I$9,0),0)/VLOOKUP($L21,$A:$I,9,0) -> 0.086859112 | S21: =VLOOKUP($L21,$A:$I,MATCH(S$9,$A$9:$I$9,0),0)/VLOOKUP($L21,$A:$I,9,0) -> 0.26764326
... A40: Baix Llobregat | B40: 657 | C40: 26109 | D40: 71213 | E40: 54167 | F40: 54227 | G40: 43706 | H40: 102548 | I40: 352627 | L40: BAIX LLOBREGAT | M40: =VLOOKUP($L40,$A:$I,MATCH(M$9,$A$9:$I$9,0),0)/VLOOKUP($L40,$A:$I,9,0) -> 0.0018631585 | N40: =VLOOKUP($L40,$A:$I,MATCH(N$9,$A$9:$I$9,0),0)/VLOOKUP($L40,$A:$I,9,0) -> 0.074041409 | O40: =VLOOKUP($L40,$A:$I,MATCH(O$9,$A$9:$I$9,0),0)/VLOOKUP($L40,$A:$I,9,0) -> 0.20194994 | P40: =VLOOKUP($L40,$A:$I,MATCH(P$9,$A$9:$I$9,0),0)/VLOOKUP($L40,$A:$I,9,0) -> 0.15360991 | Q40: =VLOOKUP($L40,$A:$I,MATCH(Q$9,$A$9:$I$9,0),0)/VLOOKUP($L40,$A:$I,9,0) -> 0.15378006 | R40: =VLOOKUP($L40,$A:$I,MATCH(R$9,$A$9:$I$9,0),0)/VLOOKUP($L40,$A:$I,9,0) -> 0.123944 | S40: =VLOOKUP($L40,$A:$I,MATCH(S$9,$A$9:$I$9,0),0)/VLOOKUP($L40,$A:$I,9,0) -> 0.29081154
A41: Font: OCBL, a partir dels registres mensuals de treballadors en alta darrer dia del mes de l'INSS | L41: Font: OCBL, a partir dels registres mensuals de treballadors en alta darrer dia del mes de l'INSS
A45: Zona | B45: Agricultura | C45: Construcció | D45: Comerç | E45: Indústria | F45: Serveis a la ciutadania | G45: Serveis al consumidor | H45: Serveis relacionats amb l'empresa | I45: Total | L45: Zona | M45: Agricultura | N45: Construcció | O45: Comerç | P45: Indústria | Q45: Serveis a la ciutadania | R45: Serveis al consumidor | S45: Serveis relacionats amb l'empresa
A46: Centre | B46: =+B17+B21+B32+B33+B34 -> 107 | C46: =+C17+C21+C32+C33+C34 -> 9094 | D46: =+D17+D21+D32+D33+D34 -> 23599 | E46: =+E17+E21+E32+E33+E34 -> 15540 | F46: =+F17+F21+F32+F33+F34 -> 18363 | G46: =+G17+G21+G32+G33+G34 -> 19133 | H46: =+H17+H21+H32+H33+H34 -> 33941 | I46: =+I17+I21+I32+I33+I34 -> 119777 | L46: Centre | M46: =+B46/$I46 -> 0.00089332677 | N46: =+C46/$I46 -> 0.075924426 | O46: =+D46/$I46 -> 0.19702447 | P46: =+E46/$I46 -> 0.1297411 | Q46: =+F46/$I46 -> 0.1533099 | R46: =+G46/$I46 -> 0.15973851 | S46: =+H46/$I46 -> 0.28336826
A47: Delta | B47: =+B11+B12+B22+B19+B30+B39+B29 -> 275 | C47: =+C11+C12+C22+C19+C30+C39+C29 -> 9797 | D47: =+D11+D12+D22+D19+D30+D39+D29 -> 32309 | E47: =+E11+E12+E22+E19+E30+E39+E29 -> 14671 | F47: =+F11+F12+F22+F19+F30+F39+F29 -> 21336 | G47: =+G11+G12+G22+G19+G30+G39+G29 -> 16045 | H47: =+H11+H12+H22+H19+H30+H39+H29 -> 47785 | I47: =+I11+I12+I22+I19+I30+I39+I29 -> 142218 | L47: Delta | M47: =+B47/$I47 -> 0.0019336512 | N47: =+C47/$I47 -> 0.068887201 | O47: =+D47/$I47 -> 0.2271794 | P47: =+E47/$I47 -> 0.10315853 | Q47: =+F47/$I47 -> 0.1500232 | R47: =+G47/$I47 -> 0.11281976 | S47: =+H47/$I47 -> 0.33599826
A48: Nord | B48: =+B10+B13+B15+B20+B24+B26+B28+B31 -> 120 | C48: =+C10+C13+C15+C20+C24+C26+C28+C31 -> 3522 | D48: =+D10+D13+D15+D20+D24+D26+D28+D31 -> 7390 | E48: =+E10+E13+E15+E20+E24+E26+E28+E31 -> 15949 | F48: =+F10+F13+F15+F20+F24+F26+F28+F31 -> 9580 | G48: =+G10+G13+G15+G20+G24+G26+G28+G31 -> 3905 | H48: =+H10+H13+H15+H20+H24+H26+H28+H31 -> 12119 | I48: =+I10+I13+I15+I20+I24+I26+I28+I31 -> 52585 | L48: Nord | M48: =+B48/$I48 -> 0.0022820196 | N48: =+C48/$I48 -> 0.066977275 | O48: =+D48/$I48 -> 0.14053437 | P48: =+E48/$I48 -> 0.30329942 | Q48: =+F48/$I48 -> 0.18218123 | R48: =+G48/$I48 -> 0.074260721 | S48: =+H48/$I48 -> 0.23046496
A49: Vall Baixa | B49: =+B14+B16+B25+B27+B23+B18+B35+B36+B37+B38 -> 155 | C49: =+C14+C16+C25+C27+C23+C18+C35+C36+C37+C38 -> 3696 | D49: =+D14+D16+D25+D27+D23+D18+D35+D36+D37+D38 -> 7915 | E49: =+E14+E16+E25+E27+E23+E18+E35+E36+E37+E38 -> 8007 | F49: =+F14+F16+F25+F27+F23+F18+F35+F36+F37+F38 -> 4948 | G49: =+G14+G16+G25+G27+G23+G18+G35+G36+G37+G38 -> 4623 | H49: =+H14+H16+H25+H27+H23+H18+H35+H36+H37+H38 -> 8703 | I49: =+I14+I16+I25+I27+I23+I18+I35+I36+I37+I38 -> 38047 | L49: Vall Baixa | M49: =+B49/$I49 -> 0.0040739086 | N49: =+C49/$I49 -> 0.097143007 | O49: =+D49/$I49 -> 0.20803217 | P49: =+E49/$I49 -> 0.21045023 | Q49: =+F49/$I49 -> 0.13004968 | R49: =+G49/$I49 -> 0.12150761 | S49: =+H49/$I49 -> 0.2287434
A50: Total | B50: =+SUM(B46:B49) -> 657 | C50: =+SUM(C46:C49) -> 26109 | D50: =+SUM(D46:D49) -> 71213 | E50: =+SUM(E46:E49) -> 54167 | F50: =+SUM(F46:F49) -> 54227 | G50: =+SUM(G46:G49) -> 43706 | H50: =+SUM(H46:H49) -> 102548 | I50: =+SUM(I46:I49) -> 352627 | L50: Total | M50: =+B50/$I50 -> 0.0018631585 | N50: =+C50/$I50 -> 0.074041409 | O50: =+D50/$I50 -> 0.20194994 | P50: =+E50/$I50 -> 0.15360991 | Q50: =+F50/$I50 -> 0.15378006 | R50: =+G50/$I50 -> 0.123944 | S50: =+H50/$I50 -> 0.29081154
A51: Font: OCBL, a partir dels registres mensuals de treballadors en alta darrer dia del mes de l'INSS | L51: Font: OCBL, a partir dels registres mensuals de treballadors en alta darrer dia del mes de l'INSS
G54: Distribució dels llocs de treball segons sectors productius. Baix Llobregat.
G82: Font: OCBL, a partir dels registres mensuals de treballadors en alta darrer dia del mes de l'INSS

Sheet G7S2
A1: TORNAR A L'ÍNDEX | C1: Fet! | I1: BAIX LLOBREGAT
J2: Dones | K2: Homes | L2: Diferencial (D-H/D)%
A3: =Índex!A45 -> ANÀLISI SEGONS 7 SECTORS PRODUCTIUS | I3: AGRICULTURA | J3: 0.27549467 | K3: 0.72450533 | L3: =(J3-K3)/K3 -> -0.6197479
I4: CONSTRUCCIÓ | J4: 0.12286951 | K4: 0.87713049 | L4: =(J4-K4)/K4 -> -0.85991878
A5: =Índex!A50 -> G7S2 | C5: =Índex!A7 -> 4t trimestre 2022 | I5: COMERÇ | J5: 0.46634744 | K5: 0.53365256 | L5: =(J5-K5)/K5 -> -0.12612162
A6: =Índex!B50 -> Llocs de treball segons sexe. | I6: INDÚSTRIA | J6: 0.32405339 | K6: 0.67594661 | L6: =(J6-K6)/K6 -> -0.52059322
I7: SERVEIS A LA CIUTADANIA | J7: 0.7043908 | K7: 0.2956092 | L7: =(J7-K7)/K7 -> 1.3828447
A8: % dones segons sectors productius i àmbits territorials. | I8: SERVEIS AL CONSUMIDOR | J8: 0.51972269 | K8: 0.48027731 | L8: =(J8-K8)/K8 -> 0.082130437
B9: Baix Llobregat | C9: AMB | D9: Catalunya | I9: SERVEIS RELACIONATS AMB L’EMPRESA | J9: 0.40115848 | K9: 0.59884152 | L9: =(J9-K9)/K9 -> -0.3301091
A10: Agricultura | B10: 0.27549467 | C10: 0.27860697 | D10: 0.26225058 | I10: Total | J10: 0.44296665 | K10: 0.55703335 | L10: =(J10-K10)/K10 -> -0.20477536
A11: Construcció | B11: 0.12286951 | C11: 0.14580901 | D11: 0.13890924 | I11: AMB
A12: Comerç | B12: 0.46634744 | C12: 0.49875238 | D12: 0.49289481 | J12: Dones | K12: Homes | L12: Diferencial (D-H/D)%
A13: Indústria | B13: 0.32405339 | C13: 0.33066276 | D13: 0.32392234 | I13: AGRICULTURA | J13: 0.27860697 | K13: 0.72139303 | L13: =(J13-K13)/K13 -> -0.6137931
A14: Serveis a la ciutadania | B14: 0.7043908 | C14: 0.67108691 | D14: 0.67413634 | I14: CONSTRUCCIÓ | J14: 0.14580901 | K14: 0.85419099 | L14: =(J14-K14)/K14 -> -0.82930163
A15: Serveis al consumidor | B15: 0.51972269 | C15: 0.48983743 | D15: 0.50933655 | I15: COMERÇ | J15: 0.49875238 | K15: 0.50124762 | L15: =(J15-K15)/K15 -> -0.004978042
A16: Serveis relacionats a l'empresa | B16: 0.40115848 | C16: 0.44368845 | D16: 0.43828256 | I16: INDÚSTRIA | J16: 0.33066276 | K16: 0.66933724 | L16: =(J16-K16)/K16 -> -0.50598481
A17: Total | B17: 0.44296665 | C17: 0.48565338 | D17: 0.46990282 | I17: SERVEIS A LA CIUTADANIA | J17: 0.67108691 | K17: 0.32891309 | L17: =(J17-K17)/K17 -> 1.0403169
A18: Font: OCBL, a partir dels registres mensuals de treballadors en alta darrer dia del mes de l'INSS. | I18: SERVEIS AL CONSUMIDOR | J18: 0.48983743 | K18: 0.51016257 | L18: =(J18-K18)/K18 -> -0.039840511
A19: *Als registres amb secret estadístic (menys de 5 individus) se'ls hi ha assignat un 5. | I19: SERVEIS RELACIONATS AMB L’EMPRESA | J19: 0.44368845 | K19: 0.55631155 | L19: =(J19-K19)/K19 -> -0.20244609
I20: Total | J20: 0.48565338 | K20: 0.51434662 | L20: =(J20-K20)/K20 -> -0.055785798
A21: Llocs de treball segons sexe i sectors productius.
I22: CATALUNYA
J23: Dones | K23: Homes | L23: Diferencial (D-H/D)%
I24: AGRICULTURA | J24: 0.26225058 | K24: 0.73774942 | L24: =(J24-K24)/K24 -> -0.64452622
I25: CONSTRUCCIÓ | J25: 0.13890924 | K25: 0.86109076 | L25: =(J25-K25)/K25 -> -0.83868223
I26: COMERÇ | J26: 0.49289481 | K26: 0.50710519 | L26: =(J26-K26)/K26 -> -0.028022538
I27: INDÚSTRIA | J27: 0.32392234 | K27: 0.67607766 | L27: =(J27-K27)/K27 -> -0.52087999
I28: SERVEIS A LA CIUTADANIA | J28: 0.67413634 | K28: 0.32586366 | L28: =(J28-K28)/K28 -> 1.0687681
I29: SERVEIS AL CONSUMIDOR | J29: 0.50933655 | K29: 0.49066345 | L29: =(J29-K29)/K29 -> 0.038056822
I30: SERVEIS RELACIONATS AMB L’EMPRESA | J30: 0.43828256 | K30: 0.56171744 | L30: =(J30-K30)/K30 -> -0.21974552
I31: Total | J31: 0.46990282 | K31: 0.53009718 | L31: =(J31-K31)/K31 -> -0.11355345
A44: Font: OCBL, a partir dels registres mensuals de treballadors en alta darrer dia del mes de l'INSS.

Sheet T7S3
A1: TORNAR A L'ÍNDEX | B1: Fet!
A3: =Índex!A45 -> ANÀLISI SEGONS 7 SECTORS PRODUCTIUS
A5: =Índex!A51 -> T7S3 | C5: =Índex!A7 -> 4t trimestre 2022
A6: =Índex!B51 -> Diferencial segons sexe de les activitats econòmiques.
B8: % | C8: Absolut
A9: Agricultura | B9: -0.6197479 | C9: -295
A10: Construcció | B10: -0.85991878 | C10: -19693
A11: Comerç | B11: -0.12612162 | C11: -4793
A12: Indústria | B12: -0.52059322 | C12: -19061
A13: Serveis a la ciutadania | B13: 1.3828447 | C13: 22167
A14: Serveis al consumidor | B14: 0.082130437 | C14: 1724
A15: Serveis relacionats a l'empresa | B15: -0.3301091 | C15: -20272
A16: Font: OCBL, a partir dels registres mensuals de treballadors en alta darrer dia del mes de l'INSS.

Sheet TTC1
A1: TORNAR A L'ÍNDEX
A3: =Índex!A53 -> ÚS DE TECNOLOGIA i CONEIXEMENT
A5: =Índex!A55 -> TTC1 | C5: =Índex!A7 -> 4t trimestre 2022
A6: =Índex!B55 -> Llocs de treball segons ús de tecnologia i coneixement. Baix Llobregat i àmbits territorials.
B9: INDÚSTRIA | C9: SERVEIS
B10: Activitats de tecnologia alta i mitjana-alta | C10: Activitats basades en el coneixement
A11: Baix Llobregat | B11: 0.374 | C11: 0.412
A12: Àmbit Territorial Metropolità | B12: 0.412 | C12: 0.506
A13: Catalunya | B13: 0.324 | C13: 0.491
A14: Font: OCBL, a partir dels registres mensuals de treballadors en alta darrer dia del mes de l'INSS.
A19: % llocs de treball d'activitats d'indústria de tecnologia alta i mitjana alta i de serveis basades en el coneixement.
A34: Font: OCBL, a partir dels registres mensuals de treballadors en alta darrer dia del mes de l'INSS.

Sheet TTC2
A1: TORNAR A L'ÍNDEX | B1: Fet!
A3: =Índex!A53 -> ÚS DE TECNOLOGIA i CONEIXEMENT
A5: =Índex!A56 -> TTC2 | C5: =Índex!A7 -> 4t trimestre 2022
A6: =Índex!B56 -> Llocs de treball segons ús de tecnologia i coneixement. Dades municipals.
B8: INDÚSTRIA | C8: SERVEIS
B9: Activitats de tecnologia alta i mitjana-alta | C9: Activitats basades en el coneixement
A10: Abrera | B10: 0.58272595 | C10: 0.29186132
A11: Begues | B11: 0.12448133 | C11: 0.45854484
A12: Castelldefels | B12: 0.37240829 | C12: 0.39997363
A13: Castellví de Rosanes | B13: 0.24068768 | C13: 0.645
A14: Cervelló | B14: 0.58789954 | C14: 0.41272052
A15: Collbató | B15: 0.21782178 | C15: 0.46915167
A16: Corbera de Llobregat | B16: 0.59158416 | C16: 0.47156398
A17: Cornellà de Llobregat | B17: 0.39690722 | C17: 0.40282736
A18: El Papiol | B18: 0.30558859 | C18: 0.1886121
A19: El Prat de Llobregat | B19: 0.26171875 | C19: 0.38218413
A20: Esparreguera | B20: 0.32719715 | C20: 0.41294067
A21: Esplugues de Llobregat | B21: 0.24192635 | C21: 0.45464626
... A39: Viladecans | B39: 0.25413061 | C39: 0.2945816
A40: Font: OCBL, a partir dels registres mensuals de treballadors en alta darrer dia del mes de l'INSS.

Sheet Instamaps dones
A1: Codi_INE | B1: Municipi | C1: Agricultura | D1: Construcció | E1: Comerç | F1: Indústria | G1: Serveis a la ciutadania | H1: Serveis al consumidor | I1: Serveis relacionats amb empresa | J1: Total_Dones | L1: Fet!
A2: =[4]Empreses!A4 -> 08001 | B2: =[4]Empreses!B4 -> Abrera | C2: 0.3125 | D2: 0.15698925 | E2: 0.35707845 | F2: 0.2276511 | G2: 0.69553806 | H2: 0.58009709 | I2: 0.25573034 | J2: 0.27695111
A3: =[4]Empreses!A5 -> 08020 | B3: =[4]Empreses!B5 -> Begues | C3: 0.3125 | D3: 0.13812155 | E3: 0.4738806 | F3: 0.37339056 | G3: 0.62204724 | H3: 0.53571429 | I3: 0.41404358 | J3: 0.47560976
A4: =[4]Empreses!A6 -> 08056 | B4: =[4]Empreses!B6 -> Castelldefels | C4: 0.4 | D4: 0.14675516 | E4: 0.47570657 | F4: 0.23535354 | G4: 0.70886551 | H4: 0.51967494 | I4: 0.41138716 | J4: 0.4782711
A5: =[4]Empreses!A7 -> 08066 | B5: =[4]Empreses!B7 -> Castellví de Rosanes | C5: 0 | D5: 0.26153846 | E5: 0.40782123 | F5: 0.38244514 | G5: 0.69736842 | H5: 0.43076923 | I5: 0.2472119 | J5: 0.3585086
A6: =[4]Empreses!A8 -> 08068 | B6: =[4]Empreses!B8 -> Cervelló | C6: 0.5 | D6: 0.11522634 | E6: 0.31756757 | F6: 0.432703 | G6: 0.71052632 | H6: 0.65753425 | I6: 0.3379694 | J6: 0.43682796
A7: =[4]Empreses!A9 -> 08069 | B7: =[4]Empreses!B9 -> Collbató | C7: 0.25 | D7: 0.14285714 | E7: 0.49180328 | F7: 0.34078212 | G7: 0.64670659 | H7: 0.57627119 | I7: 0.41481481 | J7: 0.45985401
A8: =[4]Empreses!A10 -> 08072 | B8: =[4]Empreses!B10 -> Corbera de Llobregat | C8: 0.25 | D8: 0.10826211 | E8: 0.45111111 | F8: 0.470726 | G8: 0.72924188 | H8: 0.62523901 | I8: 0.35538262 | J8: 0.53254024
A9: =[4]Empreses!A11 -> 08073 | B9: =[4]Empreses!B11 -> Cornellà de Llobregat | C9: 0.23255814 | D9: 0.12028725 | E9: 0.4398193 | F9: 0.26254826 | G9: 0.71256765 | H9: 0.60129112 | I9: 0.4106914 | J9: 0.39583178
A10: =[4]Empreses!A12 -> 08158 | B10: =[4]Empreses!B12 -> El Papiol | C10: 0.4 | D10: 0.083526682 | E10: 0.47352722 | F10: 0.31301069 | G10: 0.67664671 | H10: 0.58190328 | I10: 0.34677905 | J10: 0.34526112
A11: =[4]Empreses!A13 -> 08169 | B11: =[4]Empreses!B13 -> El Prat de Llobregat | C11: 0.2 | D11: 0.12820513 | E11: 0.5095776 | F11: 0.45107604 | G11: 0.70612583 | H11: 0.56971938 | I11: 0.51358025 | J11: 0.45089712
A12: =[4]Empreses!A14 -> 08076 | B12: =[4]Empreses!B14 -> Esparreguera | C12: 0.17391304 | D12: 0.10618182 | E12: 0.45801527 | F12: 0.33517292 | G12: 0.69274909 | H12: 0.52687225 | I12: 0.39990433 | J12: 0.40012034 | M12: PES MUNICIPAL DELS LLOCS DE TREBALL OCUPATS PER DONES EL 2T 2022 (JUNY)
A13: =[4]Empreses!A15 -> 08077 | B13: =[4]Empreses!B15 -> Esplugues de Llobregat | C13: 0.3125 | D13: 0.10784314 | E13: 0.43414211 | F13: 0.26266996 | G13: 0.70727432 | H13: 0.54580521 | I13: 0.33378333 | J13: 0.54211071
A14: =[4]Empreses!A16 -> 08089 | B14: =[4]Empreses!B16 -> Gavà | C14: 0.32258065 | D14: 0.13018598 | E14: 0.3877822 | F14: 0.32123412 | G14: 0.74363636 | H14: 0.53863636 | I14: 0.34288538 | J14: 0.41533217
A15: =[4]Empreses!A17 -> 08905 | B15: =[4]Empreses!B17 -> La Palma de Cervelló | C15: 0.41666667 | D15: 0.10920771 | E15: 0.53043478 | F15: 0.32075472 | G15: 0.69795038 | H15: 0.59883721 | I15: 0.3920742 | J15: 0.4304419
A16: =[4]Empreses!A18 -> 08114 | B16: =[4]Empreses!B18 -> Martorell | C16: 0 | D16: 0.087912088 | E16: 0.37238095 | F16: 0.28543689 | G16: 0.73630137 | H16: 0.62041885 | I16: 0.35993976 | J16: 0.40648056
A17: =[4]Empreses!A19 -> 08123 | B17: =[4]Empreses!B19 -> Molins de Rei | C17: 0.5 | D17: 0.17575758 | E17: 0.43835616 | F17: 0.36594203 | G17: 0.58823529 | H17: 0.61764706 | I17: 0.42276423 | J17: 0.40494324
A18: =[4]Empreses!A20 -> 08147 | B18: =[4]Empreses!B20 -> Olesa de Montserrat | C18: 0.3125 | D18: 0.12886598 | E18: 0.28346457 | F18: 0.39823009 | G18: 0.57758621 | H18: 0.48305085 | I18: 0.3592233 | J18: 0.47406035
A19: =[4]Empreses!A21 -> 08157 | B19: =[4]Empreses!B21 -> Pallejà | C19: 0.13888889 | D19: 0.13235294 | E19: 0.57162038 | F19: 0.28657653 | G19: 0.75698372 | H19: 0.52449298 | I19: 0.37863337 | J19: 0.38751868
A20: =[4]Empreses!A22 -> 08196 | B20: =[4]Empreses!B22 -> Sant Andreu de la Barca | C20: 0.3125 | D20: 0.094869313 | E20: 0.39263804 | F20: 0.29772727 | G20: 0.81218457 | H20: 0.65576748 | I20: 0.40219092 | J20: 0.37602645
A21: =[4]Empreses!A23 -> 08200 | B21: =[4]Empreses!B23 -> Sant Boi de Llobregat | C21: 0.1497006 | D21: 0.083725988 | E21: 0.39216316 | F21: 0.3302653 | G21: 0.71933567 | H21: 0.56287806 | I21: 0.38893443 | J21: 0.45242955
A22: =[4]Empreses!A24 -> 08204 | B22: =[4]Empreses!B24 -> Sant Climent de Llobregat | C22: 0.25 | D22: 0.16806723 | E22: 0.48888889 | F22: 0.33103448 | G22: 0.60674157 | H22: 0.69026549 | I22: 0.3516129 | J22: 0.36859504
A23: =[4]Empreses!A25 -> 08208 | B23: =[4]Empreses!B25 -> Sant Esteve Sesrovires | C23: 0.29411765 | D23: 0.19607843 | E23: 0.33415842 | F23: 0.35259133 | G23: 0.23740458 | H23: 0.60691824 | I23: 0.29841897 | J23: 0.31707769
A24: =[4]Empreses!A26 -> 08211 | B24: =[4]Empreses!B26 -> Sant Feliu de Llobregat | C24: 0.30952381 | D24: 0.12885662 | E24: 0.48423851 | F24: 0.27713499 | G24: 0.68125439 | H24: 0.59513961 | I24: 0.41832964 | J24: 0.55222357
... A31: =[4]Empreses!A33 -> 08301 | B31: =[4]Empreses!B33 -> Viladecans | C31: 0.16049383 | D31: 0.11985527 | E31: 0.46617284 | F31: 0.36765271 | G31: 0.72199454 | H31: 0.6347359 | I31: 0.40609952 | J31: 0.47741487
