Workbook

Sheet Índex
A6: INFORME TRIMESTRAL ESTRUCTURA PRODUCTIVA
A7: 4t trimestre 2022
A9: CONTINGUT
A10: Fer click als vincles per anar als documents, taules i gràfics corresponents
A12: GG | B12: Variació interanual del conjunt de components de l'estructura productiva. Evolució recent de l'estructura productiva del Baix Llobregat.
A13: TG | B13: =[1]TG!A7 -> Posicionament comarcal en el context de l'àmbit territorial metropolità i Catalunya. Estructura productiva.
A15: EMPRESES
A17: GE1 | B17: Comptes de cotització segons àmbit territorial.
A18: GE2 | B18: Variació interanual comptes de cotització. Baix Llobregat.
A19: TE1 | B19: Activitats econòmiques més rellevants. Baix Llobregat.
A20: TE2 | B20: Dinamisme empresarial.
A21: TE3 | B21: Dades municipals.
A23: LLOCS DE TREBALL
A25: Règim General Seguretat Social (RGSS)
A27: GRGSS1 | B27: Llocs de treball assalariat segons àmbit territorial.
A28: GRGSS2 | B28: Variació interanual llocs de treball assalariat. Baix Llobregat.
A29: GRGSS3 | B29: Variació interanual llocs de treball assalariat per grandària del compte de cotització. Baix Llobregat.
A30: TRGSS1 | B30: Activitats econòmiques més rellevants. Baix Llobregat.
A31: TRGSS2 | B31: Dinamisme llocs de treball.
A32: TRGSS3 | B32: Dades municipals.
A33: TRGSS4 | B33: Dades municipals. Llocs de treball assalariat per grandària del compte de cotització.
A34: TRGSS5 | B34: Dades municipals. Relació entre població ocupada i llocs de treball.
A35: TRGSS6 | B35: Dades municipals. Llocs de treball assalariat ocupats per dones.
A37: Règim Especial Treballadors Autònoms (RETA)
A39: GRETA1 | B39: Llocs de treball autònom segons àmbit territorial.
A40: GRETA2 | B40: Variació interanual llocs de treball autònom. Baix Llobregat.
A41: TRETA1 | B41: Activitats econòmiques més rellevants. Baix Llobregat.
A42: TRETA2 | B42: Dinamisme llocs de treball.
A43: TRETA3 | B43: Dades municipals.
A45: ANÀLISI SEGONS 7 SECTORS PRODUCTIUS
A47: T7S1 | B47: Llocs de treball segons àmbit territorial
A48: G7S1 | B48: Variació intertrimestral llocs de treball. Baix Llobregat.
A49: T7S2 | B49: Llocs de treball segons municipi.
A50: G7S2 | B50: Llocs de treball segons sexe.
A51: T7S3 | B51: Diferencial segons sexe de les activitats econòmiques.
A53: ÚS DE TECNOLOGIA i CONEIXEMENT
A55: TTC1 | B55: Llocs de treball segons ús de tecnologia i coneixement. Baix Llobregat i àmbits territorials.
A56: TTC2 | B56: Llocs de treball segons ús de tecnologia i coneixement. Dades municipals.

Sheet GG
A1: TORNAR A L'ÍNDEX
A3: EMPRESES, LLOCS DE TREBALL, RGSS I RETA
A5: GG | C5: =Índex!A7 -> 4t trimestre 2022
A7: Variació interanual de l'estructura productiva. Baix Llobregat i àmbits territorials de referència
A30: Les dades de 2021 provenen d'Idescat, a partir dels fitxers d'afiliacions i comptes de cotització de la Tresoreria General de la Seguretat Social. Dades provisionals.
B32: Empreses | C32: Total llocs de treball | D32: RGSS | E32: RETA
A33: Baix Llobregat | B33: ='GE1'!C32 -> -0.0076397457 | C33: 0.035368181 | D33: =GRGSS1!C32 -> 0.042806015 | E33: =GRETA1!C32 -> -0.0075233835
A34: Àrea Metropolitana de Barcelona | B34: ='GE1'!C33 -> 0.001553938 | C34: 0.034299469 | D34: =GRGSS1!C33 -> 0.039674263 | E34: =GRETA1!C33 -> -0.00050810857
A35: Àmbit Territorial Metropolità | B35: ='GE1'!C34 -> 0.00041709299 | C35: 0.03057653 | D35: =GRGSS1!C34 -> 0.036228819 | E35: =GRETA1!C34 -> -0.0017724109
A36: Catalunya | B36: ='GE1'!C35 -> 0.0028684381 | C36: 0.028053528 | D36: =GRGSS1!C35 -> 0.033955493 | E36: =GRETA1!C35 -> -0.0020048151
A62: Les dades de 2021 provenen d'Idescat, a partir dels fitxers d'afiliacions i comptes de cotització de la Tresoreria General de la Seguretat Social. Dades provisionals.
B64: Empreses | C64: Total llocs de treball | D64: RGSS | E64: RETA
A65: Variació anual | B65: ='GE1'!C32 -> -0.0076397457 | C65: 0.035368181 | D65: =GRGSS1!C32 -> 0.042806015 | E65: =GRETA1!C32 -> -0.0075233835
A66: Variació 2019 | B66: ='GE1'!E32 -> -0.065633098 | C66: 0.048643828 | D66: =GRGSS1!E32 -> 0.063306931 | E66: =GRETA1!E32 -> -0.032219689

Sheet TG
A1: TORNAR A L'ÍNDEX | B1: Fet!
D2: =B20+B30 -> 344555
A3: =[2]GG!A3 -> EMPRESES, LLOCS DE TREBALL, RGSS I RETA | D3: =B25+B35 -> 1826185
A5: TG | B5: 4t trimestre 2022
A7: Posicionament comarcal en el context de l'àmbit territorial metropolità i Catalunya. Estructura productiva. | H7: Ocultar
B8: n | C8: % / Total ATM | D8: % / Total Catalunya | E8: Variació trimestral | H8: Trimestre anterior
A9: CENTRES DE COTITZACIÓ | E9: n | F9: % | H9: 3r 2022
A10: BAIX LLOBREGAT | B10: 20913 | C10: =B10/$B$16 -> 0.13623483 | D10: =B10/$B$17 -> 0.085696373 | E10: =B10-H10 -> 97 | F10: =E10/H10 -> 0.004659877 | H10: 20816
A11: Barcelonès | B11: 83317 | C11: =B11/$B$16 -> 0.54275701 | D11: =B11/$B$17 -> 0.34141274 | E11: =B11-H11 -> 344 | F11: =E11/H11 -> 0.004145927 | H11: 82973
A12: Maresme | B12: 11995 | C12: =B12/$B$16 -> 0.078139759 | D12: =B12/$B$17 -> 0.049152584 | E12: =B12-H12 -> -105 | F12: =E12/H12 -> -0.008677686 | H12: 12100
A13: Vallès Occidental | B13: 25356 | C13: =B13/$B$16 -> 0.16517814 | D13: =B13/$B$17 -> 0.1039027 | E13: =B13-H13 -> 201 | F13: =E13/H13 -> 0.0079904592 | H13: 25155
A14: Vallès Oriental | B14: 11795 | C14: =B14/$B$16 -> 0.076836887 | D14: =B14/$B$17 -> 0.048333033 | E14: =B14-H14 -> 27 | F14: =E14/H14 -> 0.0022943576 | H14: 11768
A15: Àrea Metropolitana de Barcelona (AMB) | B15: 110214 | C15: - | D15: =B15/B16 -> 0.71797377 | E15: =B15-H15 -> 482 | F15: =E15/H15 -> 0.00439252 | H15: 109732
A16: Àmbit Territorial Metropolità (ATM) | B16: 153507 | C16: - | D16: =B16/B17 -> 0.62903424 | E16: =B16-H16 -> 695 | F16: =E16/H16 -> 0.0045480721 | H16: 152812
A17: Catalunya | B17: 244036 | C17: - | D17: - | E17: =B17-H17 -> -930 | F17: =E17/H17 -> -0.0037964452 | H17: 244966
B18: n | C18: % / Total ATM | D18: % / Total Catalunya | E18: Variació trimestral | H18: n
A19: POBLACIÓ ASSALARIADA | E19: n | F19: %
A20: BAIX LLOBREGAT | B20: 295745 | C20: =B20/$B$26 -> 0.14371937 | D20: =B20/$B$27 -> 0.10053182 | E20: =B20-H20 -> 4615 | F20: =E20/H20 -> 0.015852025 | H20: 291130
A21: Barcelonès | B21: 1189595 | C21: =B21/$B$26 -> 0.57809208 | D21: =B21/$B$27 -> 0.40437588 | E21: =B21-H21 -> 19575 | F21: =E21/H21 -> 0.016730483 | H21: 1170020
A22: Maresme | B22: 104545 | C22: =B22/$B$26 -> 0.05080438 | D22: =B22/$B$27 -> 0.035537706 | E22: =B22-H22 -> -2265 | F22: =E22/H22 -> -0.02120588 | H22: 106810
A23: Vallès Occidental | B23: 342785 | C23: =B23/$B$26 -> 0.16657879 | D23: =B23/$B$27 -> 0.116522 | E23: =B23-H23 -> 5255 | F23: =E23/H23 -> 0.015568986 | H23: 337530
A24: Vallès Oriental | B24: 124055 | C24: =B24/$B$26 -> 0.060285403 | D24: =B24/$B$27 -> 0.042169688 | E24: =B24-H24 -> -935 | F24: =E24/H24 -> -0.0074805984 | H24: 124990
A25: Àrea Metropolitana de Barcelona (AMB) | B25: 1590135 | C25: - | D25: =B25/$B$27 -> 0.54053039 | E25: =B25-H25 -> 25045 | F25: =E25/H25 -> 0.016002275 | H25: 1565090
A26: Àmbit Territorial Metropolità (ATM) | B26: 2057795 | C26: - | D26: =B26/$B$27 -> 0.69950082 | E26: =B26-H26 -> 27315 | F26: =E26/H26 -> 0.013452484 | H26: 2030480
A27: Catalunya | B27: 2941805 | C27: - | D27: - | E27: =B27-H27 -> 10355 | F27: =E27/H27 -> 0.0035323816 | H27: 2931450
B28: n | C28: % / Total ATM | D28: % / Total Catalunya | E28: Variació trimestral | H28: n
A29: POBLACIÓ DEL RÈGIM AUTÒNOM | E29: n | F29: %
A30: BAIX LLOBREGAT | B30: 48810 | C30: =B30/$B$36 -> 0.14091867 | D30: =B30/$B$37 -> 0.087546073 | E30: =B30-H30 -> 230 | F30: =E30/H30 -> 0.0047344586 | H30: 48580
A31: Barcelonès | B31: 173065 | C31: =B31/$B$36 -> 0.49965355 | D31: =B31/$B$37 -> 0.31041101 | E31: =B31-H31 -> 1545 | F31: =E31/H31 -> 0.0090076959 | H31: 171520
A32: Maresme | B32: 33750 | C32: =B32/$B$36 -> 0.097439155 | D32: =B32/$B$37 -> 0.060534316 | E32: =B32-H32 -> 80 | F32: =E32/H32 -> 0.0023760024 | H32: 33670
A33: Vallès Occidental | B33: 61005 | C33: =B33/$B$36 -> 0.17612669 | D33: =B33/$B$37 -> 0.10941914 | E33: =B33-H33 -> 270 | F33: =E33/H33 -> 0.0044455421 | H33: 60735
A34: Vallès Oriental | B34: 29380 | C34: =B34/$B$36 -> 0.084822589 | D34: =B34/$B$37 -> 0.052696243 | E34: =B34-H34 -> 210 | F34: =E34/H34 -> 0.0071991772 | H34: 29170
A35: Àrea Metropolitana de Barcelona (AMB) | B35: 236050 | C35: - | D35: =B35/$B$37 -> 0.42338149 | E35: =B35-H35 -> 1845 | F35: =E35/H35 -> 0.007877714 | H35: 234205
A36: Àmbit Territorial Metropolità (ATM) | B36: 346370 | C36: - | D36: =B36/$B$37 -> 0.62125248 | E36: =B36-H36 -> 2695 | F36: =E36/H36 -> 0.0078417109 | H36: 343675
A37: Catalunya | B37: 557535 | C37: - | D37: - | E37: =B37-H37 -> 2265 | F37: =E37/H37 -> 0.0040790967 | H37: 555270
A38: Font: OCBL, a partir de les dades d'Estadística de l'ocupació assalariada i autònoma segons afiliacions a la Seguretat Social d'IDESCAT.
B41: =B30+B20 -> 344555

Sheet GE1
A1: TORNAR A L'ÍNDEX
A3: EMPRESES
A5: GE1 | C5: =Índex!A7 -> 4t trimestre 2022
A6: Comptes de cotització segons àmbit territorial.
A29: Les dades de 2021 provenen d'Idescat, a partir dels fitxers d'afiliacions i comptes de cotització de la Tresoreria General de la Seguretat Social. Dades provisionals.
B31: Empreses | C31: variació 2022-2021 | D31: variació 2022-2020 | E31: variació 2022-2019 | F31: variació 2022-2008
A32: Baix Llobregat | B32: 20913 | C32: -0.0076397457 | D32: 0.016625346 | E32: -0.065633098 | F32: -0.09050187
A33: Àrea Metropolitana de Barcelona | B33: 110214 | C33: 0.001553938 | D33: 0.023608738 | E33: -0.06906775 | F33: -0.081059899
A34: Àmbit Territorial Metropolità | B34: 153507 | C34: 0.00041709299 | D34: 0.023632496 | E34: -0.063918921 | F34: -0.13208646
A35: Catalunya | B35: 244036 | C35: 0.0028684381 | D35: 0.027303726 | E35: -0.054234004 | F35: -0.097947023

Sheet GE2
A1: TORNAR A L'ÍNDEX | B1: Fet!
A3: EMPRESES
A5: GE2 | C5: =Índex!A7 -> 4t trimestre 2022
A6: =Índex!B18 -> Variació interanual comptes de cotització. Baix Llobregat.
A29: Les dades de 2021 provenen d'Idescat, a partir dels fitxers d'afiliacions i comptes de cotització de la Tresoreria General de la Seguretat Social. Dades provisionals.
B31: Empreses | C31: Variació interanual
A32: 2016 | B32: 21840 | C32: =(B32-B40)/B40 -> 0.030480325
A33: 2017 | B33: 22022 | C33: =(B33-B32)/B32 -> 0.0083333333
A34: 2018 | B34: 22146 | C34: =(B34-B33)/B33 -> 0.0056307329
A35: 2019 | B35: 22382 | C35: =(B35-B34)/B34 -> 0.010656552
A36: 2020 | B36: 20571 | C36: =(B36-B35)/B35 -> -0.080913234
A37: 2021 | B37: 21074 | C37: =(B37-B36)/B36 -> 0.024451898
A38: 2022 | B38: 20913 | C38: =(B38-B37)/B37 -> -0.0076397457
A40: 2015 | B40: 21194

Sheet TE1
A1: TORNAR A L'ÍNDEX | B1: Fet!
A3: EMPRESES
A5: =Índex!A19 -> TE1 | C5: =Índex!A7 -> 4t trimestre 2022
A6: =Índex!B19 -> Activitats econòmiques més rellevants. Baix Llobregat.
D8: Variació
B9: 2022 | C9: %total | D9: 2021-2022 | E9: 2020-2022 | F9: 2019-2022 | G9: 2008-2022
A10: Total | B10: 20913 | D10: -0.0076397457 | E10: 0.016625346 | F10: -0.065633098 | G10: -0.09050187
A11: 47-Comerç al detall, excepte el comerç de vehicles de motor i motocicletes | B11: 2933 | C11: 0.14024769 | D11: -0.04244205 | E11: -0.022659114 | F11: -0.079120879 | G11: -0.11201938
A12: 56-Serveis de menjar i begudes | B12: 2029 | C12: 0.097020992 | D12: -0.01600388 | E12: 0.067332983 | F12: -0.054079254 | G12: 0.070712401
A13: 46-Comerç a l'engròs i intermediaris del comerç, excepte vehicles de motor i motocicletes | B13: 1978 | C13: 0.094582317 | D13: -0.00050530571 | E13: 0.0066157761 | F13: -0.11260655 | G13: -0.10941018
A14: 43-Activitats especialitzades de la construcció | B14: 1487 | C14: 0.071104098 | D14: -0.026832461 | E14: -0.0046854083 | F14: -0.065954774 | G14: -0.29792257
A15: 49-Transport terrestre; transport per canonades | B15: 1048 | C15: 0.05011237 | D15: 0.010607522 | E15: 0.044865404 | F15: -0.08150745 | G15: -0.26917713
A16: 41-Construcció d'immobles | B16: 874 | C16: 0.041792187 | D16: 0.029446408 | E16: 0.080346106 | F16: 0.063260341 | G16: -0.25743415
A17: 96-Altres activitats de serveis personals | B17: 868 | C17: 0.041505284 | D17: 0.021176471 | E17: 0.052121212 | F17: -0.032329989 | G17: 0.032104637
A18: 68-Activitats immobiliàries | B18: 697 | C18: 0.033328552 | D18: 0.031065089 | E18: 0.075617284 | F18: -0.011347518 | G18: 0.28360958
A19: 85-Educació | B19: 633 | C19: 0.030268254 | D19: -0.018604651 | E19: 0.0079617834 | F19: -0.070484581 | G19: 0.23874755
A20: 45-Venda i reparació de vehicles de motor i motocicletes | B20: 591 | C20: 0.028259934 | D20: -0.024752475 | E20: -0.057416268 | F20: -0.13088235 | G20: -0.16525424
A22: Les dades de 2021 provenen d'Idescat, a partir dels fitxers d'afiliacions i comptes de cotització de la Tresoreria General de la Seguretat Social. Dades provisionals.

Sheet TE2
A1: TORNAR A L'ÍNDEX | B1: Fet!
A3: ='TE1'!A3 -> EMPRESES
A5: =Índex!A20 -> TE2 | C5: =Índex!A7 -> 4t trimestre 2022
A6: =Índex!B20 -> Dinamisme empresarial.
A7: ACTIVITATS QUE MÉS HAN AUGMENTAT | B7: n | C7: Variació anual
C8: n | D8: %
A9: 41-Construcció d'immobles | B9: 874 | C9: 25 | D9: 0.029446408
A10: 68-Activitats immobiliàries | B10: 697 | C10: 21 | D10: 0.031065089
A11: 96-Altres activitats de serveis personals | B11: 868 | C11: 18 | D11: 0.021176471
A12: 86-Activitats sanitàries | B12: 556 | C12: 14 | D12: 0.025830258
A13: 49-Transport terrestre; transport per canonades | B13: 1048 | C13: 11 | D13: 0.010607522
A14: 64-Mediació financera, excepte assegurances i fons de pensions | B14: 57 | C14: 10 | D14: 0.21276596
A15: 81-Serveis a edificis i activitats de jardineria | B15: 451 | C15: 10 | D15: 0.022675737
A16: 38-Activitats de recollida, tractament i eliminació de residus; activitats de valorització | B16: 58 | C16: 7 | D16: 0.1372549
A17: 82-Activitats administratives d'oficina i altres activitats auxiliars a les empreses | B17: 309 | C17: 6 | D17: 0.01980198
A18: 32-Indústries manufactureres diverses | B18: 74 | C18: 5 | D18: 0.072463768
A19: ACTIVITATS QUE MÉS HAN DISMINUÏT | B19: n | C19: Variació anual
C20: n | D20: %
A21: 47-Comerç al detall, excepte el comerç de vehicles de motor i motocicletes | B21: 2933 | C21: -130 | D21: -0.04244205
A22: 43-Activitats especialitzades de la construcció | B22: 1487 | C22: -41 | D22: -0.026832461
A23: 56-Serveis de menjar i begudes | B23: 2029 | C23: -33 | D23: -0.01600388
A24: 25-Fabricació de productes metàl·lics, excepte maquinària i equips | B24: 503 | C24: -20 | D24: -0.038240918
A25: 45-Venda i reparació de vehicles de motor i motocicletes | B25: 591 | C25: -15 | D25: -0.024752475
A26: 77-Activitats de lloguer | B26: 161 | C26: -13 | D26: -0.074712644
A27: 69-Activitats jurídiques i de comptabilitat | B27: 465 | C27: -12 | D27: -0.025157233
A28: 85-Educació | B28: 633 | C28: -12 | D28: -0.018604651
A29: 62-Serveis de tecnologies de la informació | B29: 253 | C29: -11 | D29: -0.041666667
A30: 22-Fabricació de productes de cautxú i matèries plàstiques | B30: 120 | C30: -6 | D30: -0.047619048
A32: Les dades de 2021 provenen d'Idescat, a partir dels fitxers d'afiliacions i comptes de cotització de la Tresoreria General de la Seguretat Social. Dades provisionals.

Sheet DIN_Empreses
A1: Fet! | G1: 0.003 | M1: variació | Q1: quan ordenis, millor copiïs les cel·les calculades abans
B3: 2022 | C3: 20.22 | D3: 2021 | H3: 2022 | I3: 20.22 | J3: 2021 | N3: 2022 | O3: 20.22 | P3: 2021 | Q3: var absoluta | R3: var relativa
A4: 1- Agricultura, ramaderia, caça i activitats dels serveis que s'hi relacionen | B4: 25 | C4: 0.0011900228 | D4: 27 | G4: 10- Indústries de productes alimentaris | H4: 181 | I4: 0.0086157654 | J4: 181 | M4: 10- Indústries de productes alimentaris | N4: 2987 | O4: 0.14218393 | P4: 3055 | Q4: -68 | R4: -0.022258592
A5: 2- Silvicultura i explotació forestal | B5: 10 | C5: 0.00047600914 | D5: 8 | G5: 16- Indústria de la fusta i del suro, excepte mobles; cistelleria i esparteria | H5: 67 | I5: 0.0031892612 | J5: 69 | M5: 16- Indústria de la fusta i del suro, excepte mobles; cistelleria i esparteria | N5: 1534 | O5: 0.073019802 | P5: 1560 | Q5: -26 | R5: -0.016666667
A6: 3- Pesca i aqüicultura | B6: 0 | C6: 0 | D6: .. | G6: 18- Arts gràfiques i reproducció de suports enregistrats | H6: 184 | I6: 0.0087585682 | J6: 186 | M6: 18- Arts gràfiques i reproducció de suports enregistrats | N6: 598 | O6: 0.028465347 | P6: 614 | Q6: -16 | R6: -0.026058632
A7: 5- Extracció d'antracita, hulla i lignit | B7: 0 | C7: 0 | G7: 20- Indústries químiques | H7: 110 | I7: 0.0052361005 | J7: 116 | M7: 20- Indústries químiques | N7: 1969 | O7: 0.0937262 | P7: 1985 | Q7: -16 | R7: -0.0080604534
A8: 6- Extracció de petroli brut i de gas natural | B8: 0 | C8: 0 | G8: 22- Fabricació de productes de cautxú i matèries plàstiques | H8: 124 | I8: 0.0059025133 | J8: 125 | M8: 22- Fabricació de productes de cautxú i matèries plàstiques | N8: 860 | O8: 0.040936786 | P8: 869 | Q8: -9 | R8: -0.010356732
A9: 7- Extracció de minerals metàl·lics | B9: 0 | C9: 0 | D9: 0 | G9: 23- Fabricació d'altres productes minerals no metàl·lics | H9: 64 | I9: 0.0030464585 | J9: 64 | M9: 23- Fabricació d'altres productes minerals no metàl·lics | N9: 328 | O9: 0.0156131 | P9: 337 | Q9: -9 | R9: -0.026706231
A10: 8- Extracció de minerals no metàl·lics ni energètics | B10: 12 | C10: 0.00057121097 | D10: 12 | G10: 25- Fabricació de productes metàl·lics, excepte maquinària i equips | H10: 516 | I10: 0.024562072 | J10: 521 | M10: 25- Fabricació de productes metàl·lics, excepte maquinària i equips | N10: 98 | O10: 0.0046648896 | P10: 105 | Q10: -7 | R10: -0.066666667
A11: 9- Activitats de suport a les indústries extractives | B11: 0 | C11: 0 | D11: 0 | G11: 28- Fabricació de maquinària i equips ncaa | H11: 177 | I11: 0.0084253618 | J11: 180 | M11: 28- Fabricació de maquinària i equips ncaa | N11: 110 | O11: 0.0052361005 | P11: 116 | Q11: -6 | R11: -0.051724138
A12: 10- Indústries de productes alimentaris | B12: 181 | C12: 0.0086157654 | D12: 181 | G12: 31- Fabricació de mobles | H12: 88 | I12: 0.0041888804 | J12: 90 | M12: 31- Fabricació de mobles | N12: 169 | O12: 0.0080445545 | P12: 175 | Q12: -6 | R12: -0.034285714
A13: 11- Fabricació de begudes | B13: 18 | C13: 0.00085681645 | D13: 15 | G13: 32- Indústries manufactureres diverses | H13: 71 | I13: 0.0033796649 | J13: 72 | M13: 32- Indústries manufactureres diverses | N13: 516 | O13: 0.024562072 | P13: 521 | Q13: -5 | R13: -0.009596929
A14: 12- Indústries del tabac | B14: 0 | C14: 0 | G14: 33- Reparació i instal·lació de maquinària i equips | H14: 177 | I14: 0.0084253618 | J14: 174 | M14: 33- Reparació i instal·lació de maquinària i equips | N14: 160 | O14: 0.0076161462 | P14: 164 | Q14: -4 | R14: -0.024390244
A15: 13- Indústries tèxtils | B15: 51 | C15: 0.0024276466 | D15: 58 | G15: 41- Construcció d'immobles | H15: 860 | I15: 0.040936786 | J15: 869 | M15: 41- Construcció d'immobles | N15: 236 | O15: 0.011233816 | P15: 240 | Q15: -4 | R15: -0.016666667
A16: 14- Confecció de peces de vestir | B16: 52 | C16: 0.0024752475 | D16: 59 | G16: 42- Construcció d'obres d'enginyeria civil | H16: 72 | I16: 0.0034272658 | J16: 74 | M16: 42- Construcció d'obres d'enginyeria civil | N16: 177 | O16: 0.0084253618 | P16: 180 | Q16: -3 | R16: -0.016666667
A17: 15- Indústria del cuir i del calçat | B17: 4 | C17: 0.00019040366 | D17: 6 | G17: 43- Activitats especialitzades de la construcció | H17: 1534 | I17: 0.073019802 | J17: 1560 | M17: 43- Activitats especialitzades de la construcció | N17: 467 | O17: 0.022229627 | P17: 470 | Q17: -3 | R17: -0.0063829787
A18: 16- Indústria de la fusta i del suro, excepte mobles; cistelleria i esparteria | B18: 67 | C18: 0.0031892612 | D18: 69 | G18: 45- Venda i reparació de vehicles de motor i motocicletes | H18: 598 | I18: 0.028465347 | J18: 614 | M18: 45- Venda i reparació de vehicles de motor i motocicletes | N18: 100 | O18: 0.0047600914 | P18: 103 | Q18: -3 | R18: -0.029126214
A19: 17- Indústries del paper | B19: 46 | C19: 0.002189642 | D19: 46 | G19: 46- Comerç a l'engròs i intermediaris del comerç, excepte vehicles de motor i motocicletes | H19: 1969 | I19: 0.0937262 | J19: 1985 | M19: 46- Comerç a l'engròs i intermediaris del comerç, excepte vehicles de motor i motocicletes | N19: 67 | O19: 0.0031892612 | P19: 69 | Q19: -2 | R19: -0.028985507
A20: 18- Arts gràfiques i reproducció de suports enregistrats | B20: 184 | C20: 0.0087585682 | D20: 186 | G20: 47- Comerç al detall, excepte el comerç de vehicles de motor i motocicletes | H20: 2987 | I20: 0.14218393 | J20: 3055 | M20: 47- Comerç al detall, excepte el comerç de vehicles de motor i motocicletes | N20: 184 | O20: 0.0087585682 | P20: 186 | Q20: -2 | R20: -0.010752688
A21: 19- Coqueries i refinació del petroli | B21: 0 | C21: 0 | D21: 0 | G21: 49- Transport terrestre; transport per canonades | H21: 1037 | I21: 0.049362148 | J21: 1014 | M21: 49- Transport terrestre; transport per canonades | N21: 88 | O21: 0.0041888804 | P21: 90 | Q21: -2 | R21: -0.022222222
A22: 20- Indústries químiques | B22: 110 | C22: 0.0052361005 | D22: 116 | G22: 52- Emmagatzematge i activitats afins al transport | H22: 312 | I22: 0.014851485 | J22: 313 | M22: 52- Emmagatzematge i activitats afins al transport | N22: 72 | O22: 0.0034272658 | P22: 74 | Q22: -2 | R22: -0.027027027
A23: 21- Fabricació de productes farmacèutics | B23: 19 | C23: 0.00090441736 | D23: 19 | G23: 53- Activitats postals i de correus | H23: 71 | I23: 0.0033796649 | J23: 66 | M23: 53- Activitats postals i de correus | N23: 257 | O23: 0.012233435 | P23: 259 | Q23: -2 | R23: -0.0077220077
A24: 22- Fabricació de productes de cautxú i matèries plàstiques | B24: 124 | C24: 0.0059025133 | D24: 125 | G24: 55- Serveis d'allotjament | H24: 82 | I24: 0.0039032749 | J24: 81 | M24: 55- Serveis d'allotjament | N24: 75 | O24: 0.0035700685 | P24: 77 | Q24: -2 | R24: -0.025974026
A25: 23- Fabricació d'altres productes minerals no metàl·lics | B25: 64 | C25: 0.0030464585 | D25: 64 | G25: 56- Serveis de menjar i begudes | H25: 2098 | I25: 0.099866717 | J25: 2047 | M25: 56- Serveis de menjar i begudes | N25: 124 | O25: 0.0059025133 | P25: 125 | Q25: -1 | R25: -0.008
A26: 24- Metal·lúrgia; fabricació de productes bàsics de ferro, acer i ferroaliatges | B26: 38 | C26: 0.0018088347 | D26: 40 | G26: 62- Serveis de tecnologies de la informació | H26: 257 | I26: 0.012233435 | J26: 259 | M26: 62- Serveis de tecnologies de la informació | N26: 71 | O26: 0.0033796649 | P26: 72 | Q26: -1 | R26: -0.013888889
... A39: 38- Activitats de recollida, tractament i eliminació de residus; activitats de valorització | B39: 54 | C39: 0.0025704494 | D39: 51 | G39: 85- Educació | H39: 578 | I39: 0.027513328 | J39: 577 | M39: 85- Educació | N39: 396 | O39: 0.018849962 | P39: 389 | Q39: 7 | R39: 0.017994859
A40: 39- Activitats de descontaminació i altres serveis de gestió de residus | B40: 2 | C40: 9.5201828e-05 | D40: .. | G40: 86- Activitats sanitàries | H40: 557 | I40: 0.026513709 | J40: 539 | M40: 86- Activitats sanitàries | N40: 135 | O40: 0.0064261234 | P40: 123 | Q40: 12 | R40: 0.097560976
A41: 41- Construcció d'immobles | B41: 860 | C41: 0.040936786 | D41: 869 | G41: 87- Activitats de serveis socials amb allotjament | H41: 100 | I41: 0.0047600914 | J41: 103 | M41: 87- Activitats de serveis socials amb allotjament | N41: 201 | O41: 0.0095677837 | P41: 189 | Q41: 12 | R41: 0.063492063
A42: 42- Construcció d'obres d'enginyeria civil | B42: 72 | C42: 0.0034272658 | D42: 74 | G42: 88- Activitats de serveis socials sense allotjament | H42: 77 | I42: 0.0036652704 | J42: 74 | M42: 88- Activitats de serveis socials sense allotjament | N42: 318 | O42: 0.015137091 | P42: 300 | Q42: 18 | R42: 0.06
A43: 43- Activitats especialitzades de la construcció | B43: 1534 | C43: 0.073019802 | D43: 1560 | G43: 93- Activitats esportives, recreatives i d'entreteniment | H43: 396 | I43: 0.018849962 | J43: 389 | M43: 93- Activitats esportives, recreatives i d'entreteniment | N43: 557 | O43: 0.026513709 | P43: 539 | Q43: 18 | R43: 0.033395176
A44: 45- Venda i reparació de vehicles de motor i motocicletes | B44: 598 | C44: 0.028465347 | D44: 614 | G44: 94- Activitats associatives | H44: 201 | I44: 0.0095677837 | J44: 189 | M44: 94- Activitats associatives | N44: 1037 | O44: 0.049362148 | P44: 1014 | Q44: 23 | R44: 0.022682446
A45: 46- Comerç a l'engròs i intermediaris del comerç, excepte vehicles de motor i motocicletes | B45: 1969 | C45: 0.0937262 | D45: 1985 | G45: 95- Reparació d'ordinadors, d'efectes personals i efectes domèstics | H45: 88 | I45: 0.0041888804 | J45: 87 | M45: 95- Reparació d'ordinadors, d'efectes personals i efectes domèstics | N45: 867 | O45: 0.041269992 | P45: 839 | Q45: 28 | R45: 0.033373063
A46: 47- Comerç al detall, excepte el comerç de vehicles de motor i motocicletes | B46: 2987 | C46: 0.14218393 | D46: 3055 | G46: 96- Altres activitats de serveis personals | H46: 867 | I46: 0.041269992 | J46: 839 | M46: 96- Altres activitats de serveis personals | N46: 689 | O46: 0.03279703 | P46: 660 | Q46: 29 | R46: 0.043939394
A47: 49- Transport terrestre; transport per canonades | B47: 1037 | C47: 0.049362148 | D47: 1014 | G47: 97- Activitats de les llars que donen ocupació a personal domèstic | H47: 98 | I47: 0.0046648896 | J47: 105 | M47: 97- Activitats de les llars que donen ocupació a personal domèstic | N47: 2098 | O47: 0.099866717 | P47: 2047 | Q47: 51 | R47: 0.024914509
A48: 50- Transport marítim i per vies de navegació interiors | B48: 1 | C48: 4.7600914e-05 | D48: .. | G48: Total | H48: 21008 | I48: 1 | J48: 20952 | M48: Total | N48: 21008 | O48: 1 | P48: 20952 | Q48: 56 | R48: 0.0026727759
A49: 51- Transport aeri | B49: 27 | C49: 0.0012852247 | D49: 21
A50: 52- Emmagatzematge i activitats afins al transport | B50: 312 | C50: 0.014851485 | D50: 313
A51: 53- Activitats postals i de correus | B51: 71 | C51: 0.0033796649 | D51: 66
A52: 55- Serveis d'allotjament | B52: 82 | C52: 0.0039032749 | D52: 81
A53: 56- Serveis de menjar i begudes | B53: 2098 | C53: 0.099866717 | D53: 2047
...

Sheet TE3
A1: TORNAR A L'ÍNDEX | B1: Fet!
A3: EMPRESES
A5: =[3]Índex!A18 -> TE3 | C5: =Índex!A7 -> 4t trimestre 2022
A6: =[3]Índex!B18 -> Dades municipals.
B8: Empreses | C8: % Baix Llobregat | D8: variació relativa (en %)
B9: Empreses | D9: 2021 | E9: 2020 | F9: 2019 | G9: 2008
A10: Abrera | B10: 401 | C10: =B10/$B$40 -> 0.019174676 | D10: =($B46-C46)/C46 -> 0.010075567 | E10: =($B46-D46)/D46 -> 0.0050125313 | F10: =($B46-E46)/E46 -> -0.080275229 | G10: =($B46-F46)/F46 -> -0.014742015
A11: Begues | B11: 142 | C11: =B11/$B$40 -> 0.0067900349 | D11: =($B47-C47)/C47 -> 0 | E11: =($B47-D47)/D47 -> 0.059701493 | F11: =($B47-E47)/E47 -> -0.02739726 | G11: =($B47-F47)/F47 -> -0.040540541
A12: Castelldefels | B12: 1733 | C12: =B12/$B$40 -> 0.082867116 | D12: =($B48-C48)/C48 -> -0.0080137378 | E12: =($B48-D48)/D48 -> 0.047129909 | F12: =($B48-E48)/E48 -> -0.029131653 | G12: =($B48-F48)/F48 -> -0.0045950603
A13: Castellví de Rosanes | B13: 68 | C13: =B13/$B$40 -> 0.003251566 | D13: =($B49-C49)/C49 -> 0.079365079 | E13: =($B49-D49)/D49 -> 0.19298246 | F13: =($B49-E49)/E49 -> 0.03030303 | G13: =($B49-F49)/F49 -> -0.26086957
A14: Cervelló | B14: 241 | C14: =B14/$B$40 -> 0.011523932 | D14: =($B50-C50)/C50 -> 0.0041666667 | E14: =($B50-D50)/D50 -> -0.020325203 | F14: =($B50-E50)/E50 -> -0.073076923 | G14: =($B50-F50)/F50 -> 0.016877637
A15: Collbató | B15: 78 | C15: =B15/$B$40 -> 0.0037297375 | D15: =($B51-C51)/C51 -> -0.071428571 | E15: =($B51-D51)/D51 -> -0.071428571 | F15: =($B51-E51)/E51 -> -0.15217391 | G15: =($B51-F51)/F51 -> -0.093023256
A16: Corbera de Llobregat | B16: 232 | C16: =B16/$B$40 -> 0.011093578 | D16: =($B52-C52)/C52 -> 0.0086956522 | E16: =($B52-D52)/D52 -> 0.054545455 | F16: =($B52-E52)/E52 -> -0.0085470085 | G16: =($B52-F52)/F52 -> -0.18596491
A17: Cornellà de Llobregat | B17: 2373 | C17: =B17/$B$40 -> 0.11347009 | D17: =($B53-C53)/C53 -> -0.014534884 | E17: =($B53-D53)/D53 -> 0.012804097 | F17: =($B53-E53)/E53 -> -0.06501182 | G17: =($B53-F53)/F53 -> -0.079875921
A18: El Papiol | B18: 201 | C18: =B18/$B$40 -> 0.0096112466 | D18: =($B54-C54)/C54 -> -0.014705882 | E18: =($B54-D54)/D54 -> -0.042857143 | F18: =($B54-E54)/E54 -> -0.11061947 | G18: =($B54-F54)/F54 -> -0.21484375
A19: El Prat de Llobregat | B19: 1755 | C19: =B19/$B$40 -> 0.083919093 | D19: =($B55-C55)/C55 -> 0.015625 | E19: =($B55-D55)/D55 -> 0.039076377 | F19: =($B55-E55)/E55 -> -0.071919619 | G19: =($B55-F55)/F55 -> -0.017357223
A20: Esparreguera | B20: 568 | C20: =B20/$B$40 -> 0.02716014 | D20: =($B56-C56)/C56 -> 0.0035335689 | E20: =($B56-D56)/D56 -> 0.019748654 | F20: =($B56-E56)/E56 -> -0.02739726 | G20: =($B56-F56)/F56 -> -0.14842579
A21: Esplugues de Llobregat | B21: 1205 | C21: =B21/$B$40 -> 0.057619662 | D21: =($B57-C57)/C57 -> -0.004954583 | E21: =($B57-D57)/D57 -> 0.027280477 | F21: =($B57-E57)/E57 -> -0.06152648 | G21: =($B57-F57)/F57 -> -0.17182131
... A40: BAIX LLOBREGAT | B40: 20913 | C40: =B40/$B$40 -> 1 | D40: =($B76-C76)/C76 -> -0.0076397457 | E40: =($B76-D76)/D76 -> 0.016625346 | F40: =($B76-E76)/E76 -> -0.065633098 | G40: =($B76-F76)/F76 -> -0.09050187
A42: Les dades de 2021 provenen d'Idescat, a partir dels fitxers d'afiliacions i comptes de cotització de la Tresoreria General de la Seguretat Social. Dades provisionals.
B44: empreses
B45: 2022 | C45: 2021 | D45: 2020 | E45: 2019 | F45: 2008
A46: Abrera | B46: 401 | C46: 397 | D46: 399 | E46: 436 | F46: 407
A47: Begues | B47: 142 | C47: 142 | D47: 134 | E47: 146 | F47: 148
A48: Castelldefels | B48: 1733 | C48: 1747 | D48: 1655 | E48: 1785 | F48: 1741
A49: Castellví de Rosanes | B49: 68 | C49: 63 | D49: 57 | E49: 66 | F49: 92
A50: Cervelló | B50: 241 | C50: 240 | D50: 246 | E50: 260 | F50: 237
A51: Collbató | B51: 78 | C51: 84 | D51: 84 | E51: 92 | F51: 86
A52: Corbera de Llobregat | B52: 232 | C52: 230 | D52: 220 | E52: 234 | F52: 285
A53: Cornellà de Llobregat | B53: 2373 | C53: 2408 | D53: 2343 | E53: 2538 | F53: 2579
A54: El Papiol | B54: 201 | C54: 204 | D54: 210 | E54: 226 | F54: 256
A55: El Prat de Llobregat | B55: 1755 | C55: 1728 | D55: 1689 | E55: 1891 | F55: 1786
A56: Esparreguera | B56: 568 | C56: 566 | D56: 557 | E56: 584 | F56: 667
A57: Esplugues de Llobregat | B57: 1205 | C57: 1211 | D57: 1173 | E57: 1284 | F57: 1455
... A76: BAIX LLOBREGAT | B76: 20913 | C76: 21074 | D76: 20571 | E76: 22382 | F76: 22994
A78: Zona | B78: 2022 2T | C78: 2021 2T | D78: 2020 2T | E78: 20219 2T | F78: 2008 2T | G78: 2008-2022 | H78: 2019-2022 | I78: 2020-2022 | J78: 2021-2022 | K78: Zona Centre: Cornellà de Llobregat, Esplugues de Llobregat, Sant Joan Despí, Sant Feliu de Llobregat i Sant Just Desvern.
A79: Centre | B79: =+B53+B57+B69+B70+B68 -> 6151 | C79: =+C53+C57+C69+C70+C68 -> 6211 | D79: =+D53+D57+D69+D70+D68 -> 6087 | E79: =+E53+E57+E69+E70+E68 -> 6612 | F79: =+F53+F57+F69+F70+F68 -> 6866 | G79: =($B79-F79)/F79 -> -0.10413632 | H79: =($B79-E79)/E79 -> -0.069721718 | I79: =($B79-D79)/D79 -> 0.010514211 | J79: =($B79-C79)/C79 -> -0.0096602801 | K79: Zona Delta: Begues, Castelldefels, El Prat de Llobregat, Gavà, Sant Boi de Llobregat, Sant Climent de Llobregat i Viladecans.
A80: Delta | B80: =+B47+B48+B55+B58+B65+B66+B75 -> 8266 | C80: =+C47+C48+C55+C58+C65+C66+C75 -> 8328 | D80: =+D47+D48+D55+D58+D65+D66+D75 -> 8078 | E80: =+E47+E48+E55+E58+E65+E66+E75 -> 8847 | F80: =+F47+F48+F55+F58+F65+F66+F75 -> 8878 | G80: =($B80-F80)/F80 -> -0.068934445 | H80: =($B80-E80)/E80 -> -0.065671979 | I80: =($B80-D80)/D80 -> 0.023273087 | J80: =($B80-C80)/C80 -> -0.0074447646 | K80: Zona Nord: Abrera, Castellví de Rosanes, Collbató, Esparreguera, Martorell, Olesa de Montserrat, Sant Andreu de la Barca i Sant Esteve Sesrovires.
A81: Nord | B81: =+B46+B49+B51+B56+B60+B62+B67+B64 -> 3373 | C81: =+C46+C49+C51+C56+C60+C62+C67+C64 -> 3376 | D81: =+D46+D49+D51+D56+D60+D62+D67+D64 -> 3348 | E81: =+E46+E49+E51+E56+E60+E62+E67+E64 -> 3621 | F81: =+F46+F49+F51+F56+F60+F62+F67+F64 -> 3759 | G81: =($B81-F81)/F81 -> -0.10268688 | H81: =($B81-E81)/E81 -> -0.068489368 | I81: =($B81-D81)/D81 -> 0.0074671446 | J81: =($B81-C81)/C81 -> -0.00088862559 | K81: Zona Vall Baixa: Cervelló, Corbera de Llobregat, El Papiol, La Palma de Cervelló, Molins de Rei, Pallejà, Sant Vicenç dels Horts, Santa Coloma de Cervelló, Torrelles de Llobregat i Vallirana.
A82: Vall Baixa | B82: =+B50+B52+B54+B59+B61+B63+B71+B72+B73+B74 -> 3123 | C82: =+C50+C52+C54+C59+C61+C63+C71+C72+C73+C74 -> 3159 | D82: =+D50+D52+D54+D59+D61+D63+D71+D72+D73+D74 -> 3058 | E82: =+E50+E52+E54+E59+E61+E63+E71+E72+E73+E74 -> 3302 | F82: =+F50+F52+F54+F59+F61+F63+F71+F72+F73+F74 -> 3491 | G82: =($B82-F82)/F82 -> -0.10541392 | H82: =($B82-E82)/E82 -> -0.05420957 | I82: =($B82-D82)/D82 -> 0.021255723 | J82: =($B82-C82)/C82 -> -0.011396011
...

Sheet GRGSS1
A1: TORNAR A L'ÍNDEX | B1: Fet!
A3: LLOCS DE TREBALL. RÈGIM GENERAL SEGURETAT SOCIAL
A5: GRGSS1 | C5: =Índex!A7 -> 4t trimestre 2022
A6: Llocs de treball del RGSS segons àmbit territorial.
A29: Les dades de 2021 provenen d'Idescat, a partir dels fitxers d'afiliacions i comptes de cotització de la Tresoreria General de la Seguretat Social. Dades provisionals.
B31: RGSS | C31: variació 2022-2021 | D31: variació 2022-2020 | E31: variació 2022-2019 | F31: variació 2022-2008
A32: Baix Llobregat | B32: 295745 | C32: 0.042806015 | D32: 0.086239509 | E32: 0.063306931 | F32: 0.24082217
A33: Àrea Metropolitana de Barcelona | B33: 1590135 | C33: 0.039674263 | D33: 0.085905596 | E33: 0.053456734 | F33: 0.15468738
A34: Àmbit Territorial Metropolità | B34: 2057795 | C34: 0.036228819 | D34: 0.082002166 | E34: 0.051500556 | F34: 0.10474427
A35: Catalunya | B35: 2941805 | C35: 0.033955493 | D35: 0.083011206 | E35: 0.054632661 | F35: 0.13627822

Sheet GRGSS2
A1: TORNAR A L'ÍNDEX | B1: Fet!
A3: LLOCS DE TREBALL. RÈGIM GENERAL SEGURETAT SOCIAL.
A5: GRGSS2 | C5: =Índex!A7 -> 4t trimestre 2022
A6: =Índex!B28 -> Variació interanual llocs de treball assalariat. Baix Llobregat.
A29: Les dades de 2021 provenen d'Idescat, a partir dels fitxers d'afiliacions i comptes de cotització de la Tresoreria General de la Seguretat Social. Dades provisionals.
B31: Llocs de treball RGSS | C31: Variació interanual
A32: 2016 | B32: 237205 | C32: =(B32-B40)/B40 -> 0.065654047
A33: 2017 | B33: 250631 | C33: =(B33-B32)/B32 -> 0.056600831
A34: 2018 | B34: 261369 | C34: =(B34-B33)/B33 -> 0.042843862
A35: 2019 | B35: 278137 | C35: =(B35-B34)/B34 -> 0.06415451
A36: 2020 | B36: 272265 | C36: =(B36-B35)/B35 -> -0.021111898
A37: 2021 | B37: 283605 | C37: =(B37-B36)/B36 -> 0.041650598
A38: 2022 | B38: 295745 | C38: =(B38-B37)/B37 -> 0.042806015
A40: 2015 | B40: 222591

Sheet GRGSS3
A1: TORNAR A L'ÍNDEX | B1: Fet!
A3: LLOCS DE TREBALL. RÈGIM GENERAL SEGURETAT SOCIAL
A5: GRGSS3 | C5: =Índex!A7 -> 4t trimestre 2022
A6: Llocs de treball del RGSS per grandària del compte de cotització
A29: Les dades de 2021 provenen d'Idescat, a partir dels fitxers d'afiliacions i comptes de cotització de la Tresoreria General de la Seguretat Social. Dades provisionals.
B31: variació 2022-2021 | C31: variació 2022-2020 | D31: variació 2022-2019 | E31: variació 2022-2008
A32: Fins a 50 treballadors | B32: 0.0067697845 | C32: 0.040933859 | D32: -0.014751266 | E32: -0.033021391
A33: De 51 a 250 treballadors | B33: 0.059299724 | C33: 0.11053612 | D33: 0.10598793 | E33: 0.21038699
A34: 251 i més treballadors | B34: 0.075210292 | C34: 0.1247412 | D34: 0.1353187 | E34: 0.94164251
A35: Total | B35: 0.042806015 | C35: 0.086239509 | D35: 0.063306931 | E35: 0.24082217

Sheet TRGSS1
A1: TORNAR A L'ÍNDEX | C1: Fet!
A3: LLOCS DE TREBALL. RÈGIM GENERAL SEGURETAT SOCIAL.
A5: =Índex!A30 -> TRGSS1 | C5: =Índex!A7 -> 4t trimestre 2022
A6: =Índex!B30 -> Activitats econòmiques més rellevants. Baix Llobregat.
D8: Variació
B9: 2022 | C9: %total | D9: 2021-2022 | E9: 2020-2022 | F9: 2019-2022 | G9: 2008-2022
A10: Total | B10: 295745 | D10: 0.042806015 | E10: 0.086239509 | F10: 0.063306931 | G10: 0.24082217
A11: 46-Comerç a l'engròs i intermediaris del comerç, excepte vehicles de motor i motocicletes | B11: 29125 | C11: 0.09848011 | D11: 0.042039356 | E11: 0.071954361 | F11: 0.068376068 | G11: 0.16686699
A12: 47-Comerç al detall, excepte el comerç de vehicles de motor i motocicletes | B12: 25990 | C12: 0.087879761 | D12: -0.0034509202 | E12: 0.0017344382 | F12: 0.16239546 | G12: 0.31714981
A13: 56-Serveis de menjar i begudes | B13: 17400 | C13: 0.058834469 | D13: 0.030195382 | E13: 0.24241342 | F13: 0.06259542 | G13: 0.36107635
A14: 84-Administració pública, Defensa i Seguretat Social obligatòria | B14: 16580 | C14: 0.05606181 | D14: 0.014377485 | E14: 0.033343721 | F14: 0.076134225 | G14: 0.72618428
A15: 52-Emmagatzematge i activitats afins al transport | B15: 14185 | C15: 0.047963617 | D15: 0.069355447 | E15: 0.14441307 | F15: 0.21384563 | G15: 0.77379017
A16: 85-Educació | B16: 13045 | C16: 0.044108945 | D16: 0.056703119 | E16: 0.10785563 | F16: 0.08455271 | G16: 0.48137633
A17: 43-Activitats especialitzades de la construcció | B17: 12910 | C17: 0.043652471 | D17: 0.018942384 | E17: 0.05603272 | F17: 0.061415769 | G17: -0.16076188
A18: 81-Serveis a edificis i activitats de jardineria | B18: 11385 | C18: 0.038496002 | D18: 0.096820809 | E18: 0.11617647 | F18: 0.10630648 | G18: 0.57056146
A19: 86-Activitats sanitàries | B19: 9935 | C19: 0.033593129 | D19: 0.025283798 | E19: 0.055231014 | F19: 0.082008277 | G19: 0.53034504
A20: 25-Fabricació de productes metàl·lics, excepte maquinària i equips | B20: 7045 | C20: 0.023821197 | D20: 0.016594517 | E20: 0.039852399 | F20: -0.0062067993 | G20: -0.25536413
A23: Les dades de 2022 i 2021 provenen d'Idescat, a partir dels fitxers d'afiliacions i comptes de cotització de la Tresoreria General de la Seguretat Social. Dades provisionals.

Sheet TRGSS2
A1: TORNAR A L'ÍNDEX | B1: Fet!
A3: =TRGSS1!A3 -> LLOCS DE TREBALL. RÈGIM GENERAL SEGURETAT SOCIAL.
A5: =Índex!A31 -> TRGSS2 | C5: =Índex!A7 -> 4t trimestre 2022
A6: =Índex!B31 -> Dinamisme llocs de treball.
A7: ACTIVITATS QUE MÉS HAN AUGMENTAT L'AFILIACIÓ | B7: n | C7: Variació anual
C8: n | D8: %
A9: 46- Comerç a l'engròs i intermediaris del comerç, excepte vehicles de motor i motocicletes | B9: 29125 | C9: 1175 | D9: 0.042039356
A10: 81- Serveis a edificis i activitats de jardineria | B10: 11385 | C10: 1005 | D10: 0.096820809
A11: 52- Emmagatzematge i activitats afins al transport | B11: 14185 | C11: 920 | D11: 0.069355447
A12: 80- Activitats de seguretat i investigació | B12: 6230 | C12: 800 | D12: 0.14732965
A13: 85- Educació | B13: 13045 | C13: 700 | D13: 0.056703119
A14: 62- Serveis de tecnologies de la informació | B14: 5270 | C14: 650 | D14: 0.14069264
A15: 51- Transport aeri | B15: 6725 | C15: 645 | D15: 0.10608553
A16: 87- Activitats de serveis socials amb allotjament | B16: 4535 | C16: 575 | D16: 0.14520202
A17: 88- Activitats de serveis socials sense allotjament | B17: 6135 | C17: 570 | D17: 0.10242588
A18: 41- Construcció d'immobles | B18: 4875 | C18: 510 | D18: 0.11683849
A19: ACTIVITATS QUE MÉS HAN DISMINUÏT L'AFILIACIÓ | B19: n | C19: Variació anual
C20: n | D20: %
A21: 20- Indústries químiques | B21: 4365 | C21: -150 | D21: -0.033222591
A22: 29- Fabricació de vehicles de motor, remolcs i semiremolcs | B22: 4415 | C22: -120 | D22: -0.02646086
A23: 96- Altres activitats de serveis personals | B23: 2605 | C23: -110 | D23: -0.040515654
A24: 47- Comerç al detall, excepte el comerç de vehicles de motor i motocicletes | B24: 25990 | C24: -90 | D24: -0.0034509202
A25: 53- Activitats postals i de correus | B25: 1215 | C25: -60 | D25: -0.047058824
A26: 13- Indústries tèxtils | B26: 755 | C26: -55 | D26: -0.067901235
A27: 22- Fabricació de productes de cautxú i matèries plàstiques | B27: 2610 | C27: -40 | D27: -0.01509434
A28: 42- Construcció d'obres d'enginyeria civil | B28: 1380 | C28: -20 | D28: -0.014285714
A29: 68- Activitats immobiliàries | B29: 2390 | C29: -20 | D29: -0.0082987552
A32: Les dades de 2022 i 2021 provenen d'Idescat, a partir dels fitxers d'afiliacions i comptes de cotització de la Tresoreria General de la Seguretat Social. Dades provisionals.

Sheet DIN_RGSS
G1: 0.003 | M1: variació | Q1: quan ordenis, millor copiïs les cel·les calculades abans
B3: 2022 | C3: 20.22 | D3: 2021 | H3: 2022 | I3: 20.22 | J3: 2021 | N3: 2022 | O3: 20.22 | P3: 2021 | Q3: var absoluta | R3: var relativa
A4: 1- Agricultura, ramaderia, caça i activitats dels serveis que s'hi relacionen | B4: 100 | C4: =B4/$B$92 -> 0.00035244154 | D4: 95 | G4: 10- Indústries de productes alimentaris | H4: 5795 | I4: 0.020423987 | J4: 5785 | M4: 88- Activitats de serveis socials sense allotjament | N4: 2675 | O4: 0.0094278112 | P4: 3115 | Q4: -440 | R4: -0.14125201
A5: 2- Silvicultura i explotació forestal | B5: 60 | C5: =B5/$B$92 -> 0.00021146492 | D5: 70 | G5: 11- Fabricació de begudes | H5: 1495 | I5: 0.005269001 | J5: 1405 | M5: 29- Fabricació de vehicles de motor, remolcs i semiremolcs | N5: 4435 | O5: 0.015630782 | P5: 4745 | Q5: -310 | R5: -0.065331928
A6: 3- Pesca i aqüicultura | B6: 0 | C6: =B6/$B$92 -> 0 | D6: 5 | G6: 17- Indústries del paper | H6: 1015 | I6: 0.0035772816 | J6: 930 | M6: 20- Indústries químiques | N6: 4660 | O6: 0.016423776 | P6: 4920 | Q6: -260 | R6: -0.052845528
A7: 5- Extracció d'antracita, hulla i lignit | B7: 0 | C7: =B7/$B$92 -> 0 | D7: 0 | G7: 18- Arts gràfiques i reproducció de suports enregistrats | H7: 3340 | I7: 0.011771547 | J7: 3180 | M7: 47- Comerç al detall, excepte el comerç de vehicles de motor i motocicletes | N7: 25895 | O7: 0.091264736 | P7: 26110 | Q7: -215 | R7: -0.008234393
A8: 6- Extracció de petroli brut i de gas natural | B8: 0 | C8: =B8/$B$92 -> 0 | D8: 0 | G8: 20- Indústries químiques | H8: 4660 | I8: 0.016423776 | J8: 4920 | M8: 53- Activitats postals i de correus | N8: 1185 | O8: 0.0041764322 | P8: 1360 | Q8: -175 | R8: -0.12867647
A9: 7- Extracció de minerals metàl·lics | B9: 0 | C9: =B9/$B$92 -> 0 | D9: 0 | G9: 21- Fabricació de productes farmacèutics | H9: 3240 | I9: 0.011419106 | J9: 3195 | M9: 68- Activitats immobiliàries | N9: 2395 | O9: 0.0084409749 | P9: 2470 | Q9: -75 | R9: -0.030364372
A10: 8- Extracció de minerals no metàl·lics ni energètics | B10: 140 | C10: =B10/$B$92 -> 0.00049341815 | D10: 130 | G10: 22- Fabricació de productes de cautxú i matèries plàstiques | H10: 2680 | I10: 0.0094454332 | J10: 2635 | M10: 45- Venda i reparació de vehicles de motor i motocicletes | N10: 4860 | O10: 0.017128659 | P10: 4900 | Q10: -40 | R10: -0.0081632653
A11: 9- Activitats de suport a les indústries extractives | B11: 0 | C11: =B11/$B$92 -> 0 | D11: 0 | G11: 23- Fabricació d'altres productes minerals no metàl·lics | H11: 1075 | I11: 0.0037887465 | J11: 995 | M11: 10- Indústries de productes alimentaris | N11: 5795 | O11: 0.020423987 | P11: 5785 | Q11: 10 | R11: 0.0017286085
A12: 10- Indústries de productes alimentaris | B12: 5795 | C12: =B12/$B$92 -> 0.020423987 | D12: 5785 | G12: 25- Fabricació de productes metàl·lics, excepte maquinària i equips | H12: 7145 | I12: 0.025181948 | J12: 7075 | M12: 21- Fabricació de productes farmacèutics | N12: 3240 | O12: 0.011419106 | P12: 3195 | Q12: 45 | R12: 0.014084507
A13: 11- Fabricació de begudes | B13: 1495 | C13: =B13/$B$92 -> 0.005269001 | D13: 1405 | G13: 26- Fabricació de productes informàtics, electrònics i òptics | H13: 950 | I13: 0.0033481946 | J13: 865 | M13: 22- Fabricació de productes de cautxú i matèries plàstiques | N13: 2680 | O13: 0.0094454332 | P13: 2635 | Q13: 45 | R13: 0.017077799
A14: 12- Indústries del tabac | B14: 0 | C14: =B14/$B$92 -> 0 | D14: 0 | G14: 27- Fabricació de materials i equips elèctrics | H14: 2630 | I14: 0.0092692125 | J14: 2260 | M14: 42- Construcció d'obres d'enginyeria civil | N14: 1425 | O14: 0.0050222919 | P14: 1380 | Q14: 45 | R14: 0.032608696
A15: 13- Indústries tèxtils | B15: 800 | C15: =B15/$B$92 -> 0.0028195323 | D15: 865 | G15: 28- Fabricació de maquinària i equips ncaa | H15: 3480 | I15: 0.012264966 | J15: 3360 | M15: 64- Mediació financera, excepte assegurances i fons de pensions | N15: 1550 | O15: 0.0054628439 | P15: 1495 | Q15: 55 | R15: 0.036789298
... A55: 59- Activitats de cinematografia, de vídeo i de programes de televisió; activitats d'enregistrament de so i edició musical | B55: 870 | C55: =B55/$B$92 -> 0.0030662414 | D55: 795 | G55: Total | H55: 283735 | I55: 1 | J55: 271720 | M55: Total | N55: 283735 | O55: 1 | P55: 271720 | Q55: 12015 | R55: 0.044218313
A56: 60- Activitats d'emissió i programació de ràdio i televisió | B56: 2340 | C56: =B56/$B$92 -> 0.008247132 | D56: 2250
A57: 61- Telecomunicacions | B57: 305 | C57: =B57/$B$92 -> 0.0010749467 | D57: 290
A58: 62- Serveis de tecnologies de la informació | B58: 5010 | C58: =B58/$B$92 -> 0.017657321 | D58: 4405
A59: 63- Serveis d'informació | B59: 425 | C59: =B59/$B$92 -> 0.0014978765 | D59: 690
A60: 64- Mediació financera, excepte assegurances i fons de pensions | B60: 1550 | C60: =B60/$B$92 -> 0.0054628439 | D60: 1495
A61: 65- Assegurances, reassegurances i fons de pensions, excepte la Seguretat Social obligatòria | B61: 475 | C61: =B61/$B$92 -> 0.0016740973 | D61: 505
A62: 66- Activitats auxiliars de la mediació financera i d'assegurances | B62: 525 | C62: =B62/$B$92 -> 0.0018503181 | D62: 540
A63: 68- Activitats immobiliàries | B63: 2395 | C63: =B63/$B$92 -> 0.0084409749 | D63: 2470
A64: 69- Activitats jurídiques i de comptabilitat | B64: 4410 | C64: =B64/$B$92 -> 0.015542672 | D64: 4245
A65: 70- Activitats de les seus centrals; activitats de consultoria de gestió empresarial | B65: 1265 | C65: =B65/$B$92 -> 0.0044583855 | D65: 1140
A66: 71- Serveis tècnics d'arquitectura i enginyeria; assajos i anàlisis tècnics | B66: 5875 | C66: =B66/$B$92 -> 0.02070594 | D66: 5590
A67: 72- Recerca i desenvolupament | B67: 1250 | C67: =B67/$B$92 -> 0.0044055192 | D67: 1110
... A92: Total | B92: 283735 | C92: =B92/$B$92 -> 1 | D92: 271720

Sheet TRGSS3
A1: TORNAR A L'ÍNDEX | B1: Fet!
A3: =TRGSS1!A3 -> LLOCS DE TREBALL. RÈGIM GENERAL SEGURETAT SOCIAL.
A5: =Índex!A32 -> TRGSS3 | C5: =Índex!A7 -> 4t trimestre 2022
A6: =Índex!B21 -> Dades municipals.
B8: Llocs de treball (RGSS) | C8: % Baix Llobregat | D8: variació relativa (en %)
B9: Empreses | D9: 2021 | E9: 2020 | F9: 2019 | G9: 2008
A10: Abrera | B10: 6495 | C10: 0.021812723 | D10: -0.0023041475 | E10: -0.015909091 | F10: -0.092623638 | G10: 0.066152331
A11: Begues | B11: 610 | C11: 0.002048616 | D11: 0.0082644628 | E11: -0.0081300813 | F11: -0.046875 | G11: 0.051724138
A12: Castelldefels | B12: 12255 | C12: 0.041157031 | D12: 0.041206457 | E12: 0.11358473 | F12: 0.04005771 | G12: 0.24859908
A13: Castellví de Rosanes | B13: 1080 | C13: 0.0036270579 | D13: 0.13089005 | E13: 0.20670391 | F13: 0.065088757 | G13: 0.41546527
A14: Cervelló | B14: 2235 | C14: 0.0075059947 | D14: 0.032332564 | E14: 0.051764706 | F14: 0.0049460432 | G14: 0.29715612
A15: Collbató | B15: 470 | C15: 0.0015784418 | D15: 0.02173913 | E15: 0.068181818 | F15: 0.02173913 | G15: -0.071146245
A16: Corbera de Llobregat | B16: 1265 | C16: 0.0042483594 | D16: -0.062962963 | E16: -0.041666667 | F16: -0.099002849 | G16: -0.025423729
A17: Cornellà de Llobregat | B17: 41960 | C17: 0.14091791 | D17: 0.038228381 | E17: 0.12917115 | F17: 0.13938143 | G17: 0.42469102
A18: El Papiol | B18: 1910 | C18: 0.006414519 | D18: 0.010582011 | E18: 0.082152975 | F18: 0.082152975 | G18: -0.0591133
A19: El Prat de Llobregat | B19: 53790 | C19: 0.18064763 | D19: 0.062938445 | E19: 0.097979179 | F19: 0.064768993 | G19: 0.63301861
A20: Esparreguera | B20: 5355 | C20: 0.017984162 | D20: 0.18736142 | E20: 0.18604651 | F20: 0.14938828 | G20: 0.063977747
A21: Esplugues de Llobregat | B21: 19225 | C21: 0.064564988 | D21: -0.010805248 | E21: 0.078541374 | F21: 0.063564948 | G21: 0.14271279
... A40: BAIX LLOBREGAT | B40: 297762 | C40: 1 | D40: 0.042525629 | E40: 0.085553874 | F40: 0.062843559 | G40: 0.2388477
A42: Les dades de 2021 provenen d'Idescat, a partir dels fitxers d'afiliacions i comptes de cotització de la Tresoreria General de la Seguretat Social. Dades provisionals.
A46: Zona | B46: 2022 2T | C46: 2021 2T | D46: 2020 2T | E46: 20219 2T | F46: 2008 2T | G46: 2008-2022 | H46: 2019-2022 | I46: 2020-2022 | J46: 2021-2022 | K46: Zona Centre: Cornellà de Llobregat, Esplugues de Llobregat, Sant Joan Despí, Sant Feliu de Llobregat i Sant Just Desvern.
A47: Centre | B47: 100805 | C47: 97150 | D47: 90475 | E47: 91197 | F47: 81894 | G47: 0.23092046 | H47: 0.10535434 | I47: 0.11417519 | J47: 0.037622234 | K47: Zona Delta: Begues, Castelldefels, El Prat de Llobregat, Gavà, Sant Boi de Llobregat, Sant Climent de Llobregat i Viladecans.
A48: Delta | B48: 116130 | C48: 109995 | D48: 103623 | E48: 106196 | F48: 94310 | G48: 0.23136465 | H48: 0.093544013 | I48: 0.12069714 | J48: 0.055775263 | K48: Zona Nord: Abrera, Castellví de Rosanes, Collbató, Esparreguera, Martorell, Olesa de Montserrat, Sant Andreu de la Barca i Sant Esteve Sesrovires.
A49: Nord | B49: 40990 | C49: 39210 | D49: 38073 | E49: 39386 | F49: 42711 | G49: -0.040294069 | H49: 0.040725131 | I49: 0.076615975 | J49: 0.045396583 | K49: Zona Vall Baixa: Cervelló, Corbera de Llobregat, El Papiol, La Palma de Cervelló, Molins de Rei, Pallejà, Sant Vicenç dels Horts, Santa Coloma de Cervelló, Torrelles de Llobregat i Vallirana.
A50: Vall Baixa | B50: 25810 | C50: 25365 | D50: 24319 | E50: 25085 | F50: 28597 | G50: -0.097457775 | H50: 0.028901734 | I50: 0.061310087 | J50: 0.01754386
A51: Total | B51: 283735 | C51: 271720 | D51: 256490 | E51: 261864 | F51: 247512 | G51: 0.14634846 | H51: 0.083520453 | I51: 0.10622246 | J51: 0.044218313

Sheet TRGSS4
A1: TORNAR A L'ÍNDEX | B1: Fet!
A3: =TRGSS1!A3 -> LLOCS DE TREBALL. RÈGIM GENERAL SEGURETAT SOCIAL.
A5: =Índex!A33 -> TRGSS4 | C5: =Índex!A7 -> 4t trimestre 2022
A6: =Índex!B33 -> Dades municipals. Llocs de treball assalariat per grandària del compte de cotització.
B8: Fins a 50 treballadors | C8: De 51 a 250 treballadors | D8: 251 i més treballadors | E8: % Baix Llobregat | H8: variació anual relativa (en %)
C9: De 51 a 250 treballadors | E9: Fins a 50 treballadors | F9: De 51 a 250 treballadors | G9: 251 i més treballadors | H9: Fins a 50 treballadors | I9: De 51 a 250 treballadors | J9: 251 i més treballadors
A10: Abrera | B10: 2990 | C10: 2595 | D10: 915 | E10: 0.025450057 | F10: 0.032246039 | G10: 0.0093572634 | H10: 0.029259897 | I10: -0.042435424 | J10: 0.028089888
A11: Begues | B11: 615 | C11: 0 | D11: 0 | E11: 0.0052347108 | F11: 0 | G11: 0 | H11: 0.016528926 | I11: - | J11: -
A12: Castelldefels | B12: 8575 | C12: 2695 | D12: 990 | E12: 0.072988041 | F12: 0.033488661 | G12: 0.010124252 | H12: 0.017200474 | I12: 0.24768519 | J12: -0.16101695
A13: Castellví de Rosanes | B13: 570 | C13: 120 | D13: 390 | E13: 0.0048516832 | F13: 0.0014911463 | G13: 0.0039883418 | H13: 0.096153846 | I13: 0.090909091 | J13: 0.2
A14: Cervelló | B14: 1350 | C14: 885 | D14: 0 | E14: 0.011490829 | F14: 0.010997204 | G14: 0 | H14: 0.018867925 | I14: 0.053571429 | J14: -
A15: Collbató | B15: 470 | C15: 0 | D15: 0 | E15: 0.0040005107 | F15: 0 | G15: 0 | H15: 0.02173913 | I15: - | J15: -
A16: Corbera de Llobregat | B16: 980 | C16: 285 | D16: 0 | E16: 0.0083414904 | F16: 0.0035414725 | G16: 0 | H16: -0.024875622 | I16: -0.17391304 | J16: -
A17: Cornellà de Llobregat | B17: 14075 | C17: 10445 | D17: 17440 | E17: 0.11980253 | F17: 0.12979186 | G17: 0.17835046 | H17: -0.0063536887 | I17: 0.10822281 | J17: 0.036552749
A18: Esparreguera | B18: 3105 | C18: 1670 | D18: 580 | E18: 0.026428906 | F18: 0.020751786 | G18: 0.0059313801 | H18: 0.050761421 | I18: 0.28461538 | J18: 1.2745098
A19: Esplugues de Llobregat | B19: 5940 | C19: 6230 | D19: 7060 | E19: 0.050559646 | F19: 0.077415346 | G19: 0.072199213 | H19: -0.034146341 | I19: 0.10657194 | J19: -0.077726976
A20: Gavà | B20: 6800 | C20: 4905 | D20: 1135 | E20: 0.057879729 | F20: 0.060950606 | G20: 0.011607097 | H20: 0 | I20: 0 | J20: 0.31976744
A21: Martorell | B21: 4130 | C21: 2660 | D21: 3410 | E21: 0.035153424 | F21: 0.033053743 | G21: 0.034872424 | H21: 0.04556962 | I21: 0.064 | J21: 0.047619048
A22: Molins de Rei | B22: 4900 | C22: 2085 | D22: 0 | E22: 0.041707452 | F22: 0.025908667 | G22: 0 | H22: -0.018036072 | I22: 0.071979434 | J22: -
A23: Olesa de Montserrat | B23: 2280 | C23: 1560 | D23: 0 | E23: 0.019406733 | F23: 0.019384902 | G23: 0 | H23: -0.012987013 | I23: 0.094736842 | J23: -
A24: Pallejà | B24: 1775 | C24: 840 | D24: 0 | E24: 0.015108312 | F24: 0.010438024 | G24: 0 | H24: 0.011396011 | I24: 0.18309859 | J24: -
A25: Palma de Cervelló, la | B25: 515 | C25: 0 | D25: 0 | E25: 0.0043835383 | F25: 0 | G25: 0 | H25: -0.019047619 | I25: -1 | J25: -
A26: Papiol, el | B26: 1205 | C26: 440 | D26: 270 | E26: 0.010256629 | F26: 0.0054675365 | G26: 0.0027611597 | H26: 0.061674009 | I26: -0.41721854 | J26: -
A27: Prat de Llobregat, el | B27: 10590 | C27: 10535 | D27: 32665 | E27: 0.090139167 | F27: 0.13091022 | G27: 0.33404919 | H27: 0.027656477 | I27: 0.017382907 | J27: 0.090651085
A28: Sant Andreu de la Barca | B28: 4505 | C28: 2280 | D28: 4490 | E28: 0.038345321 | F28: 0.02833178 | G28: 0.045917063 | H28: -0.028047465 | I28: 0.12871287 | J28: 0.11970075
A29: Sant Boi de Llobregat | B29: 10440 | C29: 7865 | D29: 5730 | E29: 0.088862408 | F29: 0.097732215 | G29: 0.058597944 | H29: -0.0080760095 | I29: 0.18627451 | J29: 0.035230352
A30: Sant Climent de Llobregat | B30: 455 | C30: 70 | D30: 0 | E30: 0.0038728348 | F30: 0.00086983535 | G30: 0 | H30: 0.011111111 | I30: 0 | J30: -
A31: Sant Esteve Sesrovires | B31: 1930 | C31: 1985 | D31: 1325 | E31: 0.016427629 | F31: 0.024666045 | G31: 0.013550136 | H31: 0.048913043 | I31: -0.019753086 | J31: 0.0076045627
A32: Sant Feliu de Llobregat | B32: 5660 | C32: 3740 | D32: 6290 | E32: 0.048176363 | F32: 0.04647406 | G32: 0.064324794 | H32: 0.026291931 | I32: 0.047619048 | J32: 0.016155089
A33: Sant Joan Despí | B33: 5080 | C33: 3735 | D33: 4745 | E33: 0.043239562 | F33: 0.046411929 | G33: 0.048524825 | H33: 0.0089374379 | I33: 0.13353566 | J33: 0.025945946
A34: Sant Just Desvern | B34: 5230 | C34: 4710 | D34: 4435 | E34: 0.044516321 | F34: 0.058527493 | G34: 0.045354604 | H34: 0.064089522 | I34: 0.029508197 | J34: 0.15194805
A35: Sant Vicenç dels Horts | B35: 2985 | C35: 3115 | D35: 310 | E35: 0.025407499 | F35: 0.038707673 | G35: 0.0031702204 | H35: -0.058359621 | I35: 0.10854093 | J35: -0.015873016
A36: Santa Coloma de Cervelló | B36: 885 | C36: 780 | D36: 320 | E36: 0.0075328765 | F36: 0.0096924511 | G36: 0.0032724856 | H36: -0.038043478 | I36: 0.1641791 | J36: 0.10344828
A37: Torrelles de Llobregat | B37: 530 | C37: 60 | D37: 0 | E37: 0.0045112142 | F37: 0.00074557316 | G37: 0 | H37: -0.036363636 | I37: - | J37: -
A38: Vallirana | B38: 1655 | C38: 145 | D38: 0 | E38: 0.014086905 | F38: 0.0018018018 | G38: 0 | H38: 0.088815789 | I38: -0.35555556 | J38: -
A39: Viladecans | B39: 7295 | C39: 4045 | D39: 5290 | E39: 0.062093033 | F39: 0.050264057 | G39: 0.054098277 | H39: -0.0040955631 | I39: -0.16940452 | J39: 0.46740638
A40: BAIX LLOBREGAT | B40: 117485 | C40: 80475 | D40: 97785 | E40: 1 | F40: 1 | G40: 1 | H40: 0.0067697845 | I40: 0.059299724 | J40: 0.075210292
A42: Les dades de 2021 provenen d'Idescat, a partir dels fitxers d'afiliacions i comptes de cotització de la Tresoreria General de la Seguretat Social. Dades provisionals.

Sheet TRGS5
A1: TORNAR A L'ÍNDEX | B1: Fet!
A3: =TRGSS1!A3 -> LLOCS DE TREBALL. RÈGIM GENERAL SEGURETAT SOCIAL.
A5: =Índex!A34 -> TRGSS5 | C5: =Índex!A7 -> 4t trimestre 2022
A6: =Índex!B34 -> Dades municipals. Relació entre població ocupada i llocs de treball.
B9: P. Règim General resident al municipi | C9: P. Règim General treballant al municipi | D9: Diferència residents-treballant (abs) | E9: Diferència residents-treballant (%)
A11: Abrera | B11: 5837 | C11: 6495 | D11: =+B11-C11 -> -658 | E11: =+D11/B11 -> -0.11272914
A12: Begues | B12: 3495 | C12: 610 | D12: =+B12-C12 -> 2885 | E12: =+D12/B12 -> 0.82546495
A13: Castelldefels | B13: 29624 | C13: 12255 | D13: =+B13-C13 -> 17369 | E13: =+D13/B13 -> 0.58631515
A14: Castellví de Rosanes | B14: 971 | C14: 1080 | D14: =+B14-C14 -> -109 | E14: =+D14/B14 -> -0.11225541
A15: Cervelló | B15: 4408 | C15: 2235 | D15: =+B15-C15 -> 2173 | E15: =+D15/B15 -> 0.49296733
A16: Collbató | B16: 2286 | C16: 470 | D16: =+B16-C16 -> 1816 | E16: =+D16/B16 -> 0.7944007
A17: Corbera de Llobregat | B17: 7192 | C17: 1265 | D17: =+B17-C17 -> 5927 | E17: =+D17/B17 -> 0.82411012
A18: Cornellà de Llobregat | B18: 38372 | C18: 41960 | D18: =+B18-C18 -> -3588 | E18: =+D18/B18 -> -0.093505681
A19: El Papiol | B19: 2071 | C19: 1910 | D19: =+B19-C19 -> 161 | E19: =+D19/B19 -> 0.077740222
A20: El Prat de Llobregat | B20: 28306 | C20: 53790 | D20: =+B20-C20 -> -25484 | E20: =+D20/B20 -> -0.90030382
A21: Esparreguera | B21: 9865 | C21: 5355 | D21: =+B21-C21 -> 4510 | E21: =+D21/B21 -> 0.45717182
A22: Esplugues de Llobregat | B22: 19286 | C22: 19225 | D22: =+B22-C22 -> 61 | E22: =+D22/B22 -> 0.0031629161
... A41: BAIX LLOBREGAT | B41: 369391 | C41: 295745 | D41: =+B41-C41 -> 73646 | E41: =+D41/B41 -> 0.1993714
A42: Font: OCBL a partir de dades d'IDESCAT, afiliacions segons residència padronal i compte de cotització. Les dades corresponen al quart trimestre.

Sheet TRGSS6
A1: TORNAR A L'ÍNDEX | B1: Fet!
A3: =TRGSS1!A3 -> LLOCS DE TREBALL. RÈGIM GENERAL SEGURETAT SOCIAL.
A5: =Índex!A35 -> TRGSS6 | C5: =Índex!A7 -> 4t trimestre 2022
A6: =Índex!B35 -> Dades municipals. Llocs de treball assalariat ocupats per dones.
B8: Llocs de treball ocupats per dones | C8: % total llocs de treball
C9: De 51 a 250 treballadors
A10: Abrera | B10: 1824 | C10: 0.2777524
A11: Begues | B11: 341 | C11: 0.46712329
A12: Castelldefels | B12: 6103 | C12: 0.49437019
A13: Castellví de Rosanes | B13: 401 | C13: 0.35964126
A14: Cervelló | B14: 1071 | C14: 0.45808383
A15: Collbató | B15: 255 | C15: 0.46703297
A16: Corbera de Llobregat | B16: 738 | C16: 0.53672727
A17: Cornellà de Llobregat | B17: 17292 | C17: 0.4117535
A18: Esparreguera | B18: 2475 | C18: 0.45421178
A19: Esplugues de Llobregat | B19: 10302 | C19: 0.53400373
A20: Gavà | B20: 5527 | C20: 0.4283168
A21: Martorell | B21: 4160 | C21: 0.404276
... A40: BAIX LLOBREGAT | B40: 135943 | C40: 0.45625959
A42: Les dades de 2021 provenen d'Idescat, a partir dels fitxers d'afiliacions i comptes de cotització de la Tresoreria General de la Seguretat Social. Dades provisionals.
D48: 287516
D49: =D48-B40 -> 151573

Sheet GRETA1
A1: TORNAR A L'ÍNDEX | B1: Fet!
A3: LLOCS DE TREBALL. RÈGIM ESPECIAL TREBALLADORS AUTÒNOMS
A5: GRETA1 | C5: =Índex!A7 -> 4t trimestre 2022
A6: Llocs de treball del RETA segons àmbit territorial.
A29: Les dades de 2021 provenen d'Idescat, a partir dels fitxers d'afiliacions i comptes de cotització de la Tresoreria General de la Seguretat Social. Dades provisionals.
B31: RETA | C31: variació 2022-2021 | D31: variació 2022-2020 | E31: variació 2022-2019 | F31: variació 2022-2008
A32: Baix Llobregat | B32: 48810 | C32: -0.0075233835 | D32: 0.0065992988 | E32: -0.032219689 | F32: -0.094198864
A33: Àrea Metropolitana de Barcelona | B33: 236050 | C33: -0.00050810857 | D33: 0.017347269 | E33: 0.052760681 | F33: 0.052000606
A34: Àmbit Territorial Metropolità | B34: 346370 | C34: -0.0017724109 | D34: 0.016209714 | E34: 0.029934315 | F34: -0.040457207
A35: Catalunya | B35: 557535 | C35: -0.0020048151 | D35: 0.015537199 | E35: 0.014048464 | F35: -0.032940405

Sheet GRETA2
A1: TORNAR A L'ÍNDEX | B1: Fet!
A3: LLOCS DE TREBALL. RÈGIM ESPECIAL TREBALLADORS AUTÒNOMS
A5: =Índex!A40 -> GRETA2 | C5: =Índex!A7 -> 4t trimestre 2022
A6: =Índex!B40 -> Variació interanual llocs de treball autònom. Baix Llobregat.
A29: Les dades de 2022 i 2021 provenen d'Idescat, a partir dels fitxers d'afiliacions i comptes de cotització de la Tresoreria General de la Seguretat Social. Dades provisionals.
B31: Llocs de treball RETA | C31: Variació interanual
A32: 2016 | B32: 50535 | C32: =(B32-B40)/B40 -> 0.0016054228
A33: 2017 | B33: 50171 | C33: =(B33-B32)/B32 -> -0.0072029287
A34: 2018 | B34: 50534 | C34: =(B34-B33)/B33 -> 0.0072352554
A35: 2019 | B35: 50435 | C35: =(B35-B34)/B34 -> -0.0019590771
A36: 2020 | B36: 48490 | C36: =(B36-B35)/B35 -> -0.038564489
